{"text_format":"1","workbook":"xlsx","n_sheets":5,"sheets":["2019","2020","2021","2022","2023"],"not_rendered":{"charts":0,"images":1,"macros":0,"external_links":0,"defined_names":5,"comments":0,"pivot_tables":0},"unopened":[],"bounds":{"document_bytes":16777216,"sheet_cells":100000,"rows_first":2000,"rows_last":500,"rows_between":2000,"halvings":0,"cell_chars":16384,"cell_head_chars":4096},"cells_cut":0,"cells_raw":0,"read":"whole","date_system":"1900"}

{"sheet":"2019","index":0,"n_rows":27,"n_cols":25,"rows_kept":27,"cut":false,"hidden":false,"merged":[[4,17,4,18],[4,5,4,10],[4,11,4,16],[4,0,4,4],[0,0,1,2]]}
[null,null,null,"CEForestier"]
[null,null,null,"Modifications de stocks (inventaires début et fin)",null,null,null,null,null,null,null,"Bois départ forêt",null,null,null,null,null,null,null,null,null,null,null,"G F/P","Facteur conversion"]
[]
[null,null,null,null,null,null,null,null,null,null,null,null,null,null,null,null,null,null,null,null,null,null,null,200]
["Codification",null,null,null,null,"Inventaire début",null,null,null,null,null,"Inventaire fin",null,null,null,null,null,"Modif. de stock",null,null,null,null,null,201,0.75]
["EDEX","CP","Assortiment"," GP (Ass.)","GrpP","Date","Quantité","Un.","Quant.     (m3)","Prix","Valeur","Date","Quantité","Un.","Quant.     (m3)","Prix","Valeur","Quant.","Valeur",null,null,null,null,202,0.75]
[null,null,null,null,{"$f":"IF(D7>0,330,\"\")","v":""},null,null,null,{"$f":"IF(G7=\"\",\"\",IF(H7=\"m3\",G7,G7*VLOOKUP(D7,$X$4:$Y$15,2,FALSE)))","v":""},null,{"$f":"IF(I7=\"\",\"\",I7*J7)","v":""},null,null,null,{"$f":"IF(M7=\"\",\"\",IF(N7=\"m3\",M7,M7*VLOOKUP(J7,$X$4:$Y$15,2,FALSE)))","v":""},null,{"$f":"IF(O7=\"\",\"\",O7*P7)","v":""},{"$f":"IF(AND(I7=\"\",O7=\"\"),\"\",IF(M7=\"\",\"\",O7-I7))","v":""},{"$f":"IF(AND(K7=\"\",Q7=\"\"),\"\",IF(Q7=\"\",\"\",Q7-K7))","v":""},{"$f":"IF(AND(J7<>\"\",P7=\"\"),0,IF(J7=P7,0,1))","v":0},null,null,null,203,0.75]
[null,null,null,null,{"$f":"IF(D8>0,330,\"\")","v":""},null,null,null,"",null,{"$f":"IF(I8=\"\",\"\",I8*J8)","v":""},null,null,null,"",null,{"$f":"IF(O8=\"\",\"\",O8*P8)","v":""},{"$f":"IF(AND(I8=\"\",O8=\"\"),\"\",IF(M8=\"\",\"\",O8-I8))","v":""},{"$f":"IF(AND(K8=\"\",Q8=\"\"),\"\",IF(Q8=\"\",\"\",Q8-K8))","v":""},{"$f":"IF(AND(J8<>\"\",P8=\"\"),0,IF(J8=P8,0,1))","v":0},null,null,null,204]
[null,null,null,null,"",null,null,null,"",null,"",null,null,null,"",null,"","","",{"$f":"IF(AND(J9<>\"\",P9=\"\"),0,IF(J9=P9,0,1))","v":0},null,null,null,205]
[null,null,null,null,"",null,null,null,"",null,"",null,null,null,"",null,"","","",0,null,null,null,206,0.75]
[null,null,null,null,"",null,null,null,"",null,"",null,null,null,"",null,"","","",0,null,null,null,207,0.75]
[null,null,null,null,"",null,null,null,"",null,"",null,null,null,"",null,"","","",0,null,null,null,208,0.75]
[null,null,null,null,"",null,null,null,"",null,"",null,null,null,"",null,"","","",0,null,null,null,209]
[null,null,null,null,"",null,null,null,"",null,"",null,null,null,"",null,"","","",0,null,null,null,210,0.75]
[null,null,null,null,"",null,null,null,"",null,"",null,null,null,"",null,"","","",0,null,null,null,211]
[null,null,null,null,"",null,null,null,"",null,"",null,null,null,"",null,"","","",0]
[null,null,null,null,"",null,null,null,"",null,"",null,null,null,"",null,"","","",0]
[null,null,null,null,"",null,null,null,"",null,"",null,null,null,"",null,"","","",0]
[null,null,null,null,"",null,null,null,"",null,"",null,null,null,"",null,"","","",0]
[null,null,null,null,"",null,null,null,"",null,"",null,null,null,"",null,"","","",0]
[null,null,null,null,"",null,null,null,"",null,"",null,null,null,"",null,"","","",0]
[null,null,null,null,"",null,null,null,"",null,"",null,null,null,"",null,"","","",0]
[null,null,null,null,"",null,null,null,"",null,"",null,null,null,"",null,"","","",0]
[null,null,null,null,"",null,null,null,"",null,"",null,null,null,"",null,"","","",0]
[null,null,null,null,"",null,null,null,"",null,"",null,null,null,"",null,"","","",0]
[null,null,null,null,"",null,null,null,"",null,"",null,null,null,"",null,"","","",0]
["Total",null,null,null,null,null,null,null,{"$f":"IF(SUM(I7:I26)=0,\"\",SUM(I7:I26))","v":""},null,{"$f":"IF(SUM(K7:K26)=0,\"\",SUM(K7:K26))","v":""},null,null,null,{"$f":"IF(SUM(O7:O26)=0,\"\",SUM(O7:O26))","v":""},null,{"$f":"IF(SUM(Q7:Q26)=0,\"\",SUM(Q7:Q26))","v":""},{"$f":"IF(SUM(R7:R26)=0,\"\",SUM(R7:R26))","v":""},{"$f":"IF(SUM(S7:S26)=0,\"\",SUM(S7:S26))","v":""},{"$f":"SUM(T7:T26)","v":0}]

{"sheet":"2020","index":1,"n_rows":27,"n_cols":25,"rows_kept":27,"cut":false,"hidden":false,"merged":[[0,0,1,2],[4,17,4,18],[4,5,4,10],[4,11,4,16],[4,0,4,4]]}
[null,null,null,"CEForestier"]
[null,null,null,"Modifications de stocks (inventaires début et fin)",null,null,null,null,null,null,null,"Bois départ forêt",null,null,null,null,null,null,null,null,null,null,null,"EA","Umrechnungsfaktor"]
[]
[null,null,null,null,null,null,null,null,null,null,null,null,null,null,null,null,null,null,null,null,null,null,null,200]
["Codification",null,null,null,null,"Inventaire début",null,null,null,null,null,"Inventaire fin",null,null,null,null,null,"Modif. de stock",null,null,null,null,null,201,0.75]
["EDEX","CP","Assortiment"," GP (Ass.)","GrpP","Date","Quantité","Un.","Quant.     (m3)","Prix","Valeur","Date","Quantité","Un.","Quant.     (m3)","Prix","Valeur","Quant.","Valeur",null,null,null,null,202,0.75]
[{"$f":"IF('2019'!A7=\"\",\"\",'2019'!A7)","v":""},{"$f":"IF('2019'!B7=\"\",\"\",'2019'!B7)","v":""},{"$f":"IF('2019'!C7=\"\",\"\",'2019'!C7)","v":""},{"$f":"IF('2019'!D7=\"\",\"\",'2019'!D7)","v":""},{"$f":"IF(D7<>\"\",330,\"\")","v":""},{"$f":"IF('2019'!L7=\"\",\"\",'2019'!L7+1)","v":""},{"$f":"IF('2019'!M7=\"\",\"\",'2019'!M7)","v":""},{"$f":"IF('2019'!N7=\"\",\"\",'2019'!N7)","v":""},{"$f":"IF(G7=\"\",\"\",IF(H7=\"m3\",G7,G7*VLOOKUP(D7,$X$4:$Y$15,2,FALSE)))","v":""},{"$f":"IF('2019'!P7=\"\",\"\",'2019'!P7)","v":""},{"$f":"IF(I7=\"\",\"\",I7*J7)","v":""},null,null,null,{"$f":"IF(M7=\"\",\"\",IF(N7=\"m3\",M7,M7*VLOOKUP(J7,$X$4:$Y$15,2,FALSE)))","v":""},null,{"$f":"IF(O7=\"\",\"\",O7*P7)","v":""},{"$f":"IF(AND(I7=\"\",O7=\"\"),\"\",IF(M7=\"\",\"\",O7-I7))","v":""},{"$f":"IF(AND(K7=\"\",Q7=\"\"),\"\",IF(Q7=\"\",\"\",Q7-K7))","v":""},{"$f":"IF(AND(J7<>\"\",P7=\"\"),0,IF(J7=P7,0,1))","v":0},null,null,null,203,0.75]
[{"$f":"IF('2019'!A8=\"\",\"\",'2019'!A8)","v":""},{"$f":"IF('2019'!B8=\"\",\"\",'2019'!B8)","v":""},{"$f":"IF('2019'!C8=\"\",\"\",'2019'!C8)","v":""},{"$f":"IF('2019'!D8=\"\",\"\",'2019'!D8)","v":""},{"$f":"IF(D8<>\"\",330,\"\")","v":""},{"$f":"IF('2019'!L8=\"\",\"\",'2019'!L8+1)","v":""},{"$f":"IF('2019'!M8=\"\",\"\",'2019'!M8)","v":""},{"$f":"IF('2019'!N8=\"\",\"\",'2019'!N8)","v":""},"",{"$f":"IF('2019'!P8=\"\",\"\",'2019'!P8)","v":""},{"$f":"IF(I8=\"\",\"\",I8*J8)","v":""},null,null,null,"",null,{"$f":"IF(O8=\"\",\"\",O8*P8)","v":""},{"$f":"IF(AND(I8=\"\",O8=\"\"),\"\",IF(M8=\"\",\"\",O8-I8))","v":""},{"$f":"IF(AND(K8=\"\",Q8=\"\"),\"\",IF(Q8=\"\",\"\",Q8-K8))","v":""},0,null,null,null,204]
[{"$f":"IF('2019'!A9=\"\",\"\",'2019'!A9)","v":""},{"$f":"IF('2019'!B9=\"\",\"\",'2019'!B9)","v":""},{"$f":"IF('2019'!C9=\"\",\"\",'2019'!C9)","v":""},{"$f":"IF('2019'!D9=\"\",\"\",'2019'!D9)","v":""},"",{"$f":"IF('2019'!L9=\"\",\"\",'2019'!L9+1)","v":""},{"$f":"IF('2019'!M9=\"\",\"\",'2019'!M9)","v":""},{"$f":"IF('2019'!N9=\"\",\"\",'2019'!N9)","v":""},"",{"$f":"IF('2019'!P9=\"\",\"\",'2019'!P9)","v":""},"",null,null,null,"",null,"","","",0,null,null,null,205]
[{"$f":"IF('2019'!A10=\"\",\"\",'2019'!A10)","v":""},{"$f":"IF('2019'!B10=\"\",\"\",'2019'!B10)","v":""},{"$f":"IF('2019'!C10=\"\",\"\",'2019'!C10)","v":""},{"$f":"IF('2019'!D10=\"\",\"\",'2019'!D10)","v":""},"",{"$f":"IF('2019'!L10=\"\",\"\",'2019'!L10+1)","v":""},{"$f":"IF('2019'!M10=\"\",\"\",'2019'!M10)","v":""},{"$f":"IF('2019'!N10=\"\",\"\",'2019'!N10)","v":""},"",{"$f":"IF('2019'!P10=\"\",\"\",'2019'!P10)","v":""},"",null,null,null,"",null,"","","",0,null,null,null,206,0.75]
[{"$f":"IF('2019'!A11=\"\",\"\",'2019'!A11)","v":""},{"$f":"IF('2019'!B11=\"\",\"\",'2019'!B11)","v":""},{"$f":"IF('2019'!C11=\"\",\"\",'2019'!C11)","v":""},{"$f":"IF('2019'!D11=\"\",\"\",'2019'!D11)","v":""},"",{"$f":"IF('2019'!L11=\"\",\"\",'2019'!L11+1)","v":""},{"$f":"IF('2019'!M11=\"\",\"\",'2019'!M11)","v":""},{"$f":"IF('2019'!N11=\"\",\"\",'2019'!N11)","v":""},"",{"$f":"IF('2019'!P11=\"\",\"\",'2019'!P11)","v":""},"",null,null,null,"",null,"","","",0,null,null,null,207,0.75]
[{"$f":"IF('2019'!A12=\"\",\"\",'2019'!A12)","v":""},{"$f":"IF('2019'!B12=\"\",\"\",'2019'!B12)","v":""},{"$f":"IF('2019'!C12=\"\",\"\",'2019'!C12)","v":""},{"$f":"IF('2019'!D12=\"\",\"\",'2019'!D12)","v":""},"",{"$f":"IF('2019'!L12=\"\",\"\",'2019'!L12+1)","v":""},{"$f":"IF('2019'!M12=\"\",\"\",'2019'!M12)","v":""},{"$f":"IF('2019'!N12=\"\",\"\",'2019'!N12)","v":""},"",{"$f":"IF('2019'!P12=\"\",\"\",'2019'!P12)","v":""},"",null,null,null,"",null,"","","",0,null,null,null,208,0.75]
[{"$f":"IF('2019'!A13=\"\",\"\",'2019'!A13)","v":""},{"$f":"IF('2019'!B13=\"\",\"\",'2019'!B13)","v":""},{"$f":"IF('2019'!C13=\"\",\"\",'2019'!C13)","v":""},{"$f":"IF('2019'!D13=\"\",\"\",'2019'!D13)","v":""},"",{"$f":"IF('2019'!L13=\"\",\"\",'2019'!L13+1)","v":""},{"$f":"IF('2019'!M13=\"\",\"\",'2019'!M13)","v":""},{"$f":"IF('2019'!N13=\"\",\"\",'2019'!N13)","v":""},"",{"$f":"IF('2019'!P13=\"\",\"\",'2019'!P13)","v":""},"",null,null,null,"",null,"","","",0,null,null,null,209]
[{"$f":"IF('2019'!A14=\"\",\"\",'2019'!A14)","v":""},{"$f":"IF('2019'!B14=\"\",\"\",'2019'!B14)","v":""},{"$f":"IF('2019'!C14=\"\",\"\",'2019'!C14)","v":""},{"$f":"IF('2019'!D14=\"\",\"\",'2019'!D14)","v":""},"",{"$f":"IF('2019'!L14=\"\",\"\",'2019'!L14+1)","v":""},{"$f":"IF('2019'!M14=\"\",\"\",'2019'!M14)","v":""},{"$f":"IF('2019'!N14=\"\",\"\",'2019'!N14)","v":""},"",{"$f":"IF('2019'!P14=\"\",\"\",'2019'!P14)","v":""},"",null,null,null,"",null,"","","",0,null,null,null,210,0.75]
[{"$f":"IF('2019'!A15=\"\",\"\",'2019'!A15)","v":""},{"$f":"IF('2019'!B15=\"\",\"\",'2019'!B15)","v":""},{"$f":"IF('2019'!C15=\"\",\"\",'2019'!C15)","v":""},{"$f":"IF('2019'!D15=\"\",\"\",'2019'!D15)","v":""},"",{"$f":"IF('2019'!L15=\"\",\"\",'2019'!L15+1)","v":""},{"$f":"IF('2019'!M15=\"\",\"\",'2019'!M15)","v":""},{"$f":"IF('2019'!N15=\"\",\"\",'2019'!N15)","v":""},"",{"$f":"IF('2019'!P15=\"\",\"\",'2019'!P15)","v":""},"",null,null,null,"",null,"","","",0,null,null,null,211]
[{"$f":"IF('2019'!A16=\"\",\"\",'2019'!A16)","v":""},{"$f":"IF('2019'!B16=\"\",\"\",'2019'!B16)","v":""},{"$f":"IF('2019'!C16=\"\",\"\",'2019'!C16)","v":""},{"$f":"IF('2019'!D16=\"\",\"\",'2019'!D16)","v":""},"",{"$f":"IF('2019'!L16=\"\",\"\",'2019'!L16+1)","v":""},{"$f":"IF('2019'!M16=\"\",\"\",'2019'!M16)","v":""},{"$f":"IF('2019'!N16=\"\",\"\",'2019'!N16)","v":""},"",{"$f":"IF('2019'!P16=\"\",\"\",'2019'!P16)","v":""},"",null,null,null,"",null,"","","",0]
[{"$f":"IF('2019'!A17=\"\",\"\",'2019'!A17)","v":""},{"$f":"IF('2019'!B17=\"\",\"\",'2019'!B17)","v":""},{"$f":"IF('2019'!C17=\"\",\"\",'2019'!C17)","v":""},{"$f":"IF('2019'!D17=\"\",\"\",'2019'!D17)","v":""},"",{"$f":"IF('2019'!L17=\"\",\"\",'2019'!L17+1)","v":""},{"$f":"IF('2019'!M17=\"\",\"\",'2019'!M17)","v":""},{"$f":"IF('2019'!N17=\"\",\"\",'2019'!N17)","v":""},"",{"$f":"IF('2019'!P17=\"\",\"\",'2019'!P17)","v":""},"",null,null,null,"",null,"","","",0]
[{"$f":"IF('2019'!A18=\"\",\"\",'2019'!A18)","v":""},{"$f":"IF('2019'!B18=\"\",\"\",'2019'!B18)","v":""},{"$f":"IF('2019'!C18=\"\",\"\",'2019'!C18)","v":""},{"$f":"IF('2019'!D18=\"\",\"\",'2019'!D18)","v":""},"",{"$f":"IF('2019'!L18=\"\",\"\",'2019'!L18+1)","v":""},{"$f":"IF('2019'!M18=\"\",\"\",'2019'!M18)","v":""},{"$f":"IF('2019'!N18=\"\",\"\",'2019'!N18)","v":""},"",{"$f":"IF('2019'!P18=\"\",\"\",'2019'!P18)","v":""},"",null,null,null,"",null,"","","",0]
[{"$f":"IF('2019'!A19=\"\",\"\",'2019'!A19)","v":""},{"$f":"IF('2019'!B19=\"\",\"\",'2019'!B19)","v":""},{"$f":"IF('2019'!C19=\"\",\"\",'2019'!C19)","v":""},{"$f":"IF('2019'!D19=\"\",\"\",'2019'!D19)","v":""},"",{"$f":"IF('2019'!L19=\"\",\"\",'2019'!L19+1)","v":""},{"$f":"IF('2019'!M19=\"\",\"\",'2019'!M19)","v":""},{"$f":"IF('2019'!N19=\"\",\"\",'2019'!N19)","v":""},"",{"$f":"IF('2019'!P19=\"\",\"\",'2019'!P19)","v":""},"",null,null,null,"",null,"","","",0]
[{"$f":"IF('2019'!A20=\"\",\"\",'2019'!A20)","v":""},{"$f":"IF('2019'!B20=\"\",\"\",'2019'!B20)","v":""},{"$f":"IF('2019'!C20=\"\",\"\",'2019'!C20)","v":""},{"$f":"IF('2019'!D20=\"\",\"\",'2019'!D20)","v":""},"",{"$f":"IF('2019'!L20=\"\",\"\",'2019'!L20+1)","v":""},{"$f":"IF('2019'!M20=\"\",\"\",'2019'!M20)","v":""},{"$f":"IF('2019'!N20=\"\",\"\",'2019'!N20)","v":""},"",{"$f":"IF('2019'!P20=\"\",\"\",'2019'!P20)","v":""},"",null,null,null,"",null,"","","",0]
[{"$f":"IF('2019'!A21=\"\",\"\",'2019'!A21)","v":""},{"$f":"IF('2019'!B21=\"\",\"\",'2019'!B21)","v":""},{"$f":"IF('2019'!C21=\"\",\"\",'2019'!C21)","v":""},{"$f":"IF('2019'!D21=\"\",\"\",'2019'!D21)","v":""},"",{"$f":"IF('2019'!L21=\"\",\"\",'2019'!L21+1)","v":""},{"$f":"IF('2019'!M21=\"\",\"\",'2019'!M21)","v":""},{"$f":"IF('2019'!N21=\"\",\"\",'2019'!N21)","v":""},"",{"$f":"IF('2019'!P21=\"\",\"\",'2019'!P21)","v":""},"",null,null,null,"",null,"","","",0]
[{"$f":"IF('2019'!A22=\"\",\"\",'2019'!A22)","v":""},{"$f":"IF('2019'!B22=\"\",\"\",'2019'!B22)","v":""},{"$f":"IF('2019'!C22=\"\",\"\",'2019'!C22)","v":""},{"$f":"IF('2019'!D22=\"\",\"\",'2019'!D22)","v":""},"",{"$f":"IF('2019'!L22=\"\",\"\",'2019'!L22+1)","v":""},{"$f":"IF('2019'!M22=\"\",\"\",'2019'!M22)","v":""},{"$f":"IF('2019'!N22=\"\",\"\",'2019'!N22)","v":""},"",{"$f":"IF('2019'!P22=\"\",\"\",'2019'!P22)","v":""},"",null,null,null,"",null,"","","",0]
[{"$f":"IF('2019'!A23=\"\",\"\",'2019'!A23)","v":""},{"$f":"IF('2019'!B23=\"\",\"\",'2019'!B23)","v":""},{"$f":"IF('2019'!C23=\"\",\"\",'2019'!C23)","v":""},{"$f":"IF('2019'!D23=\"\",\"\",'2019'!D23)","v":""},"",{"$f":"IF('2019'!L23=\"\",\"\",'2019'!L23+1)","v":""},{"$f":"IF('2019'!M23=\"\",\"\",'2019'!M23)","v":""},{"$f":"IF('2019'!N23=\"\",\"\",'2019'!N23)","v":""},"",{"$f":"IF('2019'!P23=\"\",\"\",'2019'!P23)","v":""},"",null,null,null,"",null,"","","",0]
[{"$f":"IF('2019'!A24=\"\",\"\",'2019'!A24)","v":""},{"$f":"IF('2019'!B24=\"\",\"\",'2019'!B24)","v":""},{"$f":"IF('2019'!C24=\"\",\"\",'2019'!C24)","v":""},{"$f":"IF('2019'!D24=\"\",\"\",'2019'!D24)","v":""},"",{"$f":"IF('2019'!L24=\"\",\"\",'2019'!L24+1)","v":""},{"$f":"IF('2019'!M24=\"\",\"\",'2019'!M24)","v":""},{"$f":"IF('2019'!N24=\"\",\"\",'2019'!N24)","v":""},"",{"$f":"IF('2019'!P24=\"\",\"\",'2019'!P24)","v":""},"",null,null,null,"",null,"","","",0]
[{"$f":"IF('2019'!A25=\"\",\"\",'2019'!A25)","v":""},{"$f":"IF('2019'!B25=\"\",\"\",'2019'!B25)","v":""},{"$f":"IF('2019'!C25=\"\",\"\",'2019'!C25)","v":""},{"$f":"IF('2019'!D25=\"\",\"\",'2019'!D25)","v":""},"",{"$f":"IF('2019'!L25=\"\",\"\",'2019'!L25+1)","v":""},{"$f":"IF('2019'!M25=\"\",\"\",'2019'!M25)","v":""},{"$f":"IF('2019'!N25=\"\",\"\",'2019'!N25)","v":""},"",{"$f":"IF('2019'!P25=\"\",\"\",'2019'!P25)","v":""},"",null,null,null,"",null,"","","",0]
[{"$f":"IF('2019'!A26=\"\",\"\",'2019'!A26)","v":""},{"$f":"IF('2019'!B26=\"\",\"\",'2019'!B26)","v":""},{"$f":"IF('2019'!C26=\"\",\"\",'2019'!C26)","v":""},{"$f":"IF('2019'!D26=\"\",\"\",'2019'!D26)","v":""},"",{"$f":"IF('2019'!L26=\"\",\"\",'2019'!L26+1)","v":""},{"$f":"IF('2019'!M26=\"\",\"\",'2019'!M26)","v":""},{"$f":"IF('2019'!N26=\"\",\"\",'2019'!N26)","v":""},"",{"$f":"IF('2019'!P26=\"\",\"\",'2019'!P26)","v":""},"",null,null,null,"",null,"","","",0]
["Total",null,null,null,null,null,null,null,{"$f":"IF(SUM(I7:I26)=0,\"\",SUM(I7:I26))","v":""},null,{"$f":"IF(SUM(K7:K26)=0,\"\",SUM(K7:K26))","v":""},null,null,null,{"$f":"IF(SUM(O7:O26)=0,\"\",SUM(O7:O26))","v":""},null,{"$f":"IF(SUM(Q7:Q26)=0,\"\",SUM(Q7:Q26))","v":""},{"$f":"IF(SUM(R7:R26)=0,\"\",SUM(R7:R26))","v":""},{"$f":"IF(SUM(S7:S26)=0,\"\",SUM(S7:S26))","v":""},{"$f":"SUM(T7:T26)","v":0}]

{"sheet":"2021","index":2,"n_rows":27,"n_cols":25,"rows_kept":27,"cut":false,"hidden":false,"merged":[[0,0,1,2],[4,17,4,18],[4,5,4,10],[4,11,4,16],[4,0,4,4]]}
[null,null,null,"CEForestier"]
[null,null,null,"Modifications de stocks (inventaires début et fin)",null,null,null,null,null,null,null,"Bois départ forêt",null,null,null,null,null,null,null,null,null,null,null,"EA","Umrechnungsfaktor"]
[]
[null,null,null,null,null,null,null,null,null,null,null,null,null,null,null,null,null,null,null,null,null,null,null,200]
["Codification",null,null,null,null,"Inventaire début",null,null,null,null,null,"Inventaire fin",null,null,null,null,null,"Modif. de stock",null,null,null,null,null,201,0.75]
["EDEX","CP","Assortiment"," GP (Ass.)","GrpP","Date","Quantité","Un.","Quant.     (m3)","Prix","Valeur","Date","Quantité","Un.","Quant.     (m3)","Prix","Valeur","Quant.","Valeur",null,null,null,null,202,0.75]
[{"$f":"IF('2020'!A7=\"\",\"\",'2020'!A7)","v":""},{"$f":"IF('2020'!B7=\"\",\"\",'2020'!B7)","v":""},{"$f":"IF('2020'!C7=\"\",\"\",'2020'!C7)","v":""},{"$f":"IF('2020'!D7=\"\",\"\",'2020'!D7)","v":""},{"$f":"IF(D7<>\"\",330,\"\")","v":""},{"$f":"IF('2020'!L7=\"\",\"\",'2020'!L7+1)","v":""},{"$f":"IF('2020'!M7=\"\",\"\",'2020'!M7)","v":""},{"$f":"IF('2020'!N7=\"\",\"\",'2020'!N7)","v":""},{"$f":"IF(G7=\"\",\"\",IF(H7=\"m3\",G7,G7*VLOOKUP(D7,$X$4:$Y$15,2,FALSE)))","v":""},{"$f":"IF('2020'!P7=\"\",\"\",'2020'!P7)","v":""},{"$f":"IF(I7=\"\",\"\",I7*J7)","v":""},null,null,null,{"$f":"IF(M7=\"\",\"\",IF(N7=\"m3\",M7,M7*VLOOKUP(J7,$X$4:$Y$15,2,FALSE)))","v":""},null,{"$f":"IF(O7=\"\",\"\",O7*P7)","v":""},{"$f":"IF(AND(I7=\"\",O7=\"\"),\"\",IF(M7=\"\",\"\",O7-I7))","v":""},{"$f":"IF(AND(K7=\"\",Q7=\"\"),\"\",IF(Q7=\"\",\"\",Q7-K7))","v":""},{"$f":"IF(AND(J7<>\"\",P7=\"\"),0,IF(J7=P7,0,1))","v":0},null,null,null,203,0.75]
[{"$f":"IF('2020'!A8=\"\",\"\",'2020'!A8)","v":""},{"$f":"IF('2020'!B8=\"\",\"\",'2020'!B8)","v":""},{"$f":"IF('2020'!C8=\"\",\"\",'2020'!C8)","v":""},{"$f":"IF('2020'!D8=\"\",\"\",'2020'!D8)","v":""},"",{"$f":"IF('2020'!L8=\"\",\"\",'2020'!L8+1)","v":""},{"$f":"IF('2020'!M8=\"\",\"\",'2020'!M8)","v":""},{"$f":"IF('2020'!N8=\"\",\"\",'2020'!N8)","v":""},"",{"$f":"IF('2020'!P8=\"\",\"\",'2020'!P8)","v":""},{"$f":"IF(I8=\"\",\"\",I8*J8)","v":""},null,null,null,"",null,"","","",0,null,null,null,204]
[{"$f":"IF('2020'!A9=\"\",\"\",'2020'!A9)","v":""},{"$f":"IF('2020'!B9=\"\",\"\",'2020'!B9)","v":""},{"$f":"IF('2020'!C9=\"\",\"\",'2020'!C9)","v":""},{"$f":"IF('2020'!D9=\"\",\"\",'2020'!D9)","v":""},"",{"$f":"IF('2020'!L9=\"\",\"\",'2020'!L9+1)","v":""},{"$f":"IF('2020'!M9=\"\",\"\",'2020'!M9)","v":""},{"$f":"IF('2020'!N9=\"\",\"\",'2020'!N9)","v":""},"",{"$f":"IF('2020'!P9=\"\",\"\",'2020'!P9)","v":""},"",null,null,null,"",null,"","","",0,null,null,null,205]
[{"$f":"IF('2020'!A10=\"\",\"\",'2020'!A10)","v":""},{"$f":"IF('2020'!B10=\"\",\"\",'2020'!B10)","v":""},{"$f":"IF('2020'!C10=\"\",\"\",'2020'!C10)","v":""},{"$f":"IF('2020'!D10=\"\",\"\",'2020'!D10)","v":""},"",{"$f":"IF('2020'!L10=\"\",\"\",'2020'!L10+1)","v":""},{"$f":"IF('2020'!M10=\"\",\"\",'2020'!M10)","v":""},{"$f":"IF('2020'!N10=\"\",\"\",'2020'!N10)","v":""},"",{"$f":"IF('2020'!P10=\"\",\"\",'2020'!P10)","v":""},"",null,null,null,"",null,"","","",0,null,null,null,206,0.75]
[{"$f":"IF('2020'!A11=\"\",\"\",'2020'!A11)","v":""},{"$f":"IF('2020'!B11=\"\",\"\",'2020'!B11)","v":""},{"$f":"IF('2020'!C11=\"\",\"\",'2020'!C11)","v":""},{"$f":"IF('2020'!D11=\"\",\"\",'2020'!D11)","v":""},"",{"$f":"IF('2020'!L11=\"\",\"\",'2020'!L11+1)","v":""},{"$f":"IF('2020'!M11=\"\",\"\",'2020'!M11)","v":""},{"$f":"IF('2020'!N11=\"\",\"\",'2020'!N11)","v":""},"",{"$f":"IF('2020'!P11=\"\",\"\",'2020'!P11)","v":""},"",null,null,null,"",null,"","","",0,null,null,null,207,0.75]
[{"$f":"IF('2020'!A12=\"\",\"\",'2020'!A12)","v":""},{"$f":"IF('2020'!B12=\"\",\"\",'2020'!B12)","v":""},{"$f":"IF('2020'!C12=\"\",\"\",'2020'!C12)","v":""},{"$f":"IF('2020'!D12=\"\",\"\",'2020'!D12)","v":""},"",{"$f":"IF('2020'!L12=\"\",\"\",'2020'!L12+1)","v":""},{"$f":"IF('2020'!M12=\"\",\"\",'2020'!M12)","v":""},{"$f":"IF('2020'!N12=\"\",\"\",'2020'!N12)","v":""},"",{"$f":"IF('2020'!P12=\"\",\"\",'2020'!P12)","v":""},"",null,null,null,"",null,"","","",0,null,null,null,208,0.75]
[{"$f":"IF('2020'!A13=\"\",\"\",'2020'!A13)","v":""},{"$f":"IF('2020'!B13=\"\",\"\",'2020'!B13)","v":""},{"$f":"IF('2020'!C13=\"\",\"\",'2020'!C13)","v":""},{"$f":"IF('2020'!D13=\"\",\"\",'2020'!D13)","v":""},"",{"$f":"IF('2020'!L13=\"\",\"\",'2020'!L13+1)","v":""},{"$f":"IF('2020'!M13=\"\",\"\",'2020'!M13)","v":""},{"$f":"IF('2020'!N13=\"\",\"\",'2020'!N13)","v":""},"",{"$f":"IF('2020'!P13=\"\",\"\",'2020'!P13)","v":""},"",null,null,null,"",null,"","","",0,null,null,null,209]
[{"$f":"IF('2020'!A14=\"\",\"\",'2020'!A14)","v":""},{"$f":"IF('2020'!B14=\"\",\"\",'2020'!B14)","v":""},{"$f":"IF('2020'!C14=\"\",\"\",'2020'!C14)","v":""},{"$f":"IF('2020'!D14=\"\",\"\",'2020'!D14)","v":""},"",{"$f":"IF('2020'!L14=\"\",\"\",'2020'!L14+1)","v":""},{"$f":"IF('2020'!M14=\"\",\"\",'2020'!M14)","v":""},{"$f":"IF('2020'!N14=\"\",\"\",'2020'!N14)","v":""},"",{"$f":"IF('2020'!P14=\"\",\"\",'2020'!P14)","v":""},"",null,null,null,"",null,"","","",0,null,null,null,210,0.75]
[{"$f":"IF('2020'!A15=\"\",\"\",'2020'!A15)","v":""},{"$f":"IF('2020'!B15=\"\",\"\",'2020'!B15)","v":""},{"$f":"IF('2020'!C15=\"\",\"\",'2020'!C15)","v":""},{"$f":"IF('2020'!D15=\"\",\"\",'2020'!D15)","v":""},"",{"$f":"IF('2020'!L15=\"\",\"\",'2020'!L15+1)","v":""},{"$f":"IF('2020'!M15=\"\",\"\",'2020'!M15)","v":""},{"$f":"IF('2020'!N15=\"\",\"\",'2020'!N15)","v":""},"",{"$f":"IF('2020'!P15=\"\",\"\",'2020'!P15)","v":""},"",null,null,null,"",null,"","","",0,null,null,null,211]
[{"$f":"IF('2020'!A16=\"\",\"\",'2020'!A16)","v":""},{"$f":"IF('2020'!B16=\"\",\"\",'2020'!B16)","v":""},{"$f":"IF('2020'!C16=\"\",\"\",'2020'!C16)","v":""},{"$f":"IF('2020'!D16=\"\",\"\",'2020'!D16)","v":""},"",{"$f":"IF('2020'!L16=\"\",\"\",'2020'!L16+1)","v":""},{"$f":"IF('2020'!M16=\"\",\"\",'2020'!M16)","v":""},{"$f":"IF('2020'!N16=\"\",\"\",'2020'!N16)","v":""},"",{"$f":"IF('2020'!P16=\"\",\"\",'2020'!P16)","v":""},"",null,null,null,"",null,"","","",0]
[{"$f":"IF('2020'!A17=\"\",\"\",'2020'!A17)","v":""},{"$f":"IF('2020'!B17=\"\",\"\",'2020'!B17)","v":""},{"$f":"IF('2020'!C17=\"\",\"\",'2020'!C17)","v":""},{"$f":"IF('2020'!D17=\"\",\"\",'2020'!D17)","v":""},"",{"$f":"IF('2020'!L17=\"\",\"\",'2020'!L17+1)","v":""},{"$f":"IF('2020'!M17=\"\",\"\",'2020'!M17)","v":""},{"$f":"IF('2020'!N17=\"\",\"\",'2020'!N17)","v":""},"",{"$f":"IF('2020'!P17=\"\",\"\",'2020'!P17)","v":""},"",null,null,null,"",null,"","","",0]
[{"$f":"IF('2020'!A18=\"\",\"\",'2020'!A18)","v":""},{"$f":"IF('2020'!B18=\"\",\"\",'2020'!B18)","v":""},{"$f":"IF('2020'!C18=\"\",\"\",'2020'!C18)","v":""},{"$f":"IF('2020'!D18=\"\",\"\",'2020'!D18)","v":""},"",{"$f":"IF('2020'!L18=\"\",\"\",'2020'!L18+1)","v":""},{"$f":"IF('2020'!M18=\"\",\"\",'2020'!M18)","v":""},{"$f":"IF('2020'!N18=\"\",\"\",'2020'!N18)","v":""},"",{"$f":"IF('2020'!P18=\"\",\"\",'2020'!P18)","v":""},"",null,null,null,"",null,"","","",0]
[{"$f":"IF('2020'!A19=\"\",\"\",'2020'!A19)","v":""},{"$f":"IF('2020'!B19=\"\",\"\",'2020'!B19)","v":""},{"$f":"IF('2020'!C19=\"\",\"\",'2020'!C19)","v":""},{"$f":"IF('2020'!D19=\"\",\"\",'2020'!D19)","v":""},"",{"$f":"IF('2020'!L19=\"\",\"\",'2020'!L19+1)","v":""},{"$f":"IF('2020'!M19=\"\",\"\",'2020'!M19)","v":""},{"$f":"IF('2020'!N19=\"\",\"\",'2020'!N19)","v":""},"",{"$f":"IF('2020'!P19=\"\",\"\",'2020'!P19)","v":""},"",null,null,null,"",null,"","","",0]
[{"$f":"IF('2020'!A20=\"\",\"\",'2020'!A20)","v":""},{"$f":"IF('2020'!B20=\"\",\"\",'2020'!B20)","v":""},{"$f":"IF('2020'!C20=\"\",\"\",'2020'!C20)","v":""},{"$f":"IF('2020'!D20=\"\",\"\",'2020'!D20)","v":""},"",{"$f":"IF('2020'!L20=\"\",\"\",'2020'!L20+1)","v":""},{"$f":"IF('2020'!M20=\"\",\"\",'2020'!M20)","v":""},{"$f":"IF('2020'!N20=\"\",\"\",'2020'!N20)","v":""},"",{"$f":"IF('2020'!P20=\"\",\"\",'2020'!P20)","v":""},"",null,null,null,"",null,"","","",0]
[{"$f":"IF('2020'!A21=\"\",\"\",'2020'!A21)","v":""},{"$f":"IF('2020'!B21=\"\",\"\",'2020'!B21)","v":""},{"$f":"IF('2020'!C21=\"\",\"\",'2020'!C21)","v":""},{"$f":"IF('2020'!D21=\"\",\"\",'2020'!D21)","v":""},"",{"$f":"IF('2020'!L21=\"\",\"\",'2020'!L21+1)","v":""},{"$f":"IF('2020'!M21=\"\",\"\",'2020'!M21)","v":""},{"$f":"IF('2020'!N21=\"\",\"\",'2020'!N21)","v":""},"",{"$f":"IF('2020'!P21=\"\",\"\",'2020'!P21)","v":""},"",null,null,null,"",null,"","","",0]
[{"$f":"IF('2020'!A22=\"\",\"\",'2020'!A22)","v":""},{"$f":"IF('2020'!B22=\"\",\"\",'2020'!B22)","v":""},{"$f":"IF('2020'!C22=\"\",\"\",'2020'!C22)","v":""},{"$f":"IF('2020'!D22=\"\",\"\",'2020'!D22)","v":""},"",{"$f":"IF('2020'!L22=\"\",\"\",'2020'!L22+1)","v":""},{"$f":"IF('2020'!M22=\"\",\"\",'2020'!M22)","v":""},{"$f":"IF('2020'!N22=\"\",\"\",'2020'!N22)","v":""},"",{"$f":"IF('2020'!P22=\"\",\"\",'2020'!P22)","v":""},"",null,null,null,"",null,"","","",0]
[{"$f":"IF('2020'!A23=\"\",\"\",'2020'!A23)","v":""},{"$f":"IF('2020'!B23=\"\",\"\",'2020'!B23)","v":""},{"$f":"IF('2020'!C23=\"\",\"\",'2020'!C23)","v":""},{"$f":"IF('2020'!D23=\"\",\"\",'2020'!D23)","v":""},"",{"$f":"IF('2020'!L23=\"\",\"\",'2020'!L23+1)","v":""},{"$f":"IF('2020'!M23=\"\",\"\",'2020'!M23)","v":""},{"$f":"IF('2020'!N23=\"\",\"\",'2020'!N23)","v":""},"",{"$f":"IF('2020'!P23=\"\",\"\",'2020'!P23)","v":""},"",null,null,null,"",null,"","","",0]
[{"$f":"IF('2020'!A24=\"\",\"\",'2020'!A24)","v":""},{"$f":"IF('2020'!B24=\"\",\"\",'2020'!B24)","v":""},{"$f":"IF('2020'!C24=\"\",\"\",'2020'!C24)","v":""},{"$f":"IF('2020'!D24=\"\",\"\",'2020'!D24)","v":""},"",{"$f":"IF('2020'!L24=\"\",\"\",'2020'!L24+1)","v":""},{"$f":"IF('2020'!M24=\"\",\"\",'2020'!M24)","v":""},{"$f":"IF('2020'!N24=\"\",\"\",'2020'!N24)","v":""},"",{"$f":"IF('2020'!P24=\"\",\"\",'2020'!P24)","v":""},"",null,null,null,"",null,"","","",0]
[{"$f":"IF('2020'!A25=\"\",\"\",'2020'!A25)","v":""},{"$f":"IF('2020'!B25=\"\",\"\",'2020'!B25)","v":""},{"$f":"IF('2020'!C25=\"\",\"\",'2020'!C25)","v":""},{"$f":"IF('2020'!D25=\"\",\"\",'2020'!D25)","v":""},"",{"$f":"IF('2020'!L25=\"\",\"\",'2020'!L25+1)","v":""},{"$f":"IF('2020'!M25=\"\",\"\",'2020'!M25)","v":""},{"$f":"IF('2020'!N25=\"\",\"\",'2020'!N25)","v":""},"",{"$f":"IF('2020'!P25=\"\",\"\",'2020'!P25)","v":""},"",null,null,null,"",null,"","","",0]
[{"$f":"IF('2020'!A26=\"\",\"\",'2020'!A26)","v":""},{"$f":"IF('2020'!B26=\"\",\"\",'2020'!B26)","v":""},{"$f":"IF('2020'!C26=\"\",\"\",'2020'!C26)","v":""},{"$f":"IF('2020'!D26=\"\",\"\",'2020'!D26)","v":""},"",{"$f":"IF('2020'!L26=\"\",\"\",'2020'!L26+1)","v":""},{"$f":"IF('2020'!M26=\"\",\"\",'2020'!M26)","v":""},{"$f":"IF('2020'!N26=\"\",\"\",'2020'!N26)","v":""},"",{"$f":"IF('2020'!P26=\"\",\"\",'2020'!P26)","v":""},"",null,null,null,"",null,"","","",0]
["Total",null,null,null,null,null,null,null,{"$f":"IF(SUM(I7:I26)=0,\"\",SUM(I7:I26))","v":""},null,{"$f":"IF(SUM(K7:K26)=0,\"\",SUM(K7:K26))","v":""},null,null,null,{"$f":"IF(SUM(O7:O26)=0,\"\",SUM(O7:O26))","v":""},null,{"$f":"IF(SUM(Q7:Q26)=0,\"\",SUM(Q7:Q26))","v":""},{"$f":"IF(SUM(R7:R26)=0,\"\",SUM(R7:R26))","v":""},{"$f":"IF(SUM(S7:S26)=0,\"\",SUM(S7:S26))","v":""},{"$f":"SUM(T7:T26)","v":0}]

{"sheet":"2022","index":3,"n_rows":27,"n_cols":25,"rows_kept":27,"cut":false,"hidden":false,"merged":[[0,0,1,2],[4,17,4,18],[4,5,4,10],[4,11,4,16],[4,0,4,4]]}
[null,null,null,"CEForestier"]
[null,null,null,"Modifications de stocks (inventaires début et fin)",null,null,null,null,null,null,null,"Bois départ forêt",null,null,null,null,null,null,null,null,null,null,null,"EA","Umrechnungsfaktor"]
[]
[null,null,null,null,null,null,null,null,null,null,null,null,null,null,null,null,null,null,null,null,null,null,null,200]
["Codification",null,null,null,null,"Inventaire début",null,null,null,null,null,"Inventaire fin",null,null,null,null,null,"Modif. de stock",null,null,null,null,null,201,0.75]
["EDEX","CP","Assortiment"," GP (Ass.)","GrpP","Date","Quantité","Un.","Quant.     (m3)","Prix","Valeur","Date","Quantité","Un.","Quant.     (m3)","Prix","Valeur","Quant.","Valeur",null,null,null,null,202,0.75]
[{"$f":"IF('2021'!A7=\"\",\"\",'2021'!A7)","v":""},{"$f":"IF('2021'!B7=\"\",\"\",'2021'!B7)","v":""},{"$f":"IF('2021'!C7=\"\",\"\",'2021'!C7)","v":""},{"$f":"IF('2021'!D7=\"\",\"\",'2021'!D7)","v":""},{"$f":"IF(D7<>\"\",330,\"\")","v":""},{"$f":"IF('2021'!L7=\"\",\"\",'2021'!L7+1)","v":""},{"$f":"IF('2021'!M7=\"\",\"\",'2021'!M7)","v":""},{"$f":"IF('2021'!N7=\"\",\"\",'2021'!N7)","v":""},{"$f":"IF(G7=\"\",\"\",IF(H7=\"m3\",G7,G7*VLOOKUP(D7,$X$4:$Y$15,2,FALSE)))","v":""},{"$f":"IF('2021'!P7=\"\",\"\",'2021'!P7)","v":""},{"$f":"IF(I7=\"\",\"\",I7*J7)","v":""},null,null,null,{"$f":"IF(M7=\"\",\"\",IF(N7=\"m3\",M7,M7*VLOOKUP(J7,$X$4:$Y$15,2,FALSE)))","v":""},null,{"$f":"IF(O7=\"\",\"\",O7*P7)","v":""},{"$f":"IF(AND(I7=\"\",O7=\"\"),\"\",IF(M7=\"\",\"\",O7-I7))","v":""},{"$f":"IF(AND(K7=\"\",Q7=\"\"),\"\",IF(Q7=\"\",\"\",Q7-K7))","v":""},{"$f":"IF(AND(J7<>\"\",P7=\"\"),0,IF(J7=P7,0,1))","v":0},null,null,null,203,0.75]
[{"$f":"IF('2021'!A8=\"\",\"\",'2021'!A8)","v":""},{"$f":"IF('2021'!B8=\"\",\"\",'2021'!B8)","v":""},{"$f":"IF('2021'!C8=\"\",\"\",'2021'!C8)","v":""},{"$f":"IF('2021'!D8=\"\",\"\",'2021'!D8)","v":""},"",{"$f":"IF('2021'!L8=\"\",\"\",'2021'!L8+1)","v":""},{"$f":"IF('2021'!M8=\"\",\"\",'2021'!M8)","v":""},{"$f":"IF('2021'!N8=\"\",\"\",'2021'!N8)","v":""},"",{"$f":"IF('2021'!P8=\"\",\"\",'2021'!P8)","v":""},{"$f":"IF(I8=\"\",\"\",I8*J8)","v":""},null,null,null,"",null,"","","",0,null,null,null,204]
[{"$f":"IF('2021'!A9=\"\",\"\",'2021'!A9)","v":""},{"$f":"IF('2021'!B9=\"\",\"\",'2021'!B9)","v":""},{"$f":"IF('2021'!C9=\"\",\"\",'2021'!C9)","v":""},{"$f":"IF('2021'!D9=\"\",\"\",'2021'!D9)","v":""},"",{"$f":"IF('2021'!L9=\"\",\"\",'2021'!L9+1)","v":""},{"$f":"IF('2021'!M9=\"\",\"\",'2021'!M9)","v":""},{"$f":"IF('2021'!N9=\"\",\"\",'2021'!N9)","v":""},"",{"$f":"IF('2021'!P9=\"\",\"\",'2021'!P9)","v":""},"",null,null,null,"",null,"","","",0,null,null,null,205]
[{"$f":"IF('2021'!A10=\"\",\"\",'2021'!A10)","v":""},{"$f":"IF('2021'!B10=\"\",\"\",'2021'!B10)","v":""},{"$f":"IF('2021'!C10=\"\",\"\",'2021'!C10)","v":""},{"$f":"IF('2021'!D10=\"\",\"\",'2021'!D10)","v":""},"",{"$f":"IF('2021'!L10=\"\",\"\",'2021'!L10+1)","v":""},{"$f":"IF('2021'!M10=\"\",\"\",'2021'!M10)","v":""},{"$f":"IF('2021'!N10=\"\",\"\",'2021'!N10)","v":""},"",{"$f":"IF('2021'!P10=\"\",\"\",'2021'!P10)","v":""},"",null,null,null,"",null,"","","",0,null,null,null,206,0.75]
[{"$f":"IF('2021'!A11=\"\",\"\",'2021'!A11)","v":""},{"$f":"IF('2021'!B11=\"\",\"\",'2021'!B11)","v":""},{"$f":"IF('2021'!C11=\"\",\"\",'2021'!C11)","v":""},{"$f":"IF('2021'!D11=\"\",\"\",'2021'!D11)","v":""},"",{"$f":"IF('2021'!L11=\"\",\"\",'2021'!L11+1)","v":""},{"$f":"IF('2021'!M11=\"\",\"\",'2021'!M11)","v":""},{"$f":"IF('2021'!N11=\"\",\"\",'2021'!N11)","v":""},"",{"$f":"IF('2021'!P11=\"\",\"\",'2021'!P11)","v":""},"",null,null,null,"",null,"","","",0,null,null,null,207,0.75]
[{"$f":"IF('2021'!A12=\"\",\"\",'2021'!A12)","v":""},{"$f":"IF('2021'!B12=\"\",\"\",'2021'!B12)","v":""},{"$f":"IF('2021'!C12=\"\",\"\",'2021'!C12)","v":""},{"$f":"IF('2021'!D12=\"\",\"\",'2021'!D12)","v":""},"",{"$f":"IF('2021'!L12=\"\",\"\",'2021'!L12+1)","v":""},{"$f":"IF('2021'!M12=\"\",\"\",'2021'!M12)","v":""},{"$f":"IF('2021'!N12=\"\",\"\",'2021'!N12)","v":""},"",{"$f":"IF('2021'!P12=\"\",\"\",'2021'!P12)","v":""},"",null,null,null,"",null,"","","",0,null,null,null,208,0.75]
[{"$f":"IF('2021'!A13=\"\",\"\",'2021'!A13)","v":""},{"$f":"IF('2021'!B13=\"\",\"\",'2021'!B13)","v":""},{"$f":"IF('2021'!C13=\"\",\"\",'2021'!C13)","v":""},{"$f":"IF('2021'!D13=\"\",\"\",'2021'!D13)","v":""},"",{"$f":"IF('2021'!L13=\"\",\"\",'2021'!L13+1)","v":""},{"$f":"IF('2021'!M13=\"\",\"\",'2021'!M13)","v":""},{"$f":"IF('2021'!N13=\"\",\"\",'2021'!N13)","v":""},"",{"$f":"IF('2021'!P13=\"\",\"\",'2021'!P13)","v":""},"",null,null,null,"",null,"","","",0,null,null,null,209]
[{"$f":"IF('2021'!A14=\"\",\"\",'2021'!A14)","v":""},{"$f":"IF('2021'!B14=\"\",\"\",'2021'!B14)","v":""},{"$f":"IF('2021'!C14=\"\",\"\",'2021'!C14)","v":""},{"$f":"IF('2021'!D14=\"\",\"\",'2021'!D14)","v":""},"",{"$f":"IF('2021'!L14=\"\",\"\",'2021'!L14+1)","v":""},{"$f":"IF('2021'!M14=\"\",\"\",'2021'!M14)","v":""},{"$f":"IF('2021'!N14=\"\",\"\",'2021'!N14)","v":""},"",{"$f":"IF('2021'!P14=\"\",\"\",'2021'!P14)","v":""},"",null,null,null,"",null,"","","",0,null,null,null,210,0.75]
[{"$f":"IF('2021'!A15=\"\",\"\",'2021'!A15)","v":""},{"$f":"IF('2021'!B15=\"\",\"\",'2021'!B15)","v":""},{"$f":"IF('2021'!C15=\"\",\"\",'2021'!C15)","v":""},{"$f":"IF('2021'!D15=\"\",\"\",'2021'!D15)","v":""},"",{"$f":"IF('2021'!L15=\"\",\"\",'2021'!L15+1)","v":""},{"$f":"IF('2021'!M15=\"\",\"\",'2021'!M15)","v":""},{"$f":"IF('2021'!N15=\"\",\"\",'2021'!N15)","v":""},"",{"$f":"IF('2021'!P15=\"\",\"\",'2021'!P15)","v":""},"",null,null,null,"",null,"","","",0,null,null,null,211]
[{"$f":"IF('2021'!A16=\"\",\"\",'2021'!A16)","v":""},{"$f":"IF('2021'!B16=\"\",\"\",'2021'!B16)","v":""},{"$f":"IF('2021'!C16=\"\",\"\",'2021'!C16)","v":""},{"$f":"IF('2021'!D16=\"\",\"\",'2021'!D16)","v":""},"",{"$f":"IF('2021'!L16=\"\",\"\",'2021'!L16+1)","v":""},{"$f":"IF('2021'!M16=\"\",\"\",'2021'!M16)","v":""},{"$f":"IF('2021'!N16=\"\",\"\",'2021'!N16)","v":""},"",{"$f":"IF('2021'!P16=\"\",\"\",'2021'!P16)","v":""},"",null,null,null,"",null,"","","",0]
[{"$f":"IF('2021'!A17=\"\",\"\",'2021'!A17)","v":""},{"$f":"IF('2021'!B17=\"\",\"\",'2021'!B17)","v":""},{"$f":"IF('2021'!C17=\"\",\"\",'2021'!C17)","v":""},{"$f":"IF('2021'!D17=\"\",\"\",'2021'!D17)","v":""},"",{"$f":"IF('2021'!L17=\"\",\"\",'2021'!L17+1)","v":""},{"$f":"IF('2021'!M17=\"\",\"\",'2021'!M17)","v":""},{"$f":"IF('2021'!N17=\"\",\"\",'2021'!N17)","v":""},"",{"$f":"IF('2021'!P17=\"\",\"\",'2021'!P17)","v":""},"",null,null,null,"",null,"","","",0]
[{"$f":"IF('2021'!A18=\"\",\"\",'2021'!A18)","v":""},{"$f":"IF('2021'!B18=\"\",\"\",'2021'!B18)","v":""},{"$f":"IF('2021'!C18=\"\",\"\",'2021'!C18)","v":""},{"$f":"IF('2021'!D18=\"\",\"\",'2021'!D18)","v":""},"",{"$f":"IF('2021'!L18=\"\",\"\",'2021'!L18+1)","v":""},{"$f":"IF('2021'!M18=\"\",\"\",'2021'!M18)","v":""},{"$f":"IF('2021'!N18=\"\",\"\",'2021'!N18)","v":""},"",{"$f":"IF('2021'!P18=\"\",\"\",'2021'!P18)","v":""},"",null,null,null,"",null,"","","",0]
[{"$f":"IF('2021'!A19=\"\",\"\",'2021'!A19)","v":""},{"$f":"IF('2021'!B19=\"\",\"\",'2021'!B19)","v":""},{"$f":"IF('2021'!C19=\"\",\"\",'2021'!C19)","v":""},{"$f":"IF('2021'!D19=\"\",\"\",'2021'!D19)","v":""},"",{"$f":"IF('2021'!L19=\"\",\"\",'2021'!L19+1)","v":""},{"$f":"IF('2021'!M19=\"\",\"\",'2021'!M19)","v":""},{"$f":"IF('2021'!N19=\"\",\"\",'2021'!N19)","v":""},"",{"$f":"IF('2021'!P19=\"\",\"\",'2021'!P19)","v":""},"",null,null,null,"",null,"","","",0]
[{"$f":"IF('2021'!A20=\"\",\"\",'2021'!A20)","v":""},{"$f":"IF('2021'!B20=\"\",\"\",'2021'!B20)","v":""},{"$f":"IF('2021'!C20=\"\",\"\",'2021'!C20)","v":""},{"$f":"IF('2021'!D20=\"\",\"\",'2021'!D20)","v":""},"",{"$f":"IF('2021'!L20=\"\",\"\",'2021'!L20+1)","v":""},{"$f":"IF('2021'!M20=\"\",\"\",'2021'!M20)","v":""},{"$f":"IF('2021'!N20=\"\",\"\",'2021'!N20)","v":""},"",{"$f":"IF('2021'!P20=\"\",\"\",'2021'!P20)","v":""},"",null,null,null,"",null,"","","",0]
[{"$f":"IF('2021'!A21=\"\",\"\",'2021'!A21)","v":""},{"$f":"IF('2021'!B21=\"\",\"\",'2021'!B21)","v":""},{"$f":"IF('2021'!C21=\"\",\"\",'2021'!C21)","v":""},{"$f":"IF('2021'!D21=\"\",\"\",'2021'!D21)","v":""},"",{"$f":"IF('2021'!L21=\"\",\"\",'2021'!L21+1)","v":""},{"$f":"IF('2021'!M21=\"\",\"\",'2021'!M21)","v":""},{"$f":"IF('2021'!N21=\"\",\"\",'2021'!N21)","v":""},"",{"$f":"IF('2021'!P21=\"\",\"\",'2021'!P21)","v":""},"",null,null,null,"",null,"","","",0]
[{"$f":"IF('2021'!A22=\"\",\"\",'2021'!A22)","v":""},{"$f":"IF('2021'!B22=\"\",\"\",'2021'!B22)","v":""},{"$f":"IF('2021'!C22=\"\",\"\",'2021'!C22)","v":""},{"$f":"IF('2021'!D22=\"\",\"\",'2021'!D22)","v":""},"",{"$f":"IF('2021'!L22=\"\",\"\",'2021'!L22+1)","v":""},{"$f":"IF('2021'!M22=\"\",\"\",'2021'!M22)","v":""},{"$f":"IF('2021'!N22=\"\",\"\",'2021'!N22)","v":""},"",{"$f":"IF('2021'!P22=\"\",\"\",'2021'!P22)","v":""},"",null,null,null,"",null,"","","",0]
[{"$f":"IF('2021'!A23=\"\",\"\",'2021'!A23)","v":""},{"$f":"IF('2021'!B23=\"\",\"\",'2021'!B23)","v":""},{"$f":"IF('2021'!C23=\"\",\"\",'2021'!C23)","v":""},{"$f":"IF('2021'!D23=\"\",\"\",'2021'!D23)","v":""},"",{"$f":"IF('2021'!L23=\"\",\"\",'2021'!L23+1)","v":""},{"$f":"IF('2021'!M23=\"\",\"\",'2021'!M23)","v":""},{"$f":"IF('2021'!N23=\"\",\"\",'2021'!N23)","v":""},"",{"$f":"IF('2021'!P23=\"\",\"\",'2021'!P23)","v":""},"",null,null,null,"",null,"","","",0]
[{"$f":"IF('2021'!A24=\"\",\"\",'2021'!A24)","v":""},{"$f":"IF('2021'!B24=\"\",\"\",'2021'!B24)","v":""},{"$f":"IF('2021'!C24=\"\",\"\",'2021'!C24)","v":""},{"$f":"IF('2021'!D24=\"\",\"\",'2021'!D24)","v":""},"",{"$f":"IF('2021'!L24=\"\",\"\",'2021'!L24+1)","v":""},{"$f":"IF('2021'!M24=\"\",\"\",'2021'!M24)","v":""},{"$f":"IF('2021'!N24=\"\",\"\",'2021'!N24)","v":""},"",{"$f":"IF('2021'!P24=\"\",\"\",'2021'!P24)","v":""},"",null,null,null,"",null,"","","",0]
[{"$f":"IF('2021'!A25=\"\",\"\",'2021'!A25)","v":""},{"$f":"IF('2021'!B25=\"\",\"\",'2021'!B25)","v":""},{"$f":"IF('2021'!C25=\"\",\"\",'2021'!C25)","v":""},{"$f":"IF('2021'!D25=\"\",\"\",'2021'!D25)","v":""},"",{"$f":"IF('2021'!L25=\"\",\"\",'2021'!L25+1)","v":""},{"$f":"IF('2021'!M25=\"\",\"\",'2021'!M25)","v":""},{"$f":"IF('2021'!N25=\"\",\"\",'2021'!N25)","v":""},"",{"$f":"IF('2021'!P25=\"\",\"\",'2021'!P25)","v":""},"",null,null,null,"",null,"","","",0]
[{"$f":"IF('2021'!A26=\"\",\"\",'2021'!A26)","v":""},{"$f":"IF('2021'!B26=\"\",\"\",'2021'!B26)","v":""},{"$f":"IF('2021'!C26=\"\",\"\",'2021'!C26)","v":""},{"$f":"IF('2021'!D26=\"\",\"\",'2021'!D26)","v":""},"",{"$f":"IF('2021'!L26=\"\",\"\",'2021'!L26+1)","v":""},{"$f":"IF('2021'!M26=\"\",\"\",'2021'!M26)","v":""},{"$f":"IF('2021'!N26=\"\",\"\",'2021'!N26)","v":""},"",{"$f":"IF('2021'!P26=\"\",\"\",'2021'!P26)","v":""},"",null,null,null,"",null,"","","",0]
["Total",null,null,null,null,null,null,null,{"$f":"IF(SUM(I7:I26)=0,\"\",SUM(I7:I26))","v":""},null,{"$f":"IF(SUM(K7:K26)=0,\"\",SUM(K7:K26))","v":""},null,null,null,{"$f":"IF(SUM(O7:O26)=0,\"\",SUM(O7:O26))","v":""},null,{"$f":"IF(SUM(Q7:Q26)=0,\"\",SUM(Q7:Q26))","v":""},{"$f":"IF(SUM(R7:R26)=0,\"\",SUM(R7:R26))","v":""},{"$f":"IF(SUM(S7:S26)=0,\"\",SUM(S7:S26))","v":""},{"$f":"SUM(T7:T26)","v":0}]

{"sheet":"2023","index":4,"n_rows":27,"n_cols":25,"rows_kept":27,"cut":false,"hidden":false,"merged":[[0,0,1,2],[4,17,4,18],[4,5,4,10],[4,11,4,16],[4,0,4,4]]}
[null,null,null,"CEForestier"]
[null,null,null,"Modifications de stocks (inventaires début et fin)",null,null,null,null,null,null,null,"Bois départ forêt",null,null,null,null,null,null,null,null,null,null,null,"EA","Umrechnungsfaktor"]
[]
[null,null,null,null,null,null,null,null,null,null,null,null,null,null,null,null,null,null,null,null,null,null,null,200]
["Codification",null,null,null,null,"Inventaire début",null,null,null,null,null,"Inventaire fin",null,null,null,null,null,"Modif. de stock",null,null,null,null,null,201,0.75]
["EDEX","CP","Assortiment"," GP (Ass.)","GrpP","Date","Quantité","Un.","Quant.     (m3)","Prix","Valeur","Date","Quantité","Un.","Quant.     (m3)","Prix","Valeur","Quant.","Valeur",null,null,null,null,202,0.75]
[{"$f":"IF('2022'!A7=\"\",\"\",'2022'!A7)","v":""},{"$f":"IF('2022'!B7=\"\",\"\",'2022'!B7)","v":""},{"$f":"IF('2022'!C7=\"\",\"\",'2022'!C7)","v":""},{"$f":"IF('2022'!D7=\"\",\"\",'2022'!D7)","v":""},{"$f":"IF(D7<>\"\",330,\"\")","v":""},{"$f":"IF('2022'!L7=\"\",\"\",'2022'!L7+1)","v":""},{"$f":"IF('2022'!M7=\"\",\"\",'2022'!M7)","v":""},{"$f":"IF('2022'!N7=\"\",\"\",'2022'!N7)","v":""},{"$f":"IF(G7=\"\",\"\",IF(H7=\"m3\",G7,G7*VLOOKUP(D7,$X$4:$Y$15,2,FALSE)))","v":""},{"$f":"IF('2022'!P7=\"\",\"\",'2022'!P7)","v":""},{"$f":"IF(I7=\"\",\"\",I7*J7)","v":""},null,null,null,{"$f":"IF(M7=\"\",\"\",IF(N7=\"m3\",M7,M7*VLOOKUP(J7,$X$4:$Y$15,2,FALSE)))","v":""},null,{"$f":"IF(O7=\"\",\"\",O7*P7)","v":""},{"$f":"IF(AND(I7=\"\",O7=\"\"),\"\",IF(M7=\"\",\"\",O7-I7))","v":""},{"$f":"IF(AND(K7=\"\",Q7=\"\"),\"\",IF(Q7=\"\",\"\",Q7-K7))","v":""},{"$f":"IF(AND(J7<>\"\",P7=\"\"),0,IF(J7=P7,0,1))","v":0},null,null,null,203,0.75]
[{"$f":"IF('2022'!A8=\"\",\"\",'2022'!A8)","v":""},{"$f":"IF('2022'!B8=\"\",\"\",'2022'!B8)","v":""},{"$f":"IF('2022'!C8=\"\",\"\",'2022'!C8)","v":""},{"$f":"IF('2022'!D8=\"\",\"\",'2022'!D8)","v":""},"",{"$f":"IF('2022'!L8=\"\",\"\",'2022'!L8+1)","v":""},{"$f":"IF('2022'!M8=\"\",\"\",'2022'!M8)","v":""},{"$f":"IF('2022'!N8=\"\",\"\",'2022'!N8)","v":""},"",{"$f":"IF('2022'!P8=\"\",\"\",'2022'!P8)","v":""},{"$f":"IF(I8=\"\",\"\",I8*J8)","v":""},null,null,null,"",null,"","","",0,null,null,null,204]
[{"$f":"IF('2022'!A9=\"\",\"\",'2022'!A9)","v":""},{"$f":"IF('2022'!B9=\"\",\"\",'2022'!B9)","v":""},{"$f":"IF('2022'!C9=\"\",\"\",'2022'!C9)","v":""},{"$f":"IF('2022'!D9=\"\",\"\",'2022'!D9)","v":""},"",{"$f":"IF('2022'!L9=\"\",\"\",'2022'!L9+1)","v":""},{"$f":"IF('2022'!M9=\"\",\"\",'2022'!M9)","v":""},{"$f":"IF('2022'!N9=\"\",\"\",'2022'!N9)","v":""},"",{"$f":"IF('2022'!P9=\"\",\"\",'2022'!P9)","v":""},"",null,null,null,"",null,"","","",0,null,null,null,205]
[{"$f":"IF('2022'!A10=\"\",\"\",'2022'!A10)","v":""},{"$f":"IF('2022'!B10=\"\",\"\",'2022'!B10)","v":""},{"$f":"IF('2022'!C10=\"\",\"\",'2022'!C10)","v":""},{"$f":"IF('2022'!D10=\"\",\"\",'2022'!D10)","v":""},"",{"$f":"IF('2022'!L10=\"\",\"\",'2022'!L10+1)","v":""},{"$f":"IF('2022'!M10=\"\",\"\",'2022'!M10)","v":""},{"$f":"IF('2022'!N10=\"\",\"\",'2022'!N10)","v":""},"",{"$f":"IF('2022'!P10=\"\",\"\",'2022'!P10)","v":""},"",null,null,null,"",null,"","","",0,null,null,null,206,0.75]
[{"$f":"IF('2022'!A11=\"\",\"\",'2022'!A11)","v":""},{"$f":"IF('2022'!B11=\"\",\"\",'2022'!B11)","v":""},{"$f":"IF('2022'!C11=\"\",\"\",'2022'!C11)","v":""},{"$f":"IF('2022'!D11=\"\",\"\",'2022'!D11)","v":""},"",{"$f":"IF('2022'!L11=\"\",\"\",'2022'!L11+1)","v":""},{"$f":"IF('2022'!M11=\"\",\"\",'2022'!M11)","v":""},{"$f":"IF('2022'!N11=\"\",\"\",'2022'!N11)","v":""},"",{"$f":"IF('2022'!P11=\"\",\"\",'2022'!P11)","v":""},"",null,null,null,"",null,"","","",0,null,null,null,207,0.75]
[{"$f":"IF('2022'!A12=\"\",\"\",'2022'!A12)","v":""},{"$f":"IF('2022'!B12=\"\",\"\",'2022'!B12)","v":""},{"$f":"IF('2022'!C12=\"\",\"\",'2022'!C12)","v":""},{"$f":"IF('2022'!D12=\"\",\"\",'2022'!D12)","v":""},"",{"$f":"IF('2022'!L12=\"\",\"\",'2022'!L12+1)","v":""},{"$f":"IF('2022'!M12=\"\",\"\",'2022'!M12)","v":""},{"$f":"IF('2022'!N12=\"\",\"\",'2022'!N12)","v":""},"",{"$f":"IF('2022'!P12=\"\",\"\",'2022'!P12)","v":""},"",null,null,null,"",null,"","","",0,null,null,null,208,0.75]
[{"$f":"IF('2022'!A13=\"\",\"\",'2022'!A13)","v":""},{"$f":"IF('2022'!B13=\"\",\"\",'2022'!B13)","v":""},{"$f":"IF('2022'!C13=\"\",\"\",'2022'!C13)","v":""},{"$f":"IF('2022'!D13=\"\",\"\",'2022'!D13)","v":""},"",{"$f":"IF('2022'!L13=\"\",\"\",'2022'!L13+1)","v":""},{"$f":"IF('2022'!M13=\"\",\"\",'2022'!M13)","v":""},{"$f":"IF('2022'!N13=\"\",\"\",'2022'!N13)","v":""},"",{"$f":"IF('2022'!P13=\"\",\"\",'2022'!P13)","v":""},"",null,null,null,"",null,"","","",0,null,null,null,209]
[{"$f":"IF('2022'!A14=\"\",\"\",'2022'!A14)","v":""},{"$f":"IF('2022'!B14=\"\",\"\",'2022'!B14)","v":""},{"$f":"IF('2022'!C14=\"\",\"\",'2022'!C14)","v":""},{"$f":"IF('2022'!D14=\"\",\"\",'2022'!D14)","v":""},"",{"$f":"IF('2022'!L14=\"\",\"\",'2022'!L14+1)","v":""},{"$f":"IF('2022'!M14=\"\",\"\",'2022'!M14)","v":""},{"$f":"IF('2022'!N14=\"\",\"\",'2022'!N14)","v":""},"",{"$f":"IF('2022'!P14=\"\",\"\",'2022'!P14)","v":""},"",null,null,null,"",null,"","","",0,null,null,null,210,0.75]
[{"$f":"IF('2022'!A15=\"\",\"\",'2022'!A15)","v":""},{"$f":"IF('2022'!B15=\"\",\"\",'2022'!B15)","v":""},{"$f":"IF('2022'!C15=\"\",\"\",'2022'!C15)","v":""},{"$f":"IF('2022'!D15=\"\",\"\",'2022'!D15)","v":""},"",{"$f":"IF('2022'!L15=\"\",\"\",'2022'!L15+1)","v":""},{"$f":"IF('2022'!M15=\"\",\"\",'2022'!M15)","v":""},{"$f":"IF('2022'!N15=\"\",\"\",'2022'!N15)","v":""},"",{"$f":"IF('2022'!P15=\"\",\"\",'2022'!P15)","v":""},"",null,null,null,"",null,"","","",0,null,null,null,211]
[{"$f":"IF('2022'!A16=\"\",\"\",'2022'!A16)","v":""},{"$f":"IF('2022'!B16=\"\",\"\",'2022'!B16)","v":""},{"$f":"IF('2022'!C16=\"\",\"\",'2022'!C16)","v":""},{"$f":"IF('2022'!D16=\"\",\"\",'2022'!D16)","v":""},"",{"$f":"IF('2022'!L16=\"\",\"\",'2022'!L16+1)","v":""},{"$f":"IF('2022'!M16=\"\",\"\",'2022'!M16)","v":""},{"$f":"IF('2022'!N16=\"\",\"\",'2022'!N16)","v":""},"",{"$f":"IF('2022'!P16=\"\",\"\",'2022'!P16)","v":""},"",null,null,null,"",null,"","","",0]
[{"$f":"IF('2022'!A17=\"\",\"\",'2022'!A17)","v":""},{"$f":"IF('2022'!B17=\"\",\"\",'2022'!B17)","v":""},{"$f":"IF('2022'!C17=\"\",\"\",'2022'!C17)","v":""},{"$f":"IF('2022'!D17=\"\",\"\",'2022'!D17)","v":""},"",{"$f":"IF('2022'!L17=\"\",\"\",'2022'!L17+1)","v":""},{"$f":"IF('2022'!M17=\"\",\"\",'2022'!M17)","v":""},{"$f":"IF('2022'!N17=\"\",\"\",'2022'!N17)","v":""},"",{"$f":"IF('2022'!P17=\"\",\"\",'2022'!P17)","v":""},"",null,null,null,"",null,"","","",0,null,null,null," "]
[{"$f":"IF('2022'!A18=\"\",\"\",'2022'!A18)","v":""},{"$f":"IF('2022'!B18=\"\",\"\",'2022'!B18)","v":""},{"$f":"IF('2022'!C18=\"\",\"\",'2022'!C18)","v":""},{"$f":"IF('2022'!D18=\"\",\"\",'2022'!D18)","v":""},"",{"$f":"IF('2022'!L18=\"\",\"\",'2022'!L18+1)","v":""},{"$f":"IF('2022'!M18=\"\",\"\",'2022'!M18)","v":""},{"$f":"IF('2022'!N18=\"\",\"\",'2022'!N18)","v":""},"",{"$f":"IF('2022'!P18=\"\",\"\",'2022'!P18)","v":""},"",null,null,null,"",null,"","","",0,null,null,null," "]
[{"$f":"IF('2022'!A19=\"\",\"\",'2022'!A19)","v":""},{"$f":"IF('2022'!B19=\"\",\"\",'2022'!B19)","v":""},{"$f":"IF('2022'!C19=\"\",\"\",'2022'!C19)","v":""},{"$f":"IF('2022'!D19=\"\",\"\",'2022'!D19)","v":""},"",{"$f":"IF('2022'!L19=\"\",\"\",'2022'!L19+1)","v":""},{"$f":"IF('2022'!M19=\"\",\"\",'2022'!M19)","v":""},{"$f":"IF('2022'!N19=\"\",\"\",'2022'!N19)","v":""},"",{"$f":"IF('2022'!P19=\"\",\"\",'2022'!P19)","v":""},"",null,null,null,"",null,"","","",0]
[{"$f":"IF('2022'!A20=\"\",\"\",'2022'!A20)","v":""},{"$f":"IF('2022'!B20=\"\",\"\",'2022'!B20)","v":""},{"$f":"IF('2022'!C20=\"\",\"\",'2022'!C20)","v":""},{"$f":"IF('2022'!D20=\"\",\"\",'2022'!D20)","v":""},"",{"$f":"IF('2022'!L20=\"\",\"\",'2022'!L20+1)","v":""},{"$f":"IF('2022'!M20=\"\",\"\",'2022'!M20)","v":""},{"$f":"IF('2022'!N20=\"\",\"\",'2022'!N20)","v":""},"",{"$f":"IF('2022'!P20=\"\",\"\",'2022'!P20)","v":""},"",null,null,null,"",null,"","","",0]
[{"$f":"IF('2022'!A21=\"\",\"\",'2022'!A21)","v":""},{"$f":"IF('2022'!B21=\"\",\"\",'2022'!B21)","v":""},{"$f":"IF('2022'!C21=\"\",\"\",'2022'!C21)","v":""},{"$f":"IF('2022'!D21=\"\",\"\",'2022'!D21)","v":""},"",{"$f":"IF('2022'!L21=\"\",\"\",'2022'!L21+1)","v":""},{"$f":"IF('2022'!M21=\"\",\"\",'2022'!M21)","v":""},{"$f":"IF('2022'!N21=\"\",\"\",'2022'!N21)","v":""},"",{"$f":"IF('2022'!P21=\"\",\"\",'2022'!P21)","v":""},"",null,null,null,"",null,"","","",0]
[{"$f":"IF('2022'!A22=\"\",\"\",'2022'!A22)","v":""},{"$f":"IF('2022'!B22=\"\",\"\",'2022'!B22)","v":""},{"$f":"IF('2022'!C22=\"\",\"\",'2022'!C22)","v":""},{"$f":"IF('2022'!D22=\"\",\"\",'2022'!D22)","v":""},"",{"$f":"IF('2022'!L22=\"\",\"\",'2022'!L22+1)","v":""},{"$f":"IF('2022'!M22=\"\",\"\",'2022'!M22)","v":""},{"$f":"IF('2022'!N22=\"\",\"\",'2022'!N22)","v":""},"",{"$f":"IF('2022'!P22=\"\",\"\",'2022'!P22)","v":""},"",null,null,null,"",null,"","","",0]
[{"$f":"IF('2022'!A23=\"\",\"\",'2022'!A23)","v":""},{"$f":"IF('2022'!B23=\"\",\"\",'2022'!B23)","v":""},{"$f":"IF('2022'!C23=\"\",\"\",'2022'!C23)","v":""},{"$f":"IF('2022'!D23=\"\",\"\",'2022'!D23)","v":""},"",{"$f":"IF('2022'!L23=\"\",\"\",'2022'!L23+1)","v":""},{"$f":"IF('2022'!M23=\"\",\"\",'2022'!M23)","v":""},{"$f":"IF('2022'!N23=\"\",\"\",'2022'!N23)","v":""},"",{"$f":"IF('2022'!P23=\"\",\"\",'2022'!P23)","v":""},"",null,null,null,"",null,"","","",0]
[{"$f":"IF('2022'!A24=\"\",\"\",'2022'!A24)","v":""},{"$f":"IF('2022'!B24=\"\",\"\",'2022'!B24)","v":""},{"$f":"IF('2022'!C24=\"\",\"\",'2022'!C24)","v":""},{"$f":"IF('2022'!D24=\"\",\"\",'2022'!D24)","v":""},"",{"$f":"IF('2022'!L24=\"\",\"\",'2022'!L24+1)","v":""},{"$f":"IF('2022'!M24=\"\",\"\",'2022'!M24)","v":""},{"$f":"IF('2022'!N24=\"\",\"\",'2022'!N24)","v":""},"",{"$f":"IF('2022'!P24=\"\",\"\",'2022'!P24)","v":""},"",null,null,null,"",null,"","","",0]
[{"$f":"IF('2022'!A25=\"\",\"\",'2022'!A25)","v":""},{"$f":"IF('2022'!B25=\"\",\"\",'2022'!B25)","v":""},{"$f":"IF('2022'!C25=\"\",\"\",'2022'!C25)","v":""},{"$f":"IF('2022'!D25=\"\",\"\",'2022'!D25)","v":""},"",{"$f":"IF('2022'!L25=\"\",\"\",'2022'!L25+1)","v":""},{"$f":"IF('2022'!M25=\"\",\"\",'2022'!M25)","v":""},{"$f":"IF('2022'!N25=\"\",\"\",'2022'!N25)","v":""},"",{"$f":"IF('2022'!P25=\"\",\"\",'2022'!P25)","v":""},"",null,null,null,"",null,"","","",0]
[{"$f":"IF('2022'!A26=\"\",\"\",'2022'!A26)","v":""},{"$f":"IF('2022'!B26=\"\",\"\",'2022'!B26)","v":""},{"$f":"IF('2022'!C26=\"\",\"\",'2022'!C26)","v":""},{"$f":"IF('2022'!D26=\"\",\"\",'2022'!D26)","v":""},"",{"$f":"IF('2022'!L26=\"\",\"\",'2022'!L26+1)","v":""},{"$f":"IF('2022'!M26=\"\",\"\",'2022'!M26)","v":""},{"$f":"IF('2022'!N26=\"\",\"\",'2022'!N26)","v":""},"",{"$f":"IF('2022'!P26=\"\",\"\",'2022'!P26)","v":""},"",null,null,null,"",null,"","","",0]
["Total",null,null,null,null,null,null,null,{"$f":"IF(SUM(I7:I26)=0,\"\",SUM(I7:I26))","v":""},null,{"$f":"IF(SUM(K7:K26)=0,\"\",SUM(K7:K26))","v":""},null,null,null,{"$f":"IF(SUM(O7:O26)=0,\"\",SUM(O7:O26))","v":""},null,{"$f":"IF(SUM(Q7:Q26)=0,\"\",SUM(Q7:Q26))","v":""},{"$f":"IF(SUM(R7:R26)=0,\"\",SUM(R7:R26))","v":""},{"$f":"IF(SUM(S7:S26)=0,\"\",SUM(S7:S26))","v":""},{"$f":"SUM(T7:T26)","v":0}]