Workbook

Sheet 2024
C1: CEForestier | G1: Entreprise forestière: | P1: Page: | Q1: 1
C2: Tableau des amortissements | P2: Exercice:
I4: mettre un "x" si les amortissements et les intérêts ne doivent pas être calculés | L4: "x" apparaît quand la durée d'utilisation est prolongée
A5: Amortissement | B5: 162 | F5: Date | H5: Amortissement | K5: Valeur | L5: Amortiss. | M5: Intérêts | N5: Amortissement | O5: Intérêts
A6: Intérêts | B6: 163 | C6: EDEX | D6: CCh/CP | E6: Act. | F6: d'achat | H6: durée | I6: dernière | K6: d'achat | L6: calculés | M6: calculés | N6: calculés dans | O6: calculés dans | Q6: Remarques
A7: Description de l'objet | F7: m. | G7: année | I7: année | K7: Fr. | L7: par an | M7: par an | N7: l'exercice | O7: l'exercice
I8: =IF(G8="","",IF(F8>6,G8+H8,G8+H8-1)) | L8: =IF(G8="","",IF(F8<7,R8,CONCATENATE(Y8," / ",Z8))) | M8: =IF(G8="","",IF(F8<7,T8,CONCATENATE(AA8," / ",AB8))) | N8: =IF(G8="","",IF(P8="x",K8/V8,IF(J8="x",0,IF(X8=1,IF(OR($Q$2=G8,$Q$2=I8),S8,R8),R8)))) | O8: =IF(G8="","",IF(P8="x",T8,IF(J8="x",0,IF(X8=1,IF(OR($Q$2=G8,$Q$2=I8),U8,T8),T8)))) | P8: =IF($Q$2<=I8,"",(IF(J8="x","","x"))) | R8: =K8/H8 -> #DIV/0! | S8: =R8/2 -> #DIV/0! | T8: =K8*0.05/2 -> 0 | U8: =T8/2 -> 0 | V8: =$Q$2-G8+1 -> 1 | W8: =IF(F8>6,S8,R8) -> #DIV/0! | X8: =IF(F8>6,1,0) -> 0 | Y8: =ROUND(R8,0) -> #DIV/0! | Z8: =ROUND(S8,0) -> #DIV/0! | AA8: =ROUND(T8,0) -> 0 | AB8: =ROUND(U8,0) -> 0
I9: =IF(G9="","",IF(F9>6,G9+H9,G9+H9-1)) | L9: =IF(G9="","",IF(F9<7,R9,CONCATENATE(Y9," / ",Z9))) | M9: =IF(G9="","",IF(F9<7,T9,CONCATENATE(AA9," / ",AB9))) | N9: =IF(G9="","",IF(P9="x",K9/V9,IF(J9="x",0,IF(X9=1,IF(OR($Q$2=G9,$Q$2=I9),S9,R9),R9)))) | O9: =IF(G9="","",IF(P9="x",T9,IF(J9="x",0,IF(X9=1,IF(OR($Q$2=G9,$Q$2=I9),U9,T9),T9)))) | P9: =IF($Q$2<=I9,"",(IF(J9="x","","x"))) | R9: =K9/H9 -> #DIV/0! | S9: =R9/2 -> #DIV/0! | T9: =K9*0.05/2 -> 0 | U9: =T9/2 -> 0 | V9: =$Q$2-G9+1 -> 1 | W9: =IF(F9>6,S9,R9) -> #DIV/0! | X9: =IF(F9>6,1,0) -> 0 | Y9: =ROUND(R9,0) -> #DIV/0! | Z9: =ROUND(S9,0) -> #DIV/0! | AA9: =ROUND(T9,0) -> 0 | AB9: =ROUND(U9,0) -> 0
I10: =IF(G10="","",IF(F10>6,G10+H10,G10+H10-1)) | L10: =IF(G10="","",IF(F10<7,R10,CONCATENATE(Y10," / ",Z10))) | M10: =IF(G10="","",IF(F10<7,T10,CONCATENATE(AA10," / ",AB10))) | N10: =IF(G10="","",IF(P10="x",K10/V10,IF(J10="x",0,IF(X10=1,IF(OR($Q$2=G10,$Q$2=I10),S10,R10),R10)))) | O10: =IF(G10="","",IF(P10="x",T10,IF(J10="x",0,IF(X10=1,IF(OR($Q$2=G10,$Q$2=I10),U10,T10),T10)))) | P10: =IF($Q$2<=I10,"",(IF(J10="x","","x"))) | R10: =K10/H10 -> #DIV/0! | S10: =R10/2 -> #DIV/0! | T10: =K10*0.05/2 -> 0 | U10: =T10/2 -> 0 | V10: =$Q$2-G10+1 -> 1 | W10: =IF(F10>6,S10,R10) -> #DIV/0! | X10: =IF(F10>6,1,0) -> 0 | Y10: =ROUND(R10,0) -> #DIV/0! | Z10: =ROUND(S10,0) -> #DIV/0! | AA10: =ROUND(T10,0) -> 0 | AB10: =ROUND(U10,0) -> 0
I11: =IF(G11="","",IF(F11>6,G11+H11,G11+H11-1)) | L11: =IF(G11="","",IF(F11<7,R11,CONCATENATE(Y11," / ",Z11))) | M11: =IF(G11="","",IF(F11<7,T11,CONCATENATE(AA11," / ",AB11))) | N11: =IF(G11="","",IF(P11="x",K11/V11,IF(J11="x",0,IF(X11=1,IF(OR($Q$2=G11,$Q$2=I11),S11,R11),R11)))) | O11: =IF(G11="","",IF(P11="x",T11,IF(J11="x",0,IF(X11=1,IF(OR($Q$2=G11,$Q$2=I11),U11,T11),T11)))) | P11: =IF($Q$2<=I11,"",(IF(J11="x","","x"))) | R11: =K11/H11 -> #DIV/0! | S11: =R11/2 -> #DIV/0! | T11: =K11*0.05/2 -> 0 | U11: =T11/2 -> 0 | V11: =$Q$2-G11+1 -> 1 | W11: =IF(F11>6,S11,R11) -> #DIV/0! | X11: =IF(F11>6,1,0) -> 0 | Y11: =ROUND(R11,0) -> #DIV/0! | Z11: =ROUND(S11,0) -> #DIV/0! | AA11: =ROUND(T11,0) -> 0 | AB11: =ROUND(U11,0) -> 0
I12: =IF(G12="","",IF(F12>6,G12+H12,G12+H12-1)) | L12: =IF(G12="","",IF(F12<7,R12,CONCATENATE(Y12," / ",Z12))) | M12: =IF(G12="","",IF(F12<7,T12,CONCATENATE(AA12," / ",AB12))) | N12: =IF(G12="","",IF(P12="x",K12/V12,IF(J12="x",0,IF(X12=1,IF(OR($Q$2=G12,$Q$2=I12),S12,R12),R12)))) | O12: =IF(G12="","",IF(P12="x",T12,IF(J12="x",0,IF(X12=1,IF(OR($Q$2=G12,$Q$2=I12),U12,T12),T12)))) | P12: =IF($Q$2<=I12,"",(IF(J12="x","","x"))) | R12: =K12/H12 -> #DIV/0! | S12: =R12/2 -> #DIV/0! | T12: =K12*0.05/2 -> 0 | U12: =T12/2 -> 0 | V12: =$Q$2-G12+1 -> 1 | W12: =IF(F12>6,S12,R12) -> #DIV/0! | X12: =IF(F12>6,1,0) -> 0 | Y12: =ROUND(R12,0) -> #DIV/0! | Z12: =ROUND(S12,0) -> #DIV/0! | AA12: =ROUND(T12,0) -> 0 | AB12: =ROUND(U12,0) -> 0
I13: =IF(G13="","",IF(F13>6,G13+H13,G13+H13-1)) | L13: =IF(G13="","",IF(F13<7,R13,CONCATENATE(Y13," / ",Z13))) | M13: =IF(G13="","",IF(F13<7,T13,CONCATENATE(AA13," / ",AB13))) | N13: =IF(G13="","",IF(P13="x",K13/V13,IF(J13="x",0,IF(X13=1,IF(OR($Q$2=G13,$Q$2=I13),S13,R13),R13)))) | O13: =IF(G13="","",IF(P13="x",T13,IF(J13="x",0,IF(X13=1,IF(OR($Q$2=G13,$Q$2=I13),U13,T13),T13)))) | P13: =IF($Q$2<=I13,"",(IF(J13="x","","x"))) | R13: =K13/H13 -> #DIV/0! | S13: =R13/2 -> #DIV/0! | T13: =K13*0.05/2 -> 0 | U13: =T13/2 -> 0 | V13: =$Q$2-G13+1 -> 1 | W13: =IF(F13>6,S13,R13) -> #DIV/0! | X13: =IF(F13>6,1,0) -> 0 | Y13: =ROUND(R13,0) -> #DIV/0! | Z13: =ROUND(S13,0) -> #DIV/0! | AA13: =ROUND(T13,0) -> 0 | AB13: =ROUND(U13,0) -> 0
I14: =IF(G14="","",IF(F14>6,G14+H14,G14+H14-1)) | L14: =IF(G14="","",IF(F14<7,R14,CONCATENATE(Y14," / ",Z14))) | M14: =IF(G14="","",IF(F14<7,T14,CONCATENATE(AA14," / ",AB14))) | N14: =IF(G14="","",IF(P14="x",K14/V14,IF(J14="x",0,IF(X14=1,IF(OR($Q$2=G14,$Q$2=I14),S14,R14),R14)))) | O14: =IF(G14="","",IF(P14="x",T14,IF(J14="x",0,IF(X14=1,IF(OR($Q$2=G14,$Q$2=I14),U14,T14),T14)))) | P14: =IF($Q$2<=I14,"",(IF(J14="x","","x"))) | R14: =K14/H14 -> #DIV/0! | S14: =R14/2 -> #DIV/0! | T14: =K14*0.05/2 -> 0 | U14: =T14/2 -> 0 | V14: =$Q$2-G14+1 -> 1 | W14: =IF(F14>6,S14,R14) -> #DIV/0! | X14: =IF(F14>6,1,0) -> 0 | Y14: =ROUND(R14,0) -> #DIV/0! | Z14: =ROUND(S14,0) -> #DIV/0! | AA14: =ROUND(T14,0) -> 0 | AB14: =ROUND(U14,0) -> 0
I15: =IF(G15="","",IF(F15>6,G15+H15,G15+H15-1)) | L15: =IF(G15="","",IF(F15<7,R15,CONCATENATE(Y15," / ",Z15))) | M15: =IF(G15="","",IF(F15<7,T15,CONCATENATE(AA15," / ",AB15))) | N15: =IF(G15="","",IF(P15="x",K15/V15,IF(J15="x",0,IF(X15=1,IF(OR($Q$2=G15,$Q$2=I15),S15,R15),R15)))) | O15: =IF(G15="","",IF(P15="x",T15,IF(J15="x",0,IF(X15=1,IF(OR($Q$2=G15,$Q$2=I15),U15,T15),T15)))) | P15: =IF($Q$2<=I15,"",(IF(J15="x","","x"))) | R15: =K15/H15 -> #DIV/0! | S15: =R15/2 -> #DIV/0! | T15: =K15*0.05/2 -> 0 | U15: =T15/2 -> 0 | V15: =$Q$2-G15+1 -> 1 | W15: =IF(F15>6,S15,R15) -> #DIV/0! | X15: =IF(F15>6,1,0) -> 0 | Y15: =ROUND(R15,0) -> #DIV/0! | Z15: =ROUND(S15,0) -> #DIV/0! | AA15: =ROUND(T15,0) -> 0 | AB15: =ROUND(U15,0) -> 0
I16: =IF(G16="","",IF(F16>6,G16+H16,G16+H16-1)) | L16: =IF(G16="","",IF(F16<7,R16,CONCATENATE(Y16," / ",Z16))) | M16: =IF(G16="","",IF(F16<7,T16,CONCATENATE(AA16," / ",AB16))) | N16: =IF(G16="","",IF(P16="x",K16/V16,IF(J16="x",0,IF(X16=1,IF(OR($Q$2=G16,$Q$2=I16),S16,R16),R16)))) | O16: =IF(G16="","",IF(P16="x",T16,IF(J16="x",0,IF(X16=1,IF(OR($Q$2=G16,$Q$2=I16),U16,T16),T16)))) | P16: =IF($Q$2<=I16,"",(IF(J16="x","","x"))) | R16: =K16/H16 -> #DIV/0! | S16: =R16/2 -> #DIV/0! | T16: =K16*0.05/2 -> 0 | U16: =T16/2 -> 0 | V16: =$Q$2-G16+1 -> 1 | W16: =IF(F16>6,S16,R16) -> #DIV/0! | X16: =IF(F16>6,1,0) -> 0 | Y16: =ROUND(R16,0) -> #DIV/0! | Z16: =ROUND(S16,0) -> #DIV/0! | AA16: =ROUND(T16,0) -> 0 | AB16: =ROUND(U16,0) -> 0
I17: =IF(G17="","",IF(F17>6,G17+H17,G17+H17-1)) | L17: =IF(G17="","",IF(F17<7,R17,CONCATENATE(Y17," / ",Z17))) | M17: =IF(G17="","",IF(F17<7,T17,CONCATENATE(AA17," / ",AB17))) | N17: =IF(G17="","",IF(P17="x",K17/V17,IF(J17="x",0,IF(X17=1,IF(OR($Q$2=G17,$Q$2=I17),S17,R17),R17)))) | O17: =IF(G17="","",IF(P17="x",T17,IF(J17="x",0,IF(X17=1,IF(OR($Q$2=G17,$Q$2=I17),U17,T17),T17)))) | P17: =IF($Q$2<=I17,"",(IF(J17="x","","x"))) | R17: =K17/H17 -> #DIV/0! | S17: =R17/2 -> #DIV/0! | T17: =K17*0.05/2 -> 0 | U17: =T17/2 -> 0 | V17: =$Q$2-G17+1 -> 1 | W17: =IF(F17>6,S17,R17) -> #DIV/0! | X17: =IF(F17>6,1,0) -> 0 | Y17: =ROUND(R17,0) -> #DIV/0! | Z17: =ROUND(S17,0) -> #DIV/0! | AA17: =ROUND(T17,0) -> 0 | AB17: =ROUND(U17,0) -> 0
I18: =IF(G18="","",IF(F18>6,G18+H18,G18+H18-1)) | L18: =IF(G18="","",IF(F18<7,R18,CONCATENATE(Y18," / ",Z18))) | M18: =IF(G18="","",IF(F18<7,T18,CONCATENATE(AA18," / ",AB18))) | N18: =IF(G18="","",IF(P18="x",K18/V18,IF(J18="x",0,IF(X18=1,IF(OR($Q$2=G18,$Q$2=I18),S18,R18),R18)))) | O18: =IF(G18="","",IF(P18="x",T18,IF(J18="x",0,IF(X18=1,IF(OR($Q$2=G18,$Q$2=I18),U18,T18),T18)))) | P18: =IF($Q$2<=I18,"",(IF(J18="x","","x"))) | R18: =K18/H18 -> #DIV/0! | S18: =R18/2 -> #DIV/0! | T18: =K18*0.05/2 -> 0 | U18: =T18/2 -> 0 | V18: =$Q$2-G18+1 -> 1 | W18: =IF(F18>6,S18,R18) -> #DIV/0! | X18: =IF(F18>6,1,0) -> 0 | Y18: =ROUND(R18,0) -> #DIV/0! | Z18: =ROUND(S18,0) -> #DIV/0! | AA18: =ROUND(T18,0) -> 0 | AB18: =ROUND(U18,0) -> 0
I19: =IF(G19="","",IF(F19>6,G19+H19,G19+H19-1)) | L19: =IF(G19="","",IF(F19<7,R19,CONCATENATE(Y19," / ",Z19))) | M19: =IF(G19="","",IF(F19<7,T19,CONCATENATE(AA19," / ",AB19))) | N19: =IF(G19="","",IF(P19="x",K19/V19,IF(J19="x",0,IF(X19=1,IF(OR($Q$2=G19,$Q$2=I19),S19,R19),R19)))) | O19: =IF(G19="","",IF(P19="x",T19,IF(J19="x",0,IF(X19=1,IF(OR($Q$2=G19,$Q$2=I19),U19,T19),T19)))) | P19: =IF($Q$2<=I19,"",(IF(J19="x","","x"))) | R19: =K19/H19 -> #DIV/0! | S19: =R19/2 -> #DIV/0! | T19: =K19*0.05/2 -> 0 | U19: =T19/2 -> 0 | V19: =$Q$2-G19+1 -> 1 | W19: =IF(F19>6,S19,R19) -> #DIV/0! | X19: =IF(F19>6,1,0) -> 0 | Y19: =ROUND(R19,0) -> #DIV/0! | Z19: =ROUND(S19,0) -> #DIV/0! | AA19: =ROUND(T19,0) -> 0 | AB19: =ROUND(U19,0) -> 0
... I29: =IF(G29="","",IF(F29>6,G29+H29,G29+H29-1)) | L29: =IF(G29="","",IF(F29<7,R29,CONCATENATE(Y29," / ",Z29))) | M29: =IF(G29="","",IF(F29<7,T29,CONCATENATE(AA29," / ",AB29))) | N29: =IF(G29="","",IF(P29="x",K29/V29,IF(J29="x",0,IF(X29=1,IF(OR($Q$2=G29,$Q$2=I29),S29,R29),R29)))) | O29: =IF(G29="","",IF(P29="x",T29,IF(J29="x",0,IF(X29=1,IF(OR($Q$2=G29,$Q$2=I29),U29,T29),T29)))) | P29: =IF($Q$2<=I29,"",(IF(J29="x","","x"))) | R29: =K29/H29 -> #DIV/0! | S29: =R29/2 -> #DIV/0! | T29: =K29*0.05/2 -> 0 | U29: =T29/2 -> 0 | V29: =$Q$2-G29+1 -> 1 | W29: =IF(F29>6,S29,R29) -> #DIV/0! | X29: =IF(F29>6,1,0) -> 0 | Y29: =ROUND(R29,0) -> #DIV/0! | Z29: =ROUND(S29,0) -> #DIV/0! | AA29: =ROUND(T29,0) -> 0 | AB29: =ROUND(U29,0) -> 0
J30: =SUM(K8:K29) -> 0 | N30: =SUM(N8:N29) -> 0 | O30: =SUM(O8:O29) -> 0

Sheet Export CEF
A1: Linie | B1: Datum | C1: Beleg | D1: Konto | E1: D/C | F1: Text1 | G1: Betrag | H1: NBTID | I1: SchlagID | J1: KTID | K1: KEA | L1: NBSTID | M1: EG | N1: Menge | O1: Einheit
A2: 1 | B2: 2 | C2: 3 | D2: 4 | E2: 5 | F2: 6 | G2: 7 | H2: 8 | I2: 9 | J2: 10 | K2: 11 | L2: 12 | M2: 13 | N2: 14 | O2: 15
A3: =ROW() -> 3 | B3: ="31.12."&'2024'!$Q$2 -> 31.12. | D3: Selon tab amor | F3: ='2024'!$N$5&'2024'!A8 -> Amortissement | G3: ='2024'!$N8 | H3: ='2024'!$C8 -> 0 | I3: - | J3: ='2024'!$D8 -> 0 | K3: ='2024'!$B$5 -> 162 | L3: ='2024'!$E8 -> 0
A4: =ROW() -> 4 | B4: ="31.12."&'2024'!$Q$2 -> 31.12. | D4: Selon tab amor | F4: ='2024'!$O$5&'2024'!A8 -> Intérêts | G4: ='2024'!$O8 | H4: ='2024'!$C8 -> 0 | I4: - | J4: ='2024'!$D8 -> 0 | K4: ='2024'!$B$6 -> 163 | L4: ='2024'!$E8 -> 0
A5: =ROW() -> 5 | B5: ="31.12."&'2024'!$Q$2 -> 31.12. | D5: Selon tab amor | F5: ='2024'!$N$5&'2024'!A9 -> Amortissement | G5: ='2024'!$N9 | H5: ='2024'!$C9 -> 0 | I5: - | J5: ='2024'!$D9 -> 0 | K5: ='2024'!$B$5 -> 162 | L5: ='2024'!$E9 -> 0
A6: =ROW() -> 6 | B6: ="31.12."&'2024'!$Q$2 -> 31.12. | D6: Selon tab amor | F6: ='2024'!$O$5&'2024'!A9 -> Intérêts | G6: ='2024'!$O9 | H6: ='2024'!$C9 -> 0 | I6: - | J6: ='2024'!$D9 -> 0 | K6: ='2024'!$B$6 -> 163 | L6: ='2024'!$E9 -> 0
A7: =ROW() -> 7 | B7: ="31.12."&'2024'!$Q$2 -> 31.12. | D7: Selon tab amor | F7: ='2024'!$N$5&'2024'!A10 -> Amortissement | G7: ='2024'!$N10 | H7: ='2024'!$C10 -> 0 | I7: - | J7: ='2024'!$D10 -> 0 | K7: ='2024'!$B$5 -> 162 | L7: ='2024'!$E10 -> 0
A8: =ROW() -> 8 | B8: ="31.12."&'2024'!$Q$2 -> 31.12. | D8: Selon tab amor | F8: ='2024'!$O$5&'2024'!A10 -> Intérêts | G8: ='2024'!$O10 | H8: ='2024'!$C10 -> 0 | I8: - | J8: ='2024'!$D10 -> 0 | K8: ='2024'!$B$6 -> 163 | L8: ='2024'!$E10 -> 0
A9: =ROW() -> 9 | B9: ="31.12."&'2024'!$Q$2 -> 31.12. | D9: Selon tab amor | F9: ='2024'!$N$5&'2024'!A11 -> Amortissement | G9: ='2024'!$N11 | H9: ='2024'!$C11 -> 0 | I9: - | J9: ='2024'!$D11 -> 0 | K9: ='2024'!$B$5 -> 162 | L9: ='2024'!$E11 -> 0
A10: =ROW() -> 10 | B10: ="31.12."&'2024'!$Q$2 -> 31.12. | D10: Selon tab amor | F10: ='2024'!$O$5&'2024'!A11 -> Intérêts | G10: ='2024'!$O11 | H10: ='2024'!$C11 -> 0 | I10: - | J10: ='2024'!$D11 -> 0 | K10: ='2024'!$B$6 -> 163 | L10: ='2024'!$E11 -> 0
A11: =ROW() -> 11 | B11: ="31.12."&'2024'!$Q$2 -> 31.12. | D11: Selon tab amor | F11: ='2024'!$N$5&'2024'!A12 -> Amortissement | G11: ='2024'!$N12 | H11: ='2024'!$C12 -> 0 | I11: - | J11: ='2024'!$D12 -> 0 | K11: ='2024'!$B$5 -> 162 | L11: ='2024'!$E12 -> 0
A12: =ROW() -> 12 | B12: ="31.12."&'2024'!$Q$2 -> 31.12. | D12: Selon tab amor | F12: ='2024'!$O$5&'2024'!A12 -> Intérêts | G12: ='2024'!$O12 | H12: ='2024'!$C12 -> 0 | I12: - | J12: ='2024'!$D12 -> 0 | K12: ='2024'!$B$6 -> 163 | L12: ='2024'!$E12 -> 0
A13: =ROW() -> 13 | B13: ="31.12."&'2024'!$Q$2 -> 31.12. | D13: Selon tab amor | F13: ='2024'!$N$5&'2024'!A13 -> Amortissement | G13: ='2024'!$N13 | H13: ='2024'!$C13 -> 0 | I13: - | J13: ='2024'!$D13 -> 0 | K13: ='2024'!$B$5 -> 162 | L13: ='2024'!$E13 -> 0
A14: =ROW() -> 14 | B14: ="31.12."&'2024'!$Q$2 -> 31.12. | D14: Selon tab amor | F14: ='2024'!$O$5&'2024'!A13 -> Intérêts | G14: ='2024'!$O13 | H14: ='2024'!$C13 -> 0 | I14: - | J14: ='2024'!$D13 -> 0 | K14: ='2024'!$B$6 -> 163 | L14: ='2024'!$E13 -> 0
A15: =ROW() -> 15 | B15: ="31.12."&'2024'!$Q$2 -> 31.12. | D15: Selon tab amor | F15: ='2024'!$N$5&'2024'!A14 -> Amortissement | G15: ='2024'!$N14 | H15: ='2024'!$C14 -> 0 | I15: - | J15: ='2024'!$D14 -> 0 | K15: ='2024'!$B$5 -> 162 | L15: ='2024'!$E14 -> 0
A16: =ROW() -> 16 | B16: ="31.12."&'2024'!$Q$2 -> 31.12. | D16: Selon tab amor | F16: ='2024'!$O$5&'2024'!A14 -> Intérêts | G16: ='2024'!$O14 | H16: ='2024'!$C14 -> 0 | I16: - | J16: ='2024'!$D14 -> 0 | K16: ='2024'!$B$6 -> 163 | L16: ='2024'!$E14 -> 0
A17: =ROW() -> 17 | B17: ="31.12."&'2024'!$Q$2 -> 31.12. | D17: Selon tab amor | F17: ='2024'!$N$5&'2024'!A15 -> Amortissement | G17: ='2024'!$N15 | H17: ='2024'!$C15 -> 0 | I17: - | J17: ='2024'!$D15 -> 0 | K17: ='2024'!$B$5 -> 162 | L17: ='2024'!$E115 -> 0
A18: =ROW() -> 18 | B18: ="31.12."&'2024'!$Q$2 -> 31.12. | D18: Selon tab amor | F18: ='2024'!$O$5&'2024'!A15 -> Intérêts | G18: ='2024'!$O15 | H18: ='2024'!$C15 -> 0 | I18: - | J18: ='2024'!$D15 -> 0 | K18: ='2024'!$B$6 -> 163 | L18: ='2024'!$E15 -> 0
A19: =ROW() -> 19 | B19: ="31.12."&'2024'!$Q$2 -> 31.12. | D19: Selon tab amor | F19: ='2024'!$N$5&'2024'!A16 -> Amortissement | G19: ='2024'!$N16 | H19: ='2024'!$C16 -> 0 | I19: - | J19: ='2024'!$D16 -> 0 | K19: ='2024'!$B$5 -> 162 | L19: ='2024'!$E16 -> 0
A20: =ROW() -> 20 | B20: ="31.12."&'2024'!$Q$2 -> 31.12. | D20: Selon tab amor | F20: ='2024'!$O$5&'2024'!A16 -> Intérêts | G20: ='2024'!$O16 | H20: ='2024'!$C16 -> 0 | I20: - | J20: ='2024'!$D16 -> 0 | K20: ='2024'!$B$6 -> 163 | L20: ='2024'!$E16 -> 0
A21: =ROW() -> 21 | B21: ="31.12."&'2024'!$Q$2 -> 31.12. | D21: Selon tab amor | F21: ='2024'!$N$5&'2024'!A17 -> Amortissement | G21: ='2024'!$N17 | H21: ='2024'!$C17 -> 0 | I21: - | J21: ='2024'!$D17 -> 0 | K21: ='2024'!$B$5 -> 162 | L21: ='2024'!$E17 -> 0
A22: =ROW() -> 22 | B22: ="31.12."&'2024'!$Q$2 -> 31.12. | D22: Selon tab amor | F22: ='2024'!$O$5&'2024'!A17 -> Intérêts | G22: ='2024'!$O17 | H22: ='2024'!$C17 -> 0 | I22: - | J22: ='2024'!$D17 -> 0 | K22: ='2024'!$B$6 -> 163 | L22: ='2024'!$E17 -> 0
A23: =ROW() -> 23 | B23: ="31.12."&'2024'!$Q$2 -> 31.12. | D23: Selon tab amor | F23: ='2024'!$N$5&'2024'!A18 -> Amortissement | G23: ='2024'!$N18 | H23: ='2024'!$C18 -> 0 | I23: - | J23: ='2024'!$D18 -> 0 | K23: ='2024'!$B$5 -> 162 | L23: ='2024'!$E18 -> 0
A24: =ROW() -> 24 | B24: ="31.12."&'2024'!$Q$2 -> 31.12. | D24: Selon tab amor | F24: ='2024'!$O$5&'2024'!A18 -> Intérêts | G24: ='2024'!$O18 | H24: ='2024'!$C18 -> 0 | I24: - | J24: ='2024'!$D18 -> 0 | K24: ='2024'!$B$6 -> 163 | L24: ='2024'!$E18 -> 0
A25: =ROW() -> 25 | B25: ="31.12."&'2024'!$Q$2 -> 31.12. | D25: Selon tab amor | F25: ='2024'!$N$5&'2024'!A19 -> Amortissement | G25: ='2024'!$N19 | H25: ='2024'!$C19 -> 0 | I25: - | J25: ='2024'!$D19 -> 0 | K25: ='2024'!$B$5 -> 162 | L25: ='2024'!$E19 -> 0
A26: =ROW() -> 26 | B26: ="31.12."&'2024'!$Q$2 -> 31.12. | D26: Selon tab amor | F26: ='2024'!$O$5&'2024'!A19 -> Intérêts | G26: ='2024'!$O19 | H26: ='2024'!$C19 -> 0 | I26: - | J26: ='2024'!$D19 -> 0 | K26: ='2024'!$B$6 -> 163 | L26: ='2024'!$E19 -> 0
A27: =ROW() -> 27 | B27: ="31.12."&'2024'!$Q$2 -> 31.12. | D27: Selon tab amor | F27: ='2024'!$N$5&'2024'!A20 -> Amortissement | G27: ='2024'!$N20 | H27: ='2024'!$C20 -> 0 | I27: - | J27: ='2024'!$D20 -> 0 | K27: ='2024'!$B$5 -> 162 | L27: ='2024'!$E20 -> 0
A28: =ROW() -> 28 | B28: ="31.12."&'2024'!$Q$2 -> 31.12. | D28: Selon tab amor | F28: ='2024'!$O$5&'2024'!A20 -> Intérêts | G28: ='2024'!$O20 | H28: ='2024'!$C20 -> 0 | I28: - | J28: ='2024'!$D20 -> 0 | K28: ='2024'!$B$6 -> 163 | L28: ='2024'!$E20 -> 0
B29: ="31.12."&'2024'!$Q$2 -> 31.12. | D29: Selon tab amor | F29: ='2024'!$N$5&'2024'!A21 -> Amortissement | G29: ='2024'!$N21 | H29: ='2024'!$C21 -> 0 | I29: - | J29: ='2024'!$D21 -> 0 | K29: ='2024'!$B$5 -> 162 | L29: ='2024'!$E21 -> 0
B30: ="31.12."&'2024'!$Q$2 -> 31.12. | D30: Selon tab amor | F30: ='2024'!$O$5&'2024'!A21 -> Intérêts | G30: ='2024'!$O21 | H30: ='2024'!$C21 -> 0 | I30: - | J30: ='2024'!$D21 -> 0 | K30: ='2024'!$B$6 -> 163 | L30: ='2024'!$E21 -> 0
B31: ="31.12."&'2024'!$Q$2 -> 31.12. | D31: Selon tab amor | F31: ='2024'!$N$5&'2024'!A22 -> Amortissement | G31: ='2024'!$N22 | H31: ='2024'!$C22 -> 0 | I31: - | J31: ='2024'!$D22 -> 0 | K31: ='2024'!$B$5 -> 162 | L31: ='2024'!$E22 -> 0
B32: ="31.12."&'2024'!$Q$2 -> 31.12. | D32: Selon tab amor | F32: ='2024'!$O$5&'2024'!A22 -> Intérêts | G32: ='2024'!$O22 | H32: ='2024'!$C22 -> 0 | I32: - | J32: ='2024'!$D22 -> 0 | K32: ='2024'!$B$6 -> 163 | L32: ='2024'!$E22 -> 0
B33: ="31.12."&'2024'!$Q$2 -> 31.12. | D33: Selon tab amor | F33: ='2024'!$N$5&'2024'!A23 -> Amortissement | G33: ='2024'!$N23 | H33: ='2024'!$C23 -> 0 | I33: - | J33: ='2024'!$D23 -> 0 | K33: ='2024'!$B$5 -> 162 | L33: ='2024'!$E23 -> 0
B34: ="31.12."&'2024'!$Q$2 -> 31.12. | D34: Selon tab amor | F34: ='2024'!$O$5&'2024'!A23 -> Intérêts | G34: ='2024'!$O23 | H34: ='2024'!$C23 -> 0 | I34: - | J34: ='2024'!$D23 -> 0 | K34: ='2024'!$B$6 -> 163 | L34: ='2024'!$E23 -> 0
B35: ="31.12."&'2024'!$Q$2 -> 31.12. | D35: Selon tab amor | F35: ='2024'!$N$5&'2024'!A24 -> Amortissement | G35: ='2024'!$N24 | H35: ='2024'!$C24 -> 0 | I35: - | J35: ='2024'!$D24 -> 0 | K35: ='2024'!$B$5 -> 162 | L35: ='2024'!$E24 -> 0
B36: ="31.12."&'2024'!$Q$2 -> 31.12. | D36: Selon tab amor | F36: ='2024'!$O$5&'2024'!A24 -> Intérêts | G36: ='2024'!$O24 | H36: ='2024'!$C24 -> 0 | I36: - | J36: ='2024'!$D24 -> 0 | K36: ='2024'!$B$6 -> 163 | L36: ='2024'!$E24 -> 0
B37: ="31.12."&'2024'!$Q$2 -> 31.12. | D37: Selon tab amor | F37: ='2024'!$N$5&'2024'!A25 -> Amortissement | G37: ='2024'!$N25 | H37: ='2024'!$C25 -> 0 | I37: - | J37: ='2024'!$D25 -> 0 | K37: ='2024'!$B$5 -> 162 | L37: ='2024'!$E25 -> 0
B38: ="31.12."&'2024'!$Q$2 -> 31.12. | D38: Selon tab amor | F38: ='2024'!$O$5&'2024'!A25 -> Intérêts | G38: ='2024'!$O25 | H38: ='2024'!$C25 -> 0 | I38: - | J38: ='2024'!$D25 -> 0 | K38: ='2024'!$B$6 -> 163 | L38: ='2024'!$E25 -> 0
B39: ="31.12."&'2024'!$Q$2 -> 31.12. | D39: Selon tab amor | F39: ='2024'!$N$5&'2024'!A26 -> Amortissement | G39: ='2024'!$N26 | H39: ='2024'!$C26 -> 0 | I39: - | J39: ='2024'!$D26 -> 0 | K39: ='2024'!$B$5 -> 162 | L39: ='2024'!$E26 -> 0
B40: ="31.12."&'2024'!$Q$2 -> 31.12. | D40: Selon tab amor | F40: ='2024'!$O$5&'2024'!A26 -> Intérêts | G40: ='2024'!$O26 | H40: ='2024'!$C26 -> 0 | I40: - | J40: ='2024'!$D26 -> 0 | K40: ='2024'!$B$6 -> 163 | L40: ='2024'!$E26 -> 0
B41: ="31.12."&'2024'!$Q$2 -> 31.12. | D41: Selon tab amor | F41: ='2024'!$N$5&'2024'!A27 -> Amortissement | G41: ='2024'!$N27 | H41: ='2024'!$C27 -> 0 | I41: - | J41: ='2024'!$D27 -> 0 | K41: ='2024'!$B$5 -> 162 | L41: ='2024'!$E27 -> 0
B42: ="31.12."&'2024'!$Q$2 -> 31.12. | D42: Selon tab amor | F42: ='2024'!$O$5&'2024'!A27 -> Intérêts | G42: ='2024'!$O27 | H42: ='2024'!$C27 -> 0 | I42: - | J42: ='2024'!$D27 -> 0 | K42: ='2024'!$B$6 -> 163 | L42: ='2024'!$E27 -> 0

Sheet Feuil2

Sheet Feuil3
