Workbook

Sheet Données de base
C1: CEForestier | P1: Type de forêt
H2: Entreprise forestière: | P2: 501
C3: Tableau des ventes de bois | P3: 502
H4: Exercice: | P4: 503
P5: 504
A6: Propriétaire (EDEX)
A7: 1
A8: 2 | P8: Unité
A9: 3 | P9: m3p
A10: 4 | P10: m3v
A11: 5 | P11: m3a
A12: 6 | P12: st
A13: 7 | P13: sv
A14: 8 | P14: pc
A15: 9 | P15: autre
A16: 10 | P16: -
A18: Usages suisses du commerce du bois brut
A20: Mesure | B20: Unités et notions
A22: Grandeur | D22: Unité | E22: Utilisation
A23: Volume plein, volume réel | D23: m3p | E23: Bois rond, conversion d'autres unités
A24: Volume en vrac | D24: m3v | E24: Matériau en vrac plaquette, copeaux, sciure, écorce, etc.)
A25: Volume apparent, volume d'encombrement | D25: m3a | E25: Bois empilé, rond ou fendu; dosses/délignures en vrac ou en fagots
A26: Stère | D26: st | E26: Bois de feu fendu
A27: Sylve | D27: sv | E27: Bois sur pied
A28: Pièce | D28: pc | E28: Piquet ou autres
A29: Autre | D29: autre | E29: autre
A31: Facteurs de conversion
A33: du volume réel au poids à la livraison
A34: 1 | B34: m3p é. | C34: épicéa/sapin | D34: = | E34: 0.9 | F34: t lutro n. é.
A35: 1 | B35: m3p é. | C35: hêtre | D35: = | E35: 1.1 | F35: t lutro n. é.
A36: 1 | B36: m3p é. | C36: chêne | D36: = | E36: 1.1 | F36: t lutro n. é.
A37: du volume réel au volume d'encombrement
A38: 1 | B38: m3p n. é. | D38: = | E38: 1.4 | F38: m3a n. é. rondins
A39: 1 | B39: m3p é. | D39: = | E39: 1.56 | F39: m3a n. é. rondins
A40: du volume plein au volume en vrac
A41: 1 | B41: m3p n. é. | D41: = | E41: 2.8 | F41: m3v n. é. plaquettes forestières
A42: 1 | B42: m3p é. | D42: = | E42: 2.8 | F42: m3v é. plaquettes forestières
A43: 1 | B43: m3p n. é. | D43: = | E43: 2.8 | F43: m3v é. plaquettes de scierie
A44: 1 | B44: m3p é. | D44: = | E44: 3 | F44: m3v é. copeaux de scierie/sciure
A45: 1 | B45: m3p é. | D45: = | E45: 5 | F45: m3v é. copeaux de raboteries
...

Sheet Ventes
C1: Propriétaire | D1: 1
C2: Type de forêt | D2: 501 | I2: 503 | N2: 502 | S2: 504
A3: Ventes à des tiers à port de camion (Grp produits 300) | B3: N° CF | C3: Genres de | D3: Valeur | E3: Quantité | F3: Unité | G3: Quantité | H3: m3p | I3: Valeur | J3: Quantité | K3: Unité | L3: Quantité | M3: m3p | N3: Valeur | O3: Quantité | P3: Unité | Q3: Quantité | R3: m3p | S3: Valeur | T3: Quantité | U3: Unité | V3: Quantité | W3: m3p | X3: Remarque
C4: produits | D4: Frs | I4: Frs | N4: Frs | O4: m3 | S4: Frs
A5: Grumes résineuses | C5: 200 | F5: m3p | G5: =E5 -> 0 | H5: m3p | K5: m3p | L5: =J5 -> 0 | M5: m3p | P5: m3p | Q5: =O5 -> 0 | R5: m3p | U5: m3p | V5: =T5 -> 0 | W5: m3p
A6: Grumes feuillues | C6: 205 | F6: m3p | G6: =E6 -> 0 | H6: m3p | K6: m3p | L6: =J6 -> 0 | M6: m3p | P6: m3p | Q6: =O6 -> 0 | R6: m3p | U6: m3p | V6: =T6 -> 0 | W6: m3p
A7: Bois d'industrie résineux | C7: 201 | F7: m3p | G7: =E7 -> 0 | H7: m3p | K7: m3p | L7: =J7 -> 0 | M7: m3p | P7: m3p | Q7: =O7 -> 0 | R7: m3p | U7: m3p | V7: =T7 -> 0 | W7: m3p
A8: Bois d'industrie feuillus | C8: 206 | F8: m3p | G8: =E8 -> 0 | H8: m3p | K8: m3p | L8: =J8 -> 0 | M8: m3p | P8: m3p | Q8: =O8 -> 0 | R8: m3p | U8: m3p | V8: =T8 -> 0 | W8: m3p
A9: Bois d'énergie résineux pour bois de feu | C9: 202 | F9: m3p | G9: =E9 -> 0 | H9: m3p | K9: m3p | L9: =J9 -> 0 | M9: m3p | P9: m3p | Q9: =O9 -> 0 | R9: m3p | U9: m3p | V9: =T9 -> 0 | W9: m3p
A10: Bois d'énergie feuillus pour bois de feu | C10: 207 | F10: m3p | G10: =E10 -> 0 | H10: m3p | K10: m3p | L10: =J10 -> 0 | M10: m3p | P10: m3p | Q10: =O10 -> 0 | R10: m3p | U10: m3p | V10: =T10 -> 0 | W10: m3p
A11: Bois d'énergie résineux pour déchiquetage | C11: 203 | D11: 30000 | E11: 12000 | F11: m3p | G11: =E11 -> 12000 | H11: m3p | K11: m3p | L11: =J11 -> 0 | M11: m3p | P11: m3p | Q11: =O11 -> 0 | R11: m3p | U11: m3p | V11: =T11 -> 0 | W11: m3p
A12: Bois d'énergie feuillu pour déchiquetage | C12: 208 | F12: m3p | G12: =E12 -> 0 | H12: m3p | K12: m3p | L12: =J12 -> 0 | M12: m3p | P12: m3p | Q12: =O12 -> 0 | R12: m3p | U12: m3p | V12: =T12 -> 0 | W12: m3p
A13: Autres assortiments de bois résineux | C13: 204 | F13: m3p | G13: =E13 -> 0 | H13: m3p | K13: m3p | L13: =J13 -> 0 | M13: m3p | P13: m3p | Q13: =O13 -> 0 | R13: m3p | U13: m3p | V13: =T13 -> 0 | W13: m3p
A14: Autres assortiments de bois feuillus | C14: 209 | F14: m3p | G14: =E14 -> 0 | H14: m3p | K14: m3p | L14: =J14 -> 0 | M14: m3p | P14: m3p | Q14: =O14 -> 0 | R14: m3p | U14: m3p | V14: =T14 -> 0 | W14: m3p
A15: Total des ventes à port de camion | D15: =SUM(D5:D14) -> 30000 | E15: =SUM(E5:E14) -> 12000 | G15: =SUM(G5:G14) -> 12000 | H15: m3p | I15: =SUM(I5:I14) -> 0 | J15: =SUM(J5:J14) -> 0 | L15: =SUM(L5:L14) -> 0 | M15: m3p | N15: =SUM(N5:N14) -> 0 | O15: =SUM(O5:O14) -> 0 | Q15: =SUM(Q5:Q14) -> 0 | R15: m3p | S15: =SUM(S5:S14) -> 0 | T15: =SUM(T5:T14) -> 0 | V15: =SUM(V5:V14) -> 0 | W15: m3p
A17: Ventes sur pied (Grp produits 320) | C17: Genres de | D17: Valeur | E17: Quantité | F17: Unité | G17: Quantité | H17: m3p | I17: Valeur | J17: Quantité | K17: Unité | L17: Quantité | M17: m3p | N17: Valeur | O17: Quantité | P17: Unité | Q17: Quantité | R17: m3p | S17: Valeur | T17: Quantité | U17: Unité | V17: Quantité | W17: m3p | X17: Remarque
C18: produits | D18: Frs | I18: Frs | N18: Frs | S18: Frs
A19: Grumes résineuses | C19: 200 | F19: sv | G19: =E19*1 -> 0 | H19: m3p | K19: sv | L19: =J19*1 -> 0 | M19: m3p | P19: sv | Q19: =O19*1 -> 0 | R19: m3p | U19: sv | V19: =T19*1 -> 0 | W19: m3p
A20: Grumes feuillues | C20: 205 | F20: sv | G20: =E20*1 -> 0 | H20: m3p | K20: sv | L20: =J20*1 -> 0 | M20: m3p | P20: sv | Q20: =O20*1 -> 0 | R20: m3p | U20: sv | V20: =T20*1 -> 0 | W20: m3p
A21: Bois d'industrie résineux | C21: 201 | F21: sv | G21: =E21*1 -> 0 | H21: m3p | K21: sv | L21: =J21*1 -> 0 | M21: m3p | P21: sv | Q21: =O21*1 -> 0 | R21: m3p | U21: sv | V21: =T21*1 -> 0 | W21: m3p
A22: Bois d'industrie feuillus | C22: 206 | F22: sv | G22: =E22*1 -> 0 | H22: m3p | K22: sv | L22: =J22*1 -> 0 | M22: m3p | P22: sv | Q22: =O22*1 -> 0 | R22: m3p | U22: sv | V22: =T22*1 -> 0 | W22: m3p
A23: Bois d'énergie, résineux (bûches, incl. bois long) | C23: 202 | F23: sv | G23: =E23*1 -> 0 | H23: m3p | K23: sv | L23: =J23*1 -> 0 | M23: m3p | P23: sv | Q23: =O23*1 -> 0 | R23: m3p | U23: sv | V23: =T23*1 -> 0 | W23: m3p
A24: Bois d'énergie, feuillus (bûches, incl. bois long) | C24: 207 | F24: sv | G24: =E24*1 -> 0 | H24: m3p | K24: sv | L24: =J24*1 -> 0 | M24: m3p | P24: sv | Q24: =O24*1 -> 0 | R24: m3p | U24: sv | V24: =T24*1 -> 0 | W24: m3p
A25: Bois d'énergie résineux, déchiquetage | C25: 203 | F25: sv | G25: =E25*1 -> 0 | H25: m3p | K25: sv | L25: =J25*1 -> 0 | M25: m3p | P25: sv | Q25: =O25*1 -> 0 | R25: m3p | U25: sv | V25: =T25*1 -> 0 | W25: m3p
A26: Bois d'énergie feuillu, déchiquetage | C26: 208 | F26: sv | G26: =E26*1 -> 0 | H26: m3p | K26: sv | L26: =J26*1 -> 0 | M26: m3p | P26: sv | Q26: =O26*1 -> 0 | R26: m3p | U26: sv | V26: =T26*1 -> 0 | W26: m3p
A27: Autres assortiments de bois résineux | C27: 204 | F27: sv | G27: =E27*1 -> 0 | H27: m3p | K27: sv | L27: =J27*1 -> 0 | M27: m3p | P27: sv | Q27: =O27*1 -> 0 | R27: m3p | U27: sv | V27: =T27*1 -> 0 | W27: m3p
A28: Autres assortiments de bois feuillus | C28: 209 | F28: sv | G28: =E28*1 -> 0 | H28: m3p | K28: sv | L28: 0 | M28: m3p | P28: sv | Q28: =O28*1 -> 0 | R28: m3p | U28: sv | V28: =T28*1 -> 0 | W28: m3p
A29: Total des ventes sur pied | D29: =SUM(D19:D28) -> 0 | E29: =SUM(E19:E28) -> 0 | G29: =SUM(H19:H28) -> 0 | H29: m3p | I29: =SUM(I19:I28) -> 0 | J29: =SUM(J19:J28) -> 0 | L29: =SUM(L19:L28) -> 0 | M29: m3p | N29: =SUM(N19:N28) -> 0 | O29: =SUM(O19:O28) -> 0 | Q29: =SUM(Q19:Q28) -> 0 | R29: m3p | S29: =SUM(S19:S28) -> 0 | T29: =SUM(T19:T28) -> 0 | V29: =T29*1 -> 0 | W29: m3p
C30: Propriétaire
A31: Bois pour transformation interne (Grp produits 31x) | C31: Genres de | D31: Valeur esti- | E31: Quantité | F31: Unité | G31: Quantité | H31: m3p | I31: Valeur esti- | J31: Quantité | K31: Unité | L31: Quantité | M31: m3p | N31: Valeur esti- | O31: Quantité | P31: Unité | Q31: Quantité | R31: m3p | S31: Valeur esti- | T31: Quantité | U31: Unité | V31: Quantité | W31: m3p | X31: Remarque
C32: produits | D32: mée Frs | I32: mée Frs | N32: mée Frs | S32: mée Frs
A33: Grumes résineuses | C33: 200 | F33: m3p | G33: =E33 -> 0 | H33: m3p | K33: m3p | L33: =J33 -> 0 | M33: m3p | P33: m3p | Q33: =0 -> 0 | R33: m3p | U33: m3p | V33: =T33 -> 0 | W33: m3p
A34: Grumes feuillues | C34: 205 | F34: m3p | G34: =E34 -> 0 | H34: m3p | K34: m3p | L34: =J34 -> 0 | M34: m3p | P34: m3p | Q34: =0 -> 0 | R34: m3p | U34: m3p | V34: =T34 -> 0 | W34: m3p
A35: Bois d'industrie résineux | C35: 201 | F35: m3p | G35: =E35 -> 0 | H35: m3p | K35: m3p | L35: =J35 -> 0 | M35: m3p | P35: m3p | Q35: =0 -> 0 | R35: m3p | U35: m3p | V35: =T35 -> 0 | W35: m3p
A36: Bois d'industrie feuillus | C36: 206 | F36: m3p | G36: =E36 -> 0 | H36: m3p | K36: m3p | L36: =J36 -> 0 | M36: m3p | P36: m3p | Q36: =0 -> 0 | R36: m3p | U36: m3p | V36: =T36 -> 0 | W36: m3p
A37: Bois d'énergie, résineux (bûches, incl. bois long) | C37: 202 | F37: m3p | G37: =E37 -> 0 | H37: m3p | K37: m3p | L37: =J37 -> 0 | M37: m3p | P37: m3p | Q37: =0 -> 0 | R37: m3p | U37: m3p | V37: =T37 -> 0 | W37: m3p
A38: Bois d'énergie, feuillus (bûches, incl. bois long) | C38: 207 | F38: m3p | G38: =E38 -> 0 | H38: m3p | K38: m3p | L38: =J38 -> 0 | M38: m3p | P38: m3p | Q38: =0 -> 0 | R38: m3p | U38: m3p | V38: =T38 -> 0 | W38: m3p
A39: Bois d'énergie résineux, déchiquetage | C39: 203 | F39: m3p | G39: =E39 -> 0 | H39: m3p | K39: m3p | L39: =J39 -> 0 | M39: m3p | P39: m3p | Q39: =0 -> 0 | R39: m3p | U39: m3p | V39: =T39 -> 0 | W39: m3p
A40: Bois d'énergie feuillu, déchiquetage | C40: 208 | F40: m3p | G40: =E40 -> 0 | H40: m3p | K40: m3p | L40: =J40 -> 0 | M40: m3p | P40: m3p | Q40: =0 -> 0 | R40: m3p | U40: m3p | V40: =T40 -> 0 | W40: m3p
A41: Autres assortiments de bois résineux | C41: 204 | F41: m3p | G41: =E41 -> 0 | H41: m3p | K41: m3p | L41: =J41 -> 0 | M41: m3p | P41: m3p | Q41: =0 -> 0 | R41: m3p | U41: m3p | V41: =T41 -> 0 | W41: m3p
...

Sheet Export
A1: Linie | B1: Datum | C1: Beleg | D1: Konto | E1: D/C | F1: Text1 | G1: Betrag | H1: NBTID | I1: SchlagID | J1: KTID | K1: KEA | L1: NBSTID | M1: EG | N1: Menge | O1: Einheit
A2: 1 | B2: 2 | C2: 3 | D2: 4 | E2: 5 | F2: 6 | G2: 7 | H2: 8 | I2: 9 | J2: 10 | K2: 11 | L2: 12 | M2: 13 | N2: 14 | O2: 15
A3: {=ROW(Ventes!5:5)} -> 5 | B3: 45291 | D3: =Ventes!B$5 -> 0 | F3: =Ventes!A$5 -> Grumes résineuses | G3: =Ventes!D5 -> 0 | H3: =Ventes!D$1 -> 1 | I3: - | J3: =Ventes!D$2 -> 501 | K3: =Ventes!C$5 -> 200 | M3: 300 | N3: =Ventes!G5 -> 0 | O3: m3 p
A4: {=ROW(Ventes!6:6)} -> 6 | B4: 45291 | D4: =Ventes!B$6 -> 0 | F4: =Ventes!A$6 -> Grumes feuillues | G4: =Ventes!D6 -> 0 | H4: =Ventes!D$1 -> 1 | J4: =Ventes!D$2 -> 501 | K4: =Ventes!C$6 -> 205 | M4: 300 | N4: =Ventes!G6 -> 0 | O4: m3 p
A5: {=ROW(Ventes!7:7)} -> 7 | B5: 45291 | D5: =Ventes!B$7 -> 0 | F5: =Ventes!A$7 -> Bois d'industrie résineux | G5: =Ventes!D7 -> 0 | H5: =Ventes!D$1 -> 1 | J5: =Ventes!D$2 -> 501 | K5: =Ventes!C$7 -> 201 | M5: 300 | N5: =Ventes!G7 -> 0 | O5: m3 p
A6: {=ROW(Ventes!8:8)} -> 8 | B6: 45291 | D6: =Ventes!B$8 -> 0 | F6: =Ventes!A$8 -> Bois d'industrie feuillus | G6: =Ventes!D8 -> 0 | H6: =Ventes!D$1 -> 1 | J6: =Ventes!D$2 -> 501 | K6: =Ventes!C$8 -> 206 | M6: 300 | N6: =Ventes!G8 -> 0 | O6: m3 p
A7: {=ROW(Ventes!9:9)} -> 9 | B7: 45291 | D7: =Ventes!B$9 -> 0 | F7: =Ventes!A$9 -> Bois d'énergie résineux pour bois de feu | G7: =Ventes!D9 -> 0 | H7: =Ventes!D$1 -> 1 | J7: =Ventes!D$2 -> 501 | K7: =Ventes!C$9 -> 202 | M7: 300 | N7: =Ventes!G9 -> 0 | O7: m3 p
A8: {=ROW(Ventes!10:10)} -> 10 | B8: 45291 | D8: =Ventes!B$10 -> 0 | F8: =Ventes!A$10 -> Bois d'énergie feuillus pour bois de feu | G8: =Ventes!D10 -> 0 | H8: =Ventes!D$1 -> 1 | J8: =Ventes!D$2 -> 501 | K8: =Ventes!C$10 -> 207 | M8: 300 | N8: =Ventes!G10 -> 0 | O8: m3 p
A9: {=ROW(Ventes!11:11)} -> 11 | B9: 45291 | D9: =Ventes!B$11 -> 0 | F9: =Ventes!A$11 -> Bois d'énergie résineux pour déchiquetage | G9: =Ventes!D11 -> 30000 | H9: =Ventes!D$1 -> 1 | J9: =Ventes!D$2 -> 501 | K9: =Ventes!C$11 -> 203 | M9: 300 | N9: =Ventes!G11 -> 12000 | O9: m3 p
A10: {=ROW(Ventes!12:12)} -> 12 | B10: 45291 | D10: =Ventes!B$12 -> 0 | F10: =Ventes!A$12 -> Bois d'énergie feuillu pour déchiquetage | G10: =Ventes!D12 -> 0 | H10: =Ventes!D$1 -> 1 | J10: =Ventes!D$2 -> 501 | K10: =Ventes!C$12 -> 208 | M10: 300 | N10: =Ventes!G12 -> 0 | O10: m3 p
A11: {=ROW(Ventes!13:13)} -> 13 | B11: 45291 | D11: =Ventes!B$13 -> 0 | F11: =Ventes!A$13 -> Autres assortiments de bois résineux | G11: =Ventes!D13 -> 0 | H11: =Ventes!D$1 -> 1 | J11: =Ventes!D$2 -> 501 | K11: =Ventes!C$13 -> 204 | M11: 300 | N11: =Ventes!G13 -> 0 | O11: m3 p
A12: {=ROW(Ventes!14:14)} -> 14 | B12: 45291 | D12: =Ventes!B$14 -> 0 | F12: =Ventes!A$14 -> Autres assortiments de bois feuillus | G12: =Ventes!D14 -> 0 | H12: =Ventes!D$1 -> 1 | J12: =Ventes!D$2 -> 501 | K12: =Ventes!C$14 -> 209 | M12: 300 | N12: =Ventes!G14 -> 0 | O12: m3 p
A13: {=ROW(Ventes!19:19)} -> 19 | B13: 45291 | D13: =Ventes!B$19 -> 0 | F13: =Ventes!A$19 -> Grumes résineuses | G13: =Ventes!D19 -> 0 | H13: =Ventes!D$1 -> 1 | J13: =Ventes!D$2 -> 501 | K13: =Ventes!C$19 -> 200 | M13: 320 | N13: =Ventes!G19 -> 0 | O13: m3 p
A14: {=ROW(Ventes!20:20)} -> 20 | B14: 45291 | D14: =Ventes!B$20 -> 0 | F14: =Ventes!A$20 -> Grumes feuillues | G14: =Ventes!D20 -> 0 | H14: =Ventes!D$1 -> 1 | J14: =Ventes!D$2 -> 501 | K14: =Ventes!C$20 -> 205 | M14: 320 | N14: =Ventes!G20 -> 0 | O14: m3 p
A15: {=ROW(Ventes!21:21)} -> 21 | B15: 45291 | D15: =Ventes!B$21 -> 0 | F15: =Ventes!A$21 -> Bois d'industrie résineux | G15: =Ventes!D21 -> 0 | H15: =Ventes!D$1 -> 1 | J15: =Ventes!D$2 -> 501 | K15: =Ventes!C$21 -> 201 | M15: 320 | N15: =Ventes!G21 -> 0 | O15: m3 p
A16: {=ROW(Ventes!22:22)} -> 22 | B16: 45291 | D16: =Ventes!B$22 -> 0 | F16: =Ventes!A$22 -> Bois d'industrie feuillus | G16: =Ventes!D22 -> 0 | H16: =Ventes!D$1 -> 1 | J16: =Ventes!D$2 -> 501 | K16: =Ventes!C$22 -> 206 | M16: 320 | N16: =Ventes!G22 -> 0 | O16: m3 p
A17: {=ROW(Ventes!23:23)} -> 23 | B17: 45291 | D17: =Ventes!B$23 -> 0 | F17: =Ventes!A$23 -> Bois d'énergie, résineux (bûches, incl. bois long) | G17: =Ventes!D23 -> 0 | H17: =Ventes!D$1 -> 1 | J17: =Ventes!D$2 -> 501 | K17: =Ventes!C$23 -> 202 | M17: 320 | N17: =Ventes!G23 -> 0 | O17: m3 p
A18: {=ROW(Ventes!24:24)} -> 24 | B18: 45291 | D18: =Ventes!B$24 -> 0 | F18: =Ventes!A$24 -> Bois d'énergie, feuillus (bûches, incl. bois long) | G18: =Ventes!D24 -> 0 | H18: =Ventes!D$1 -> 1 | J18: =Ventes!D$2 -> 501 | K18: =Ventes!C$24 -> 207 | M18: 320 | N18: =Ventes!G24 -> 0 | O18: m3 p
A19: {=ROW(Ventes!25:25)} -> 25 | B19: 45291 | D19: =Ventes!B$25 -> 0 | F19: =Ventes!A$25 -> Bois d'énergie résineux, déchiquetage | G19: =Ventes!D25 -> 0 | H19: =Ventes!D$1 -> 1 | J19: =Ventes!D$2 -> 501 | K19: =Ventes!C$25 -> 203 | M19: 320 | N19: =Ventes!G25 -> 0 | O19: m3 p
A20: {=ROW(Ventes!26:26)} -> 26 | B20: 45291 | D20: =Ventes!B$26 -> 0 | F20: =Ventes!A$26 -> Bois d'énergie feuillu, déchiquetage | G20: =Ventes!D26 -> 0 | H20: =Ventes!D$1 -> 1 | J20: =Ventes!D$2 -> 501 | K20: =Ventes!C$26 -> 208 | M20: 320 | N20: =Ventes!G26 -> 0 | O20: m3 p
A21: {=ROW(Ventes!27:27)} -> 27 | B21: 45291 | D21: =Ventes!B$27 -> 0 | F21: =Ventes!A$27 -> Autres assortiments de bois résineux | G21: =Ventes!D27 -> 0 | H21: =Ventes!D$1 -> 1 | J21: =Ventes!D$2 -> 501 | K21: =Ventes!C$27 -> 204 | M21: 320 | N21: =Ventes!G27 -> 0 | O21: m3 p
A22: {=ROW(Ventes!28:28)} -> 28 | B22: 45291 | D22: =Ventes!B$28 -> 0 | F22: =Ventes!A$28 -> Autres assortiments de bois feuillus | G22: =Ventes!D28 -> 0 | H22: =Ventes!D$1 -> 1 | J22: =Ventes!D$2 -> 501 | K22: =Ventes!C$28 -> 209 | M22: 320 | N22: =Ventes!G28 -> 0 | O22: m3 p
A23: {=ROW(Ventes!33:33)} -> 33 | B23: 45291 | D23: =Ventes!B$33 -> 0 | F23: =Ventes!A$33 -> Grumes résineuses | G23: =Ventes!D33 -> 0 | H23: =Ventes!D$1 -> 1 | J23: =Ventes!D$2 -> 501 | K23: =Ventes!C$33 -> 200 | N23: =Ventes!G33 -> 0 | O23: m3 p
A24: {=ROW(Ventes!34:34)} -> 34 | B24: 45291 | D24: =Ventes!B$34 -> 0 | F24: =Ventes!A$34 -> Grumes feuillues | G24: =Ventes!D34 -> 0 | H24: =Ventes!D$1 -> 1 | J24: =Ventes!D$2 -> 501 | K24: =Ventes!C$34 -> 205 | N24: =Ventes!G34 -> 0 | O24: m3 p
A25: {=ROW(Ventes!35:35)} -> 35 | B25: 45291 | D25: =Ventes!B$35 -> 0 | F25: =Ventes!A$35 -> Bois d'industrie résineux | G25: =Ventes!D35 -> 0 | H25: =Ventes!D$1 -> 1 | J25: =Ventes!D$2 -> 501 | K25: =Ventes!C$35 -> 201 | N25: =Ventes!G35 -> 0 | O25: m3 p
A26: {=ROW(Ventes!36:36)} -> 36 | B26: 45291 | D26: =Ventes!B$36 -> 0 | F26: =Ventes!A$36 -> Bois d'industrie feuillus | G26: =Ventes!D36 -> 0 | H26: =Ventes!D$1 -> 1 | J26: =Ventes!D$2 -> 501 | K26: =Ventes!C$36 -> 206 | N26: =Ventes!G36 -> 0 | O26: m3 p
A27: {=ROW(Ventes!37:37)} -> 37 | B27: 45291 | D27: =Ventes!B$37 -> 0 | F27: =Ventes!A$37 -> Bois d'énergie, résineux (bûches, incl. bois long) | G27: =Ventes!D37 -> 0 | H27: =Ventes!D$1 -> 1 | J27: =Ventes!D$2 -> 501 | K27: =Ventes!C$37 -> 202 | N27: =Ventes!G37 -> 0 | O27: m3 p
A28: {=ROW(Ventes!38:38)} -> 38 | B28: 45291 | D28: =Ventes!B$38 -> 0 | F28: =Ventes!A$38 -> Bois d'énergie, feuillus (bûches, incl. bois long) | G28: =Ventes!D38 -> 0 | H28: =Ventes!D$1 -> 1 | J28: =Ventes!D$2 -> 501 | K28: =Ventes!C$38 -> 207 | N28: =Ventes!G38 -> 0 | O28: m3 p
A29: {=ROW(Ventes!39:39)} -> 39 | B29: 45291 | D29: =Ventes!B$39 -> 0 | F29: =Ventes!A$39 -> Bois d'énergie résineux, déchiquetage | G29: =Ventes!D39 -> 0 | H29: =Ventes!D$1 -> 1 | J29: =Ventes!D$2 -> 501 | K29: =Ventes!C$39 -> 203 | N29: =Ventes!G39 -> 0 | O29: m3 p
A30: {=ROW(Ventes!40:40)} -> 40 | B30: 45291 | D30: =Ventes!B$40 -> 0 | F30: =Ventes!A$40 -> Bois d'énergie feuillu, déchiquetage | G30: =Ventes!D40 -> 0 | H30: =Ventes!D$1 -> 1 | J30: =Ventes!D$2 -> 501 | K30: =Ventes!C$40 -> 208 | N30: =Ventes!G40 -> 0 | O30: m3 p
A31: {=ROW(Ventes!41:41)} -> 41 | B31: 45291 | D31: =Ventes!B$41 -> 0 | F31: =Ventes!A$41 -> Autres assortiments de bois résineux | G31: =Ventes!D41 -> 0 | H31: =Ventes!D$1 -> 1 | J31: =Ventes!D$2 -> 501 | K31: =Ventes!C$41 -> 204 | N31: =Ventes!G41 -> 0 | O31: m3 p
A32: {=ROW(Ventes!42:42)} -> 42 | B32: 45291 | D32: =Ventes!B$42 -> 0 | F32: =Ventes!A$42 -> Autres assortiments de bois feuillus | G32: =Ventes!D42 -> 0 | H32: =Ventes!D$1 -> 1 | J32: =Ventes!D$2 -> 501 | K32: =Ventes!C$42 -> 209 | N32: =Ventes!G42 -> 0 | O32: m3 p
A33: {=ROW(Ventes!47:47)} -> 47 | B33: 45291 | D33: =Ventes!B$47 -> 0 | F33: =Ventes!A$47 -> Grumes résineuses | G33: =Ventes!D47 -> 0 | H33: =Ventes!D$1 -> 1 | J33: =Ventes!D$2 -> 501 | K33: =Ventes!C$47 -> 200 | M33: 330 | N33: =Ventes!G47 -> 0 | O33: m3 p
A34: {=ROW(Ventes!48:48)} -> 48 | B34: 45291 | D34: =Ventes!B$48 -> 0 | F34: =Ventes!A$48 -> Grumes feuillues | G34: =Ventes!D48 -> 0 | H34: =Ventes!D$1 -> 1 | J34: =Ventes!D$2 -> 501 | K34: =Ventes!C$48 -> 205 | M34: 330 | N34: =Ventes!G48 -> 0 | O34: m3 p
A35: {=ROW(Ventes!49:49)} -> 49 | B35: 45291 | D35: =Ventes!B$49 -> 0 | F35: =Ventes!A$49 -> Bois d'industrie résineux | G35: =Ventes!D49 -> 0 | H35: =Ventes!D$1 -> 1 | J35: =Ventes!D$2 -> 501 | K35: =Ventes!C$49 -> 201 | M35: 330 | N35: =Ventes!G49 -> 0 | O35: m3 p
A36: {=ROW(Ventes!50:50)} -> 50 | B36: 45291 | D36: =Ventes!B$50 -> 0 | F36: =Ventes!A$50 -> Bois d'industrie feuillus | G36: =Ventes!D50 -> 0 | H36: =Ventes!D$1 -> 1 | J36: =Ventes!D$2 -> 501 | K36: =Ventes!C$50 -> 206 | M36: 330 | N36: =Ventes!G50 -> 0 | O36: m3 p
A37: {=ROW(Ventes!51:51)} -> 51 | B37: 45291 | D37: =Ventes!B$51 -> 0 | F37: =Ventes!A$51 -> Bois d'énergie, résineux (bûches, incl. bois long) | G37: =Ventes!D51 -> 0 | H37: =Ventes!D$1 -> 1 | J37: =Ventes!D$2 -> 501 | K37: =Ventes!C$51 -> 202 | M37: 330 | N37: =Ventes!G51 -> 0 | O37: m3 p
A38: {=ROW(Ventes!52:52)} -> 52 | B38: 45291 | D38: =Ventes!B$52 -> 0 | F38: =Ventes!A$52 -> Bois d'énergie, feuillus (bûches, incl. bois long) | G38: =Ventes!D52 -> 0 | H38: =Ventes!D$1 -> 1 | J38: =Ventes!D$2 -> 501 | K38: =Ventes!C$52 -> 207 | M38: 330 | N38: =Ventes!G52 -> 0 | O38: m3 p
A39: {=ROW(Ventes!53:53)} -> 53 | B39: 45291 | D39: =Ventes!B$53 -> 0 | F39: =Ventes!A$53 -> Bois d'énergie résineux, déchiquetage | G39: =Ventes!D53 -> 0 | H39: =Ventes!D$1 -> 1 | J39: =Ventes!D$2 -> 501 | K39: =Ventes!C$53 -> 203 | M39: 330 | N39: =Ventes!G53 -> 0 | O39: m3 p
A40: {=ROW(Ventes!54:54)} -> 54 | B40: 45291 | D40: =Ventes!B$54 -> 0 | F40: =Ventes!A$54 -> Bois d'énergie feuillu, déchiquetage | G40: =Ventes!D54 -> 0 | H40: =Ventes!D$1 -> 1 | J40: =Ventes!D$2 -> 501 | K40: =Ventes!C$54 -> 208 | M40: 330 | N40: =Ventes!G54 -> 0 | O40: m3 p
...

Sheet kWh par m3v
A1: Exemples de conversion des prix de la chaleur en prix par m3 vrac de plaquettes départ forêt
A3: Valeurs de base
A4: Les calculs ci-après («Exemples») se basent sur les valeurs suivantes (paramètres):
A5: Chaque annonceur de prix peut remplacer ces valeurs par les siennes propres, à saisir dans les cellules affichées en vert.
B7: Facteur | C7: CHF | D7: % | E7: kWh pro m3 vrac
A8: 1 m3 plein = m3 vrac de plaquettes | B8: 2.8
A9: Prix de la chaleur par KWh | C9: 0.05
A10: Efficacité de la chaudière | D10: 85
A11: Valeur énergétique des feuillus | E11: 950
A12: Valeur énergétique des résineux | E12: 640
A13: Part des feuillus | D13: 70
A14: Part des résineux | D14: =100-D13 -> 30
A15: Valeur énergétique d’un assortiment mixte | E15: =E11*D13/100+E12*D14/100 -> 857
A16: Frais transport par m3 vrac (route forestière > destination) | C16: 6
A17: Frais de déchiquetage par m3 vrac | C17: 10
A18: Conversion des m3 pleins en tonnes lutro
A19: Pour épicéa/sapin (poids frais = 900 kg / m3 plein) | B19: 0.9
A20: Pour hêtre/chêne (poids frais = 1'100 kg / m3 plein) | B20: 1.1
A21: Assortiment mixte | B21: =B19*D14/100+B20*D13/100 -> 1.04
A23: Exemple 1
A24: ="Je vends mon bois sous forme longue au prix de la chaleur de "&C9&" / kWh." -> Je vends mon bois sous forme longue au prix de la chaleur de 0.05 / kWh.
A25: Quel prix cela représente-t-il par m3 de plaquettes en vrac départ forêt?
A27: Exemple de calcul pour un assortiment mixte | B27: CHF | C27: kWh | D27: % | E27: Calcul | F27: Prix/m3vrac
A28: Prix de la chaleur par kWh (sortie chaudière) | B28: =C9 -> 0.05
A29: Valeur énergétique par m3 vrac (feuillus) | C29: =E15 -> 857 | E29: ="("&B28&" x "&C29&")" -> (0.05 x 857) | F29: =ROUND(B28*C29,2) -> 42.85
A30: Efficacité chaudière (selon indications fabricant) | D30: =D10 -> 85 | E30: ="("&D30&"/100 x "&F29&")" -> (85/100 x 42.85) | F30: =ROUND(D30/100*F29,2) -> 36.42
A31: déduction des frais de transport, par m3 vrac | B31: =C16 -> 6 | E31: ="("&F30&" - "&B31&")" -> (36.42 - 6) | F31: =F30-B31 -> 30.42
A32: Prix par m3 vrac départ forêt, déchiqueté (= plaquettes) | F32: =F31 -> 30.42
A33: déduction des frais de déchiquetage par m3 vrac (prix non déchiqueté) | B33: =C17 -> 10 | E33: ="("&F32&" - "&B33&")" -> (30.42 - 10) | F33: =F31-B33 -> 20.42
A35: Prix par m3 plein départ forêt sous forme longue, non déchiqueté | E35: ="("&F33&" x "&B8&")" -> (20.42 x 2.8) | F35: =ROUND(F33*B8,2) -> 57.18 | G35: CHF/m3pl.
A36: Prix par tonne lutro (lufttrocken = séché à l’air), départ forêt | E36: ="("&F35&" / "&B21&")" -> (57.18 / 1.04) | F36: =ROUND(F35/B21,2) -> 54.98 | G36: CHF/t lutro
A38: Exemple 2
A39: Conversion inverse de l’exemple 1
A40: ="Je vends mon bois sous forme longue au prix départ forêt à CHF "&F35&" / Fm." -> Je vends mon bois sous forme longue au prix départ forêt à CHF 57.18 / Fm.
A41: Quel prix de la chaleur par kWh
A43: Exemple de calcul pour un assortiment mixte | B43: CHF | C43: kWh | D43: % | E43: Calcul | F43: Prix/m3vrac
A44: Prix du bois long départ forêt par m3 plein | B44: =F35 -> 57.18
A45: Prix du bois long départ forêt par m3 vrac | E45: ="("&B44&" / "&B8&")" -> (57.18 / 2.8) | F45: =ROUND(B44/B8,2) -> 20.42
A46: plus frais de déchiquetage par m3 vrac | B46: =C17 -> 10 | E46: ="("&F45&" + "&B46&")" -> (20.42 + 10) | F46: =F45+B46 -> 30.42
A47: plus frais de transport par m3 vrac (franco silo) | B47: =C16 -> 6 | E47: ="("&F46&" + "&B47&")" -> (30.42 + 6) | F47: =F46+B47 -> 36.42
...
