Workbook

Sheet Données de base
C1: CEForestier | P1: Type de forêt
H2: Entreprise forestière: | P2: 501
C3: Tableau des ventes de bois | P3: 502
H4: Exercice: | P4: 503
P5: 504
A6: Propriétaire (EDEX)
A7: 1
A8: 2 | P8: Unité
A9: 3 | P9: m3p
A10: 4 | P10: m3v
A11: 5 | P11: m3a
A12: 6 | P12: st
A13: 7 | P13: sv
A14: 8 | P14: pc
A15: 9 | P15: autre
A16: 10 | P16: -
A18: Usages suisses du commerce du bois brut
A20: Mesure | B20: Unités et notions
A22: Grandeur | D22: Unité | E22: Utilisation
A23: Volume plein, volume réel | D23: m3p | E23: Bois rond, conversion d'autres unités
A24: Volume en vrac | D24: m3v | E24: Matériau en vrac plaquette, copeaux, sciure, écorce, etc.)
A25: Volume apparent, volume d'encombrement | D25: m3a | E25: Bois empilé, rond ou fendu; dosses/délignures en vrac ou en fagots
A26: Stère | D26: st | E26: Bois de feu fendu
A27: Sylve | D27: sv | E27: Bois sur pied
A28: Pièce | D28: pc | E28: Piquet ou autres
A29: Autre | D29: autre | E29: autre
A31: Facteurs de conversion
A33: du volume réel au poids à la livraison
A34: 1 | B34: m3p é. | C34: épicéa/sapin | D34: = | E34: 0.9 | F34: t lutro n. é.
A35: 1 | B35: m3p é. | C35: hêtre | D35: = | E35: 1.1 | F35: t lutro n. é.
A36: 1 | B36: m3p é. | C36: chêne | D36: = | E36: 1.1 | F36: t lutro n. é.
A37: du volume réel au volume d'encombrement
A38: 1 | B38: m3p n. é. | D38: = | E38: 1.4 | F38: m3a n. é. rondins
A39: 1 | B39: m3p é. | D39: = | E39: 1.56 | F39: m3a n. é. rondins
A40: du volume plein au volume en vrac
A41: 1 | B41: m3p n. é. | D41: = | E41: 2.8 | F41: m3v n. é. plaquettes forestières
A42: 1 | B42: m3p é. | D42: = | E42: 2.8 | F42: m3v é. plaquettes forestières
A43: 1 | B43: m3p n. é. | D43: = | E43: 2.8 | F43: m3v é. plaquettes de scierie
A44: 1 | B44: m3p é. | D44: = | E44: 3 | F44: m3v é. copeaux de scierie/sciure
A45: 1 | B45: m3p é. | D45: = | E45: 5 | F45: m3v é. copeaux de raboteries
A46: du volume d'encombrement au volume réel
A47: 1 | B47: m3a n. é. rondins | D47: = | E47: 0.7 | F47: m3p n. é.
A48: 1 | B48: m3a n. é. rondins | D48: = | E48: 0.64 | F48: m3p é.
A49: 1 | B49: m3a é. Dosses/délignures (en fagots) | D49: = | E49: 0.625 | F49: m3p n. é.

Sheet Ventes
C1: Propriétaire | D1: 1
C2: Type de forêt | D2: 501 | I2: 503 | N2: 502 | S2: 504
A3: Ventes à des tiers à port de camion (Grp produits 300) | B3: N° CF | C3: Genres de | D3: Valeur | E3: Quantité | F3: Unité | G3: Quantité | H3: m3p | I3: Valeur | J3: Quantité | K3: Unité | L3: Quantité | M3: m3p | N3: Valeur | O3: Quantité | P3: Unité | Q3: Quantité | R3: m3p | S3: Valeur | T3: Quantité | U3: Unité | V3: Quantité | W3: m3p | X3: Remarque
C4: produits | D4: Frs | I4: Frs | N4: Frs | O4: m3 | S4: Frs
A5: Grumes résineuses | C5: 200 | F5: m3p | G5: =E5 -> 0 | H5: m3p | K5: m3p | L5: =J5 -> 0 | M5: m3p | P5: m3p | Q5: =O5 -> 0 | R5: m3p | U5: m3p | V5: =T5 -> 0 | W5: m3p
A6: Grumes feuillues | C6: 205 | F6: m3p | G6: =E6 -> 0 | H6: m3p | K6: m3p | L6: =J6 -> 0 | M6: m3p | P6: m3p | Q6: =O6 -> 0 | R6: m3p | U6: m3p | V6: =T6 -> 0 | W6: m3p
A7: Bois d'industrie résineux | C7: 201 | F7: m3p | G7: =E7 -> 0 | H7: m3p | K7: m3p | L7: =J7 -> 0 | M7: m3p | P7: m3p | Q7: =O7 -> 0 | R7: m3p | U7: m3p | V7: =T7 -> 0 | W7: m3p
A8: Bois d'industrie feuillus | C8: 206 | F8: m3p | G8: =E8 -> 0 | H8: m3p | K8: m3p | L8: =J8 -> 0 | M8: m3p | P8: m3p | Q8: =O8 -> 0 | R8: m3p | U8: m3p | V8: =T8 -> 0 | W8: m3p
A9: Bois d'énergie résineux pour bois de feu | C9: 202 | F9: m3p | G9: =E9 -> 0 | H9: m3p | K9: m3p | L9: =J9 -> 0 | M9: m3p | P9: m3p | Q9: =O9 -> 0 | R9: m3p | U9: m3p | V9: =T9 -> 0 | W9: m3p
A10: Bois d'énergie feuillus pour bois de feu | C10: 207 | F10: m3p | G10: =E10 -> 0 | H10: m3p | K10: m3p | L10: =J10 -> 0 | M10: m3p | P10: m3p | Q10: =O10 -> 0 | R10: m3p | U10: m3p | V10: =T10 -> 0 | W10: m3p
A11: Bois d'énergie résineux pour déchiquetage | C11: 203 | D11: 30000 | E11: 12000 | F11: m3p | G11: =E11 -> 12000 | H11: m3p | K11: m3p | L11: =J11 -> 0 | M11: m3p | P11: m3p | Q11: =O11 -> 0 | R11: m3p | U11: m3p | V11: =T11 -> 0 | W11: m3p
A12: Bois d'énergie feuillu pour déchiquetage | C12: 208 | F12: m3p | G12: =E12 -> 0 | H12: m3p | K12: m3p | L12: =J12 -> 0 | M12: m3p | P12: m3p | Q12: =O12 -> 0 | R12: m3p | U12: m3p | V12: =T12 -> 0 | W12: m3p
A13: Autres assortiments de bois résineux | C13: 204 | F13: m3p | G13: =E13 -> 0 | H13: m3p | K13: m3p | L13: =J13 -> 0 | M13: m3p | P13: m3p | Q13: =O13 -> 0 | R13: m3p | U13: m3p | V13: =T13 -> 0 | W13: m3p
A14: Autres assortiments de bois feuillus | C14: 209 | F14: m3p | G14: =E14 -> 0 | H14: m3p | K14: m3p | L14: =J14 -> 0 | M14: m3p | P14: m3p | Q14: =O14 -> 0 | R14: m3p | U14: m3p | V14: =T14 -> 0 | W14: m3p
A15: Total des ventes à port de camion | D15: =SUM(D5:D14) -> 30000 | E15: =SUM(E5:E14) -> 12000 | G15: =SUM(G5:G14) -> 12000 | H15: m3p | I15: =SUM(I5:I14) -> 0 | J15: =SUM(J5:J14) -> 0 | L15: =SUM(L5:L14) -> 0 | M15: m3p | N15: =SUM(N5:N14) -> 0 | O15: =SUM(O5:O14) -> 0 | Q15: =SUM(Q5:Q14) -> 0 | R15: m3p | S15: =SUM(S5:S14) -> 0 | T15: =SUM(T5:T14) -> 0 | V15: =SUM(V5:V14) -> 0 | W15: m3p
A17: Ventes sur pied (Grp produits 320) | C17: Genres de | D17: Valeur | E17: Quantité | F17: Unité | G17: Quantité | H17: m3p | I17: Valeur | J17: Quantité | K17: Unité | L17: Quantité | M17: m3p | N17: Valeur | O17: Quantité | P17: Unité | Q17: Quantité | R17: m3p | S17: Valeur | T17: Quantité | U17: Unité | V17: Quantité | W17: m3p | X17: Remarque
C18: produits | D18: Frs | I18: Frs | N18: Frs | S18: Frs
A19: Grumes résineuses | C19: 200 | F19: sv | G19: =E19*1 -> 0 | H19: m3p | K19: sv | L19: =J19*1 -> 0 | M19: m3p | P19: sv | Q19: =O19*1 -> 0 | R19: m3p | U19: sv | V19: =T19*1 -> 0 | W19: m3p
A20: Grumes feuillues | C20: 205 | F20: sv | G20: =E20*1 -> 0 | H20: m3p | K20: sv | L20: =J20*1 -> 0 | M20: m3p | P20: sv | Q20: =O20*1 -> 0 | R20: m3p | U20: sv | V20: =T20*1 -> 0 | W20: m3p
A21: Bois d'industrie résineux | C21: 201 | F21: sv | G21: =E21*1 -> 0 | H21: m3p | K21: sv | L21: =J21*1 -> 0 | M21: m3p | P21: sv | Q21: =O21*1 -> 0 | R21: m3p | U21: sv | V21: =T21*1 -> 0 | W21: m3p
A22: Bois d'industrie feuillus | C22: 206 | F22: sv | G22: =E22*1 -> 0 | H22: m3p | K22: sv | L22: =J22*1 -> 0 | M22: m3p | P22: sv | Q22: =O22*1 -> 0 | R22: m3p | U22: sv | V22: =T22*1 -> 0 | W22: m3p
A23: Bois d'énergie, résineux (bûches, incl. bois long) | C23: 202 | F23: sv | G23: =E23*1 -> 0 | H23: m3p | K23: sv | L23: =J23*1 -> 0 | M23: m3p | P23: sv | Q23: =O23*1 -> 0 | R23: m3p | U23: sv | V23: =T23*1 -> 0 | W23: m3p
A24: Bois d'énergie, feuillus (bûches, incl. bois long) | C24: 207 | F24: sv | G24: =E24*1 -> 0 | H24: m3p | K24: sv | L24: =J24*1 -> 0 | M24: m3p | P24: sv | Q24: =O24*1 -> 0 | R24: m3p | U24: sv | V24: =T24*1 -> 0 | W24: m3p
A25: Bois d'énergie résineux, déchiquetage | C25: 203 | F25: sv | G25: =E25*1 -> 0 | H25: m3p | K25: sv | L25: =J25*1 -> 0 | M25: m3p | P25: sv | Q25: =O25*1 -> 0 | R25: m3p | U25: sv | V25: =T25*1 -> 0 | W25: m3p
A26: Bois d'énergie feuillu, déchiquetage | C26: 208 | F26: sv | G26: =E26*1 -> 0 | H26: m3p | K26: sv | L26: =J26*1 -> 0 | M26: m3p | P26: sv | Q26: =O26*1 -> 0 | R26: m3p | U26: sv | V26: =T26*1 -> 0 | W26: m3p
A27: Autres assortiments de bois résineux | C27: 204 | F27: sv | G27: =E27*1 -> 0 | H27: m3p | K27: sv | L27: =J27*1 -> 0 | M27: m3p | P27: sv | Q27: =O27*1 -> 0 | R27: m3p | U27: sv | V27: =T27*1 -> 0 | W27: m3p
A28: Autres assortiments de bois feuillus | C28: 209 | F28: sv | G28: =E28*1 -> 0 | H28: m3p | K28: sv | L28: 0 | M28: m3p | P28: sv | Q28: =O28*1 -> 0 | R28: m3p | U28: sv | V28: =T28*1 -> 0 | W28: m3p
A29: Total des ventes sur pied | D29: =SUM(D19:D28) -> 0 | E29: =SUM(E19:E28) -> 0 | G29: =SUM(H19:H28) -> 0 | H29: m3p | I29: =SUM(I19:I28) -> 0 | J29: =SUM(J19:J28) -> 0 | L29: =SUM(L19:L28) -> 0 | M29: m3p | N29: =SUM(N19:N28) -> 0 | O29: =SUM(O19:O28) -> 0 | Q29: =SUM(Q19:Q28) -> 0 | R29: m3p | S29: =SUM(S19:S28) -> 0 | T29: =SUM(T19:T28) -> 0 | V29: =T29*1 -> 0 | W29: m3p
C30: Propriétaire
A31: Bois pour transformation interne (Grp produits 31x) | C31: Genres de | D31: Valeur esti- | E31: Quantité | F31: Unité | G31: Quantité | H31: m3p | I31: Valeur esti- | J31: Quantité | K31: Unité | L31: Quantité | M31: m3p | N31: Valeur esti- | O31: Quantité | P31: Unité | Q31: Quantité | R31: m3p | S31: Valeur esti- | T31: Quantité | U31: Unité | V31: Quantité | W31: m3p | X31: Remarque
C32: produits | D32: mée Frs | I32: mée Frs | N32: mée Frs | S32: mée Frs
A33: Grumes résineuses | C33: 200 | F33: m3p | G33: =E33 -> 0 | H33: m3p | K33: m3p | L33: =J33 -> 0 | M33: m3p | P33: m3p | Q33: =0 -> 0 | R33: m3p | U33: m3p | V33: =T33 -> 0 | W33: m3p
A34: Grumes feuillues | C34: 205 | F34: m3p | G34: =E34 -> 0 | H34: m3p | K34: m3p | L34: =J34 -> 0 | M34: m3p | P34: m3p | Q34: =0 -> 0 | R34: m3p | U34: m3p | V34: =T34 -> 0 | W34: m3p
A35: Bois d'industrie résineux | C35: 201 | F35: m3p | G35: =E35 -> 0 | H35: m3p | K35: m3p | L35: =J35 -> 0 | M35: m3p | P35: m3p | Q35: =0 -> 0 | R35: m3p | U35: m3p | V35: =T35 -> 0 | W35: m3p
A36: Bois d'industrie feuillus | C36: 206 | F36: m3p | G36: =E36 -> 0 | H36: m3p | K36: m3p | L36: =J36 -> 0 | M36: m3p | P36: m3p | Q36: =0 -> 0 | R36: m3p | U36: m3p | V36: =T36 -> 0 | W36: m3p
A37: Bois d'énergie, résineux (bûches, incl. bois long) | C37: 202 | F37: m3p | G37: =E37 -> 0 | H37: m3p | K37: m3p | L37: =J37 -> 0 | M37: m3p | P37: m3p | Q37: =0 -> 0 | R37: m3p | U37: m3p | V37: =T37 -> 0 | W37: m3p
A38: Bois d'énergie, feuillus (bûches, incl. bois long) | C38: 207 | F38: m3p | G38: =E38 -> 0 | H38: m3p | K38: m3p | L38: =J38 -> 0 | M38: m3p | P38: m3p | Q38: =0 -> 0 | R38: m3p | U38: m3p | V38: =T38 -> 0 | W38: m3p
A39: Bois d'énergie résineux, déchiquetage | C39: 203 | F39: m3p | G39: =E39 -> 0 | H39: m3p | K39: m3p | L39: =J39 -> 0 | M39: m3p | P39: m3p | Q39: =0 -> 0 | R39: m3p | U39: m3p | V39: =T39 -> 0 | W39: m3p
A40: Bois d'énergie feuillu, déchiquetage | C40: 208 | F40: m3p | G40: =E40 -> 0 | H40: m3p | K40: m3p | L40: =J40 -> 0 | M40: m3p | P40: m3p | Q40: =0 -> 0 | R40: m3p | U40: m3p | V40: =T40 -> 0 | W40: m3p
A41: Autres assortiments de bois résineux | C41: 204 | F41: m3p | G41: =E41 -> 0 | H41: m3p | K41: m3p | L41: =J41 -> 0 | M41: m3p | P41: m3p | Q41: =0 -> 0 | R41: m3p | U41: m3p | V41: =T41 -> 0 | W41: m3p
A42: Autres assortiments de bois feuillus | C42: 209 | F42: m3p | G42: =E42 -> 0 | H42: m3p | K42: m3p | L42: =J42 -> 0 | M42: m3p | P42: m3p | Q42: =0 -> 0 | R42: m3p | U42: m3p | V42: =T42 -> 0 | W42: m3p
A43: Total valeurs calculées du bois propre usage | D43: =SUM(D33:D42) -> 0 | E43: =SUM(E33:E42) -> 0 | G43: =SUM(G33:G42) -> 0 | H43: m3p | I43: =SUM(I33:I42) -> 0 | J43: =SUM(J33:J42) -> 0 | L43: =SUM(L33:L42) -> 0 | M43: m3p | N43: =SUM(N33:N42) -> 0 | O43: =SUM(O33:O42) -> 0 | Q43: =SUM(Q33:Q42) -> 0 | R43: m3p | S43: =SUM(S33:S42) -> 0 | T43: =SUM(T33:T42) -> 0 | V43: =SUM(V33:V42) -> 0 | W43: m3p
A45: Inventaire final - bois invendus (Grp produits 330) | C45: Genres de | D45: Valeur esti- | E45: Quantité | F45: Unité | G45: Quantité | H45: m3p | I45: Valeur esti- | J45: Quantité | K45: Unité | L45: Quantité | M45: m3p | N45: Valeur esti- | O45: Quantité | P45: Unité | Q45: Quantité | R45: m3p | S45: Valeur esti- | T45: Quantité | U45: Unité | V45: Quantité | W45: m3p | X45: Remarque
C46: produits | D46: mée Frs | I46: mée Frs | N46: mée Frs | S46: mée Frs
A47: Grumes résineuses | C47: 200 | F47: m3p | G47: =E47 -> 0 | H47: m3p | K47: m3p | L47: =J47 -> 0 | M47: m3p | P47: m3p | Q47: =O47 -> 0 | R47: m3p | U47: m3p | V47: =T47 -> 0 | W47: m3p
A48: Grumes feuillues | C48: 205 | F48: m3p | G48: =E48 -> 0 | H48: m3p | K48: m3p | L48: =J48 -> 0 | M48: m3p | P48: m3p | Q48: =O48 -> 0 | R48: m3p | U48: m3p | V48: =T48 -> 0 | W48: m3p
A49: Bois d'industrie résineux | C49: 201 | F49: m3p | G49: =E49 -> 0 | H49: m3p | K49: m3p | L49: =J49 -> 0 | M49: m3p | P49: m3p | Q49: =O49 -> 0 | R49: m3p | U49: m3p | V49: =T49 -> 0 | W49: m3p
A50: Bois d'industrie feuillus | C50: 206 | F50: m3p | G50: =E50 -> 0 | H50: m3p | K50: m3p | L50: =J50 -> 0 | M50: m3p | P50: m3p | Q50: =O50 -> 0 | R50: m3p | U50: m3p | V50: =T50 -> 0 | W50: m3p
A51: Bois d'énergie, résineux (bûches, incl. bois long) | C51: 202 | F51: m3p | G51: =E51 -> 0 | H51: m3p | K51: m3p | L51: =J51 -> 0 | M51: m3p | P51: m3p | Q51: =O51 -> 0 | R51: m3p | U51: m3p | V51: =T51 -> 0 | W51: m3p
A52: Bois d'énergie, feuillus (bûches, incl. bois long) | C52: 207 | F52: m3p | G52: =E52 -> 0 | H52: m3p | K52: m3p | L52: =J52 -> 0 | M52: m3p | P52: m3p | Q52: =O52 -> 0 | R52: m3p | U52: m3p | V52: =T52 -> 0 | W52: m3p
A53: Bois d'énergie résineux, déchiquetage | C53: 203 | F53: m3p | G53: =E53 -> 0 | H53: m3p | K53: m3p | L53: =J53 -> 0 | M53: m3p | P53: m3p | Q53: =O53 -> 0 | R53: m3p | U53: m3p | V53: =T53 -> 0 | W53: m3p
A54: Bois d'énergie feuillu, déchiquetage | C54: 208 | F54: m3p | G54: =E54 -> 0 | H54: m3p | K54: m3p | L54: =J54 -> 0 | M54: m3p | P54: m3p | Q54: =O54 -> 0 | R54: m3p | U54: m3p | V54: =T54 -> 0 | W54: m3p
A55: Autres assortiments de bois résineux | C55: 204 | F55: m3p | G55: =E55 -> 0 | H55: m3p | K55: m3p | L55: =J55 -> 0 | M55: m3p | P55: m3p | Q55: =O55 -> 0 | R55: m3p | U55: m3p | V55: =T55 -> 0 | W55: m3p
A56: Autres assortiments de bois feuillus | C56: 209 | F56: m3p | G56: =E56 -> 0 | H56: m3p | K56: m3p | L56: =J56 -> 0 | M56: m3p | P56: m3p | Q56: =O56 -> 0 | R56: m3p | U56: m3p | V56: =T56 -> 0 | W56: m3p
A57: Bois d’énergie court résineux | C57: 210 | E57: 1 | F57: st | G57: =E57*0.67 -> 0.67 | H57: m3p | J57: 1 | K57: st | L57: =J57*0.67 -> 0.67 | M57: m3p | O57: 1 | P57: st | Q57: =O57*0.67 -> 0.67 | R57: m3p | T57: 1 | U57: st | V57: =T57*0.67 -> 0.67 | W57: m3p
A58: Bois d’énergie court feuillus | C58: 210 | E58: 150 | F58: st | G58: =E58*0.67 -> 100.5 | H58: m3p | J58: 1 | K58: st | L58: =J58*0.67 -> 0.67 | M58: m3p | O58: 1 | P58: st | Q58: =O58*0.67 -> 0.67 | R58: m3p | T58: 1 | U58: st | V58: =T58*0.67 -> 0.67 | W58: m3p
A59: Bois d’énergie en copeaux résineux | C59: 211 | E59: 1 | F59: m3v | G59: =E59*0.357 -> 0.357 | H59: m3p | J59: 1 | K59: m3v | L59: =J59*0.357 -> 0.357 | M59: m3p | O59: 1 | P59: m3v | Q59: =O59*0.357 -> 0.357 | R59: m3p | T59: 1 | U59: m3v | V59: =T59*0.357 -> 0.357 | W59: m3p
A60: Bois d’énergie en copeaux feuillus | C60: 211 | E60: 1 | F60: m3v | G60: =E60*0.357 -> 0.357 | H60: m3p | J60: 1 | K60: m3v | L60: =J60*0.357 -> 0.357 | M60: m3p | O60: 1 | P60: m3v | Q60: =O60*0.357 -> 0.357 | R60: m3p | T60: 1 | U60: m3v | V60: =T60*0.357 -> 0.357 | W60: m3p
A61: Bois scié et autres produits en bois | C61: 212 | F61: autre | H61: m3p | K61: autre | M61: m3p | P61: autre | R61: m3p | U61: autre | W61: m3p
A62: Revente de produits du commerce | C62: 214 | F62: - | H62: m3p | K62: - | M62: m3p | P62: - | R62: m3p | U62: - | W62: m3p
A63: Autres produits | C63: 219 | F63: - | H63: m3p | K63: - | M63: m3p | P63: - | R63: m3p | U63: - | W63: m3p
A64: Total valeurs calculées des invendus | D64: =SUM(D47:D56) -> 0 | E64: =SUM(E47:E56) -> 0 | G64: =SUM(G47:G63) -> 101.884 | H64: m3p | I64: =SUM(I47:I56) -> 0 | J64: =SUM(J47:J56) -> 0 | L64: =SUM(L47:L63) -> 2.054 | M64: m3p | N64: =SUM(N47:N56) -> 0 | O64: =SUM(O47:O56) -> 0 | Q64: =SUM(Q47:Q63) -> 2.054 | R64: m3p | S64: =SUM(S47:S56) -> 0 | T64: =SUM(T47:T56) -> 0 | V64: =SUM(V47:V63) -> 2.054 | W64: m3p
A66: TOTAL | G66: =G15+G29+G43+G64 -> 12101.884 | H66: m3p | L66: =L15+L29+L43+L64 -> 2.054 | M66: m3p | Q66: =Q15+Q29+Q43+Q64 -> 2.054 | R66: m3p | V66: =V15+V29+V64 -> 2.054 | W66: m3p | Y66: =G66+L66+Q66+V66 -> 12108.046 | Z66: m3p
B70: Cellules à remplir
B72: Cellules calculées
B74: Cellules avec info bulle

Sheet Export
A1: Linie | B1: Datum | C1: Beleg | D1: Konto | E1: D/C | F1: Text1 | G1: Betrag | H1: NBTID | I1: SchlagID | J1: KTID | K1: KEA | L1: NBSTID | M1: EG | N1: Menge | O1: Einheit
A2: 1 | B2: 2 | C2: 3 | D2: 4 | E2: 5 | F2: 6 | G2: 7 | H2: 8 | I2: 9 | J2: 10 | K2: 11 | L2: 12 | M2: 13 | N2: 14 | O2: 15
A3: {=ROW(Ventes!5:5)} -> 5 | B3: 45291 | D3: =Ventes!B$5 -> 0 | F3: =Ventes!A$5 -> Grumes résineuses | G3: =Ventes!D5 -> 0 | H3: =Ventes!D$1 -> 1 | I3: - | J3: =Ventes!D$2 -> 501 | K3: =Ventes!C$5 -> 200 | M3: 300 | N3: =Ventes!G5 -> 0 | O3: m3 p
A4: {=ROW(Ventes!6:6)} -> 6 | B4: 45291 | D4: =Ventes!B$6 -> 0 | F4: =Ventes!A$6 -> Grumes feuillues | G4: =Ventes!D6 -> 0 | H4: =Ventes!D$1 -> 1 | J4: =Ventes!D$2 -> 501 | K4: =Ventes!C$6 -> 205 | M4: 300 | N4: =Ventes!G6 -> 0 | O4: m3 p
A5: {=ROW(Ventes!7:7)} -> 7 | B5: 45291 | D5: =Ventes!B$7 -> 0 | F5: =Ventes!A$7 -> Bois d'industrie résineux | G5: =Ventes!D7 -> 0 | H5: =Ventes!D$1 -> 1 | J5: =Ventes!D$2 -> 501 | K5: =Ventes!C$7 -> 201 | M5: 300 | N5: =Ventes!G7 -> 0 | O5: m3 p
A6: {=ROW(Ventes!8:8)} -> 8 | B6: 45291 | D6: =Ventes!B$8 -> 0 | F6: =Ventes!A$8 -> Bois d'industrie feuillus | G6: =Ventes!D8 -> 0 | H6: =Ventes!D$1 -> 1 | J6: =Ventes!D$2 -> 501 | K6: =Ventes!C$8 -> 206 | M6: 300 | N6: =Ventes!G8 -> 0 | O6: m3 p
A7: {=ROW(Ventes!9:9)} -> 9 | B7: 45291 | D7: =Ventes!B$9 -> 0 | F7: =Ventes!A$9 -> Bois d'énergie résineux pour bois de feu | G7: =Ventes!D9 -> 0 | H7: =Ventes!D$1 -> 1 | J7: =Ventes!D$2 -> 501 | K7: =Ventes!C$9 -> 202 | M7: 300 | N7: =Ventes!G9 -> 0 | O7: m3 p
A8: {=ROW(Ventes!10:10)} -> 10 | B8: 45291 | D8: =Ventes!B$10 -> 0 | F8: =Ventes!A$10 -> Bois d'énergie feuillus pour bois de feu | G8: =Ventes!D10 -> 0 | H8: =Ventes!D$1 -> 1 | J8: =Ventes!D$2 -> 501 | K8: =Ventes!C$10 -> 207 | M8: 300 | N8: =Ventes!G10 -> 0 | O8: m3 p
A9: {=ROW(Ventes!11:11)} -> 11 | B9: 45291 | D9: =Ventes!B$11 -> 0 | F9: =Ventes!A$11 -> Bois d'énergie résineux pour déchiquetage | G9: =Ventes!D11 -> 30000 | H9: =Ventes!D$1 -> 1 | J9: =Ventes!D$2 -> 501 | K9: =Ventes!C$11 -> 203 | M9: 300 | N9: =Ventes!G11 -> 12000 | O9: m3 p
A10: {=ROW(Ventes!12:12)} -> 12 | B10: 45291 | D10: =Ventes!B$12 -> 0 | F10: =Ventes!A$12 -> Bois d'énergie feuillu pour déchiquetage | G10: =Ventes!D12 -> 0 | H10: =Ventes!D$1 -> 1 | J10: =Ventes!D$2 -> 501 | K10: =Ventes!C$12 -> 208 | M10: 300 | N10: =Ventes!G12 -> 0 | O10: m3 p
A11: {=ROW(Ventes!13:13)} -> 13 | B11: 45291 | D11: =Ventes!B$13 -> 0 | F11: =Ventes!A$13 -> Autres assortiments de bois résineux | G11: =Ventes!D13 -> 0 | H11: =Ventes!D$1 -> 1 | J11: =Ventes!D$2 -> 501 | K11: =Ventes!C$13 -> 204 | M11: 300 | N11: =Ventes!G13 -> 0 | O11: m3 p
A12: {=ROW(Ventes!14:14)} -> 14 | B12: 45291 | D12: =Ventes!B$14 -> 0 | F12: =Ventes!A$14 -> Autres assortiments de bois feuillus | G12: =Ventes!D14 -> 0 | H12: =Ventes!D$1 -> 1 | J12: =Ventes!D$2 -> 501 | K12: =Ventes!C$14 -> 209 | M12: 300 | N12: =Ventes!G14 -> 0 | O12: m3 p
A13: {=ROW(Ventes!19:19)} -> 19 | B13: 45291 | D13: =Ventes!B$19 -> 0 | F13: =Ventes!A$19 -> Grumes résineuses | G13: =Ventes!D19 -> 0 | H13: =Ventes!D$1 -> 1 | J13: =Ventes!D$2 -> 501 | K13: =Ventes!C$19 -> 200 | M13: 320 | N13: =Ventes!G19 -> 0 | O13: m3 p
A14: {=ROW(Ventes!20:20)} -> 20 | B14: 45291 | D14: =Ventes!B$20 -> 0 | F14: =Ventes!A$20 -> Grumes feuillues | G14: =Ventes!D20 -> 0 | H14: =Ventes!D$1 -> 1 | J14: =Ventes!D$2 -> 501 | K14: =Ventes!C$20 -> 205 | M14: 320 | N14: =Ventes!G20 -> 0 | O14: m3 p
A15: {=ROW(Ventes!21:21)} -> 21 | B15: 45291 | D15: =Ventes!B$21 -> 0 | F15: =Ventes!A$21 -> Bois d'industrie résineux | G15: =Ventes!D21 -> 0 | H15: =Ventes!D$1 -> 1 | J15: =Ventes!D$2 -> 501 | K15: =Ventes!C$21 -> 201 | M15: 320 | N15: =Ventes!G21 -> 0 | O15: m3 p
A16: {=ROW(Ventes!22:22)} -> 22 | B16: 45291 | D16: =Ventes!B$22 -> 0 | F16: =Ventes!A$22 -> Bois d'industrie feuillus | G16: =Ventes!D22 -> 0 | H16: =Ventes!D$1 -> 1 | J16: =Ventes!D$2 -> 501 | K16: =Ventes!C$22 -> 206 | M16: 320 | N16: =Ventes!G22 -> 0 | O16: m3 p
A17: {=ROW(Ventes!23:23)} -> 23 | B17: 45291 | D17: =Ventes!B$23 -> 0 | F17: =Ventes!A$23 -> Bois d'énergie, résineux (bûches, incl. bois long) | G17: =Ventes!D23 -> 0 | H17: =Ventes!D$1 -> 1 | J17: =Ventes!D$2 -> 501 | K17: =Ventes!C$23 -> 202 | M17: 320 | N17: =Ventes!G23 -> 0 | O17: m3 p
A18: {=ROW(Ventes!24:24)} -> 24 | B18: 45291 | D18: =Ventes!B$24 -> 0 | F18: =Ventes!A$24 -> Bois d'énergie, feuillus (bûches, incl. bois long) | G18: =Ventes!D24 -> 0 | H18: =Ventes!D$1 -> 1 | J18: =Ventes!D$2 -> 501 | K18: =Ventes!C$24 -> 207 | M18: 320 | N18: =Ventes!G24 -> 0 | O18: m3 p
A19: {=ROW(Ventes!25:25)} -> 25 | B19: 45291 | D19: =Ventes!B$25 -> 0 | F19: =Ventes!A$25 -> Bois d'énergie résineux, déchiquetage | G19: =Ventes!D25 -> 0 | H19: =Ventes!D$1 -> 1 | J19: =Ventes!D$2 -> 501 | K19: =Ventes!C$25 -> 203 | M19: 320 | N19: =Ventes!G25 -> 0 | O19: m3 p
A20: {=ROW(Ventes!26:26)} -> 26 | B20: 45291 | D20: =Ventes!B$26 -> 0 | F20: =Ventes!A$26 -> Bois d'énergie feuillu, déchiquetage | G20: =Ventes!D26 -> 0 | H20: =Ventes!D$1 -> 1 | J20: =Ventes!D$2 -> 501 | K20: =Ventes!C$26 -> 208 | M20: 320 | N20: =Ventes!G26 -> 0 | O20: m3 p
A21: {=ROW(Ventes!27:27)} -> 27 | B21: 45291 | D21: =Ventes!B$27 -> 0 | F21: =Ventes!A$27 -> Autres assortiments de bois résineux | G21: =Ventes!D27 -> 0 | H21: =Ventes!D$1 -> 1 | J21: =Ventes!D$2 -> 501 | K21: =Ventes!C$27 -> 204 | M21: 320 | N21: =Ventes!G27 -> 0 | O21: m3 p
A22: {=ROW(Ventes!28:28)} -> 28 | B22: 45291 | D22: =Ventes!B$28 -> 0 | F22: =Ventes!A$28 -> Autres assortiments de bois feuillus | G22: =Ventes!D28 -> 0 | H22: =Ventes!D$1 -> 1 | J22: =Ventes!D$2 -> 501 | K22: =Ventes!C$28 -> 209 | M22: 320 | N22: =Ventes!G28 -> 0 | O22: m3 p
A23: {=ROW(Ventes!33:33)} -> 33 | B23: 45291 | D23: =Ventes!B$33 -> 0 | F23: =Ventes!A$33 -> Grumes résineuses | G23: =Ventes!D33 -> 0 | H23: =Ventes!D$1 -> 1 | J23: =Ventes!D$2 -> 501 | K23: =Ventes!C$33 -> 200 | N23: =Ventes!G33 -> 0 | O23: m3 p
A24: {=ROW(Ventes!34:34)} -> 34 | B24: 45291 | D24: =Ventes!B$34 -> 0 | F24: =Ventes!A$34 -> Grumes feuillues | G24: =Ventes!D34 -> 0 | H24: =Ventes!D$1 -> 1 | J24: =Ventes!D$2 -> 501 | K24: =Ventes!C$34 -> 205 | N24: =Ventes!G34 -> 0 | O24: m3 p
A25: {=ROW(Ventes!35:35)} -> 35 | B25: 45291 | D25: =Ventes!B$35 -> 0 | F25: =Ventes!A$35 -> Bois d'industrie résineux | G25: =Ventes!D35 -> 0 | H25: =Ventes!D$1 -> 1 | J25: =Ventes!D$2 -> 501 | K25: =Ventes!C$35 -> 201 | N25: =Ventes!G35 -> 0 | O25: m3 p
A26: {=ROW(Ventes!36:36)} -> 36 | B26: 45291 | D26: =Ventes!B$36 -> 0 | F26: =Ventes!A$36 -> Bois d'industrie feuillus | G26: =Ventes!D36 -> 0 | H26: =Ventes!D$1 -> 1 | J26: =Ventes!D$2 -> 501 | K26: =Ventes!C$36 -> 206 | N26: =Ventes!G36 -> 0 | O26: m3 p
A27: {=ROW(Ventes!37:37)} -> 37 | B27: 45291 | D27: =Ventes!B$37 -> 0 | F27: =Ventes!A$37 -> Bois d'énergie, résineux (bûches, incl. bois long) | G27: =Ventes!D37 -> 0 | H27: =Ventes!D$1 -> 1 | J27: =Ventes!D$2 -> 501 | K27: =Ventes!C$37 -> 202 | N27: =Ventes!G37 -> 0 | O27: m3 p
A28: {=ROW(Ventes!38:38)} -> 38 | B28: 45291 | D28: =Ventes!B$38 -> 0 | F28: =Ventes!A$38 -> Bois d'énergie, feuillus (bûches, incl. bois long) | G28: =Ventes!D38 -> 0 | H28: =Ventes!D$1 -> 1 | J28: =Ventes!D$2 -> 501 | K28: =Ventes!C$38 -> 207 | N28: =Ventes!G38 -> 0 | O28: m3 p
A29: {=ROW(Ventes!39:39)} -> 39 | B29: 45291 | D29: =Ventes!B$39 -> 0 | F29: =Ventes!A$39 -> Bois d'énergie résineux, déchiquetage | G29: =Ventes!D39 -> 0 | H29: =Ventes!D$1 -> 1 | J29: =Ventes!D$2 -> 501 | K29: =Ventes!C$39 -> 203 | N29: =Ventes!G39 -> 0 | O29: m3 p
A30: {=ROW(Ventes!40:40)} -> 40 | B30: 45291 | D30: =Ventes!B$40 -> 0 | F30: =Ventes!A$40 -> Bois d'énergie feuillu, déchiquetage | G30: =Ventes!D40 -> 0 | H30: =Ventes!D$1 -> 1 | J30: =Ventes!D$2 -> 501 | K30: =Ventes!C$40 -> 208 | N30: =Ventes!G40 -> 0 | O30: m3 p
A31: {=ROW(Ventes!41:41)} -> 41 | B31: 45291 | D31: =Ventes!B$41 -> 0 | F31: =Ventes!A$41 -> Autres assortiments de bois résineux | G31: =Ventes!D41 -> 0 | H31: =Ventes!D$1 -> 1 | J31: =Ventes!D$2 -> 501 | K31: =Ventes!C$41 -> 204 | N31: =Ventes!G41 -> 0 | O31: m3 p
A32: {=ROW(Ventes!42:42)} -> 42 | B32: 45291 | D32: =Ventes!B$42 -> 0 | F32: =Ventes!A$42 -> Autres assortiments de bois feuillus | G32: =Ventes!D42 -> 0 | H32: =Ventes!D$1 -> 1 | J32: =Ventes!D$2 -> 501 | K32: =Ventes!C$42 -> 209 | N32: =Ventes!G42 -> 0 | O32: m3 p
A33: {=ROW(Ventes!47:47)} -> 47 | B33: 45291 | D33: =Ventes!B$47 -> 0 | F33: =Ventes!A$47 -> Grumes résineuses | G33: =Ventes!D47 -> 0 | H33: =Ventes!D$1 -> 1 | J33: =Ventes!D$2 -> 501 | K33: =Ventes!C$47 -> 200 | M33: 330 | N33: =Ventes!G47 -> 0 | O33: m3 p
A34: {=ROW(Ventes!48:48)} -> 48 | B34: 45291 | D34: =Ventes!B$48 -> 0 | F34: =Ventes!A$48 -> Grumes feuillues | G34: =Ventes!D48 -> 0 | H34: =Ventes!D$1 -> 1 | J34: =Ventes!D$2 -> 501 | K34: =Ventes!C$48 -> 205 | M34: 330 | N34: =Ventes!G48 -> 0 | O34: m3 p
A35: {=ROW(Ventes!49:49)} -> 49 | B35: 45291 | D35: =Ventes!B$49 -> 0 | F35: =Ventes!A$49 -> Bois d'industrie résineux | G35: =Ventes!D49 -> 0 | H35: =Ventes!D$1 -> 1 | J35: =Ventes!D$2 -> 501 | K35: =Ventes!C$49 -> 201 | M35: 330 | N35: =Ventes!G49 -> 0 | O35: m3 p
A36: {=ROW(Ventes!50:50)} -> 50 | B36: 45291 | D36: =Ventes!B$50 -> 0 | F36: =Ventes!A$50 -> Bois d'industrie feuillus | G36: =Ventes!D50 -> 0 | H36: =Ventes!D$1 -> 1 | J36: =Ventes!D$2 -> 501 | K36: =Ventes!C$50 -> 206 | M36: 330 | N36: =Ventes!G50 -> 0 | O36: m3 p
A37: {=ROW(Ventes!51:51)} -> 51 | B37: 45291 | D37: =Ventes!B$51 -> 0 | F37: =Ventes!A$51 -> Bois d'énergie, résineux (bûches, incl. bois long) | G37: =Ventes!D51 -> 0 | H37: =Ventes!D$1 -> 1 | J37: =Ventes!D$2 -> 501 | K37: =Ventes!C$51 -> 202 | M37: 330 | N37: =Ventes!G51 -> 0 | O37: m3 p
A38: {=ROW(Ventes!52:52)} -> 52 | B38: 45291 | D38: =Ventes!B$52 -> 0 | F38: =Ventes!A$52 -> Bois d'énergie, feuillus (bûches, incl. bois long) | G38: =Ventes!D52 -> 0 | H38: =Ventes!D$1 -> 1 | J38: =Ventes!D$2 -> 501 | K38: =Ventes!C$52 -> 207 | M38: 330 | N38: =Ventes!G52 -> 0 | O38: m3 p
A39: {=ROW(Ventes!53:53)} -> 53 | B39: 45291 | D39: =Ventes!B$53 -> 0 | F39: =Ventes!A$53 -> Bois d'énergie résineux, déchiquetage | G39: =Ventes!D53 -> 0 | H39: =Ventes!D$1 -> 1 | J39: =Ventes!D$2 -> 501 | K39: =Ventes!C$53 -> 203 | M39: 330 | N39: =Ventes!G53 -> 0 | O39: m3 p
A40: {=ROW(Ventes!54:54)} -> 54 | B40: 45291 | D40: =Ventes!B$54 -> 0 | F40: =Ventes!A$54 -> Bois d'énergie feuillu, déchiquetage | G40: =Ventes!D54 -> 0 | H40: =Ventes!D$1 -> 1 | J40: =Ventes!D$2 -> 501 | K40: =Ventes!C$54 -> 208 | M40: 330 | N40: =Ventes!G54 -> 0 | O40: m3 p
A41: {=ROW(Ventes!55:55)} -> 55 | B41: 45291 | D41: =Ventes!B$55 -> 0 | F41: =Ventes!A$55 -> Autres assortiments de bois résineux | G41: =Ventes!D55 -> 0 | H41: =Ventes!D$1 -> 1 | J41: =Ventes!D$2 -> 501 | K41: =Ventes!C$55 -> 204 | M41: 330 | N41: =Ventes!G55 -> 0 | O41: m3 p
A42: {=ROW(Ventes!56:56)} -> 56 | B42: 45291 | D42: =Ventes!B$56 -> 0 | F42: =Ventes!A$56 -> Autres assortiments de bois feuillus | G42: =Ventes!D56 -> 0 | H42: =Ventes!D$1 -> 1 | J42: =Ventes!D$2 -> 501 | K42: =Ventes!C$56 -> 209 | M42: 330 | N42: =Ventes!G56 -> 0 | O42: m3 p
A43: {=ROW(Ventes!57:57)} -> 57 | B43: 45291 | D43: =Ventes!B$57 -> 0 | F43: =Ventes!A57 -> Bois d’énergie court résineux | G43: =Ventes!D57 -> 0 | H43: =Ventes!D$1 -> 1 | J43: =Ventes!D$2 -> 501 | K43: =Ventes!C$58 -> 210 | M43: 330 | N43: =Ventes!G57 -> 0.67 | O43: m3 p
A44: {=ROW(Ventes!58:58)} -> 58 | B44: 45291 | D44: =Ventes!B$58 -> 0 | F44: =Ventes!A58 -> Bois d’énergie court feuillus | G44: =Ventes!D58 -> 0 | H44: =Ventes!D$1 -> 1 | J44: =Ventes!D$2 -> 501 | K44: =Ventes!C$58 -> 210 | M44: 330 | N44: =Ventes!G58 -> 100.5 | O44: m3 p
A45: {=ROW(Ventes!59:59)} -> 59 | B45: 45291 | D45: =Ventes!B$59 -> 0 | F45: =Ventes!A59 -> Bois d’énergie en copeaux résineux | G45: =Ventes!D59 -> 0 | H45: =Ventes!D$1 -> 1 | J45: =Ventes!D$2 -> 501 | K45: =Ventes!C$60 -> 211 | M45: 330 | N45: =Ventes!G59 -> 0.357 | O45: m3 p
A46: {=ROW(Ventes!60:60)} -> 60 | B46: 45291 | D46: =Ventes!B$60 -> 0 | F46: =Ventes!A60 -> Bois d’énergie en copeaux feuillus | G46: =Ventes!D60 -> 0 | H46: =Ventes!D$1 -> 1 | J46: =Ventes!D$2 -> 501 | K46: =Ventes!C$60 -> 211 | M46: 330 | N46: =Ventes!G60 -> 0.357 | O46: m3 p
A47: {=ROW(Ventes!61:61)} -> 61 | B47: 45291 | D47: =Ventes!B$61 -> 0 | F47: =Ventes!A$61 -> Bois scié et autres produits en bois | G47: =Ventes!D61 -> 0 | H47: =Ventes!D$1 -> 1 | J47: =Ventes!D$2 -> 501 | K47: =Ventes!C$61 -> 212 | M47: 330 | N47: =Ventes!G61 -> 0 | O47: m3 p
A48: {=ROW(Ventes!62:62)} -> 62 | B48: 45291 | D48: =Ventes!B$62 -> 0 | F48: =Ventes!A$62 -> Revente de produits du commerce | G48: =Ventes!D62 -> 0 | H48: =Ventes!D$1 -> 1 | J48: =Ventes!D$2 -> 501 | K48: =Ventes!C$62 -> 214 | M48: 330 | N48: =Ventes!G62 -> 0 | O48: m3 p
A49: {=ROW(Ventes!63:63)} -> 63 | B49: 45291 | D49: =Ventes!B$63 -> 0 | F49: =Ventes!A$63 -> Autres produits | G49: =Ventes!D63 -> 0 | H49: =Ventes!D$1 -> 1 | J49: =Ventes!D$2 -> 501 | K49: =Ventes!C$63 -> 219 | M49: 330 | N49: =Ventes!G63 -> 0 | O49: m3 p
A50: {=ROW(Ventes!50:50)} -> 50 | B50: 45291 | D50: =Ventes!B$5 -> 0 | F50: =Ventes!A$5 -> Grumes résineuses | G50: =Ventes!I5 -> 0 | H50: =Ventes!D$1 -> 1 | I50: - | J50: =Ventes!I$2 -> 503 | K50: =Ventes!C$5 -> 200 | M50: 300 | N50: =Ventes!L5 -> 0 | O50: m3 p
A51: {=ROW(Ventes!51:51)} -> 51 | B51: 45291 | D51: =Ventes!B$6 -> 0 | F51: =Ventes!A$6 -> Grumes feuillues | G51: =Ventes!I6 -> 0 | H51: =Ventes!D$1 -> 1 | J51: =Ventes!I$2 -> 503 | K51: =Ventes!C$6 -> 205 | M51: 300 | N51: =Ventes!L6 -> 0 | O51: m3 p
A52: {=ROW(Ventes!52:52)} -> 52 | B52: 45291 | D52: =Ventes!B$7 -> 0 | F52: =Ventes!A$7 -> Bois d'industrie résineux | G52: =Ventes!I7 -> 0 | H52: =Ventes!D$1 -> 1 | J52: =Ventes!I$2 -> 503 | K52: =Ventes!C$7 -> 201 | M52: 300 | N52: =Ventes!L7 -> 0 | O52: m3 p
A53: {=ROW(Ventes!53:53)} -> 53 | B53: 45291 | D53: =Ventes!B$8 -> 0 | F53: =Ventes!A$8 -> Bois d'industrie feuillus | G53: =Ventes!I8 -> 0 | H53: =Ventes!D$1 -> 1 | J53: =Ventes!I$2 -> 503 | K53: =Ventes!C$8 -> 206 | M53: 300 | N53: =Ventes!L8 -> 0 | O53: m3 p
A54: {=ROW(Ventes!54:54)} -> 54 | B54: 45291 | D54: =Ventes!B$9 -> 0 | F54: =Ventes!A$9 -> Bois d'énergie résineux pour bois de feu | G54: =Ventes!I9 -> 0 | H54: =Ventes!D$1 -> 1 | J54: =Ventes!I$2 -> 503 | K54: =Ventes!C$9 -> 202 | M54: 300 | N54: =Ventes!L9 -> 0 | O54: m3 p
A55: {=ROW(Ventes!55:55)} -> 55 | B55: 45291 | D55: =Ventes!B$10 -> 0 | F55: =Ventes!A$10 -> Bois d'énergie feuillus pour bois de feu | G55: =Ventes!I10 -> 0 | H55: =Ventes!D$1 -> 1 | J55: =Ventes!I$2 -> 503 | K55: =Ventes!C$10 -> 207 | M55: 300 | N55: =Ventes!L10 -> 0 | O55: m3 p
A56: {=ROW(Ventes!56:56)} -> 56 | B56: 45291 | D56: =Ventes!B$11 -> 0 | F56: =Ventes!A$11 -> Bois d'énergie résineux pour déchiquetage | G56: =Ventes!I11 -> 0 | H56: =Ventes!D$1 -> 1 | J56: =Ventes!I$2 -> 503 | K56: =Ventes!C$11 -> 203 | M56: 300 | N56: =Ventes!L11 -> 0 | O56: m3 p
A57: {=ROW(Ventes!58:58)} -> 58 | B57: 45291 | D57: =Ventes!B$12 -> 0 | F57: =Ventes!A$12 -> Bois d'énergie feuillu pour déchiquetage | G57: =Ventes!I12 -> 0 | H57: =Ventes!D$1 -> 1 | J57: =Ventes!I$2 -> 503 | K57: =Ventes!C$12 -> 208 | M57: 300 | N57: =Ventes!L12 -> 0 | O57: m3 p
A58: {=ROW(Ventes!60:60)} -> 60 | B58: 45291 | D58: =Ventes!B$13 -> 0 | F58: =Ventes!A$13 -> Autres assortiments de bois résineux | G58: =Ventes!I13 -> 0 | H58: =Ventes!D$1 -> 1 | J58: =Ventes!I$2 -> 503 | K58: =Ventes!C$13 -> 204 | M58: 300 | N58: =Ventes!L13 -> 0 | O58: m3 p
A59: {=ROW(Ventes!61:61)} -> 61 | B59: 45291 | D59: =Ventes!B$14 -> 0 | F59: =Ventes!A$14 -> Autres assortiments de bois feuillus | G59: =Ventes!I14 -> 0 | H59: =Ventes!D$1 -> 1 | J59: =Ventes!I$2 -> 503 | K59: =Ventes!C$14 -> 209 | M59: 300 | N59: =Ventes!L14 -> 0 | O59: m3 p
A60: {=ROW(Ventes!66:66)} -> 66 | B60: 45291 | D60: =Ventes!B$19 -> 0 | F60: =Ventes!A$19 -> Grumes résineuses | G60: =Ventes!I19 -> 0 | H60: =Ventes!D$1 -> 1 | J60: =Ventes!I$2 -> 503 | K60: =Ventes!C$19 -> 200 | M60: 320 | N60: =Ventes!L19 -> 0 | O60: m3 p
A61: {=ROW(Ventes!67:67)} -> 67 | B61: 45291 | D61: =Ventes!B$20 -> 0 | F61: =Ventes!A$20 -> Grumes feuillues | G61: =Ventes!I20 -> 0 | H61: =Ventes!D$1 -> 1 | J61: =Ventes!I$2 -> 503 | K61: =Ventes!C$20 -> 205 | M61: 320 | N61: =Ventes!L20 -> 0 | O61: m3 p
A62: {=ROW(Ventes!68:68)} -> 68 | B62: 45291 | D62: =Ventes!B$21 -> 0 | F62: =Ventes!A$21 -> Bois d'industrie résineux | G62: =Ventes!I21 -> 0 | H62: =Ventes!D$1 -> 1 | J62: =Ventes!I$2 -> 503 | K62: =Ventes!C$21 -> 201 | M62: 320 | N62: =Ventes!L21 -> 0 | O62: m3 p
A63: {=ROW(Ventes!69:69)} -> 69 | B63: 45291 | D63: =Ventes!B$22 -> 0 | F63: =Ventes!A$22 -> Bois d'industrie feuillus | G63: =Ventes!I22 -> 0 | H63: =Ventes!D$1 -> 1 | J63: =Ventes!I$2 -> 503 | K63: =Ventes!C$22 -> 206 | M63: 320 | N63: =Ventes!L22 -> 0 | O63: m3 p
A64: {=ROW(Ventes!70:70)} -> 70 | B64: 45291 | D64: =Ventes!B$23 -> 0 | F64: =Ventes!A$23 -> Bois d'énergie, résineux (bûches, incl. bois long) | G64: =Ventes!I23 -> 0 | H64: =Ventes!D$1 -> 1 | J64: =Ventes!I$2 -> 503 | K64: =Ventes!C$23 -> 202 | M64: 320 | N64: =Ventes!L23 -> 0 | O64: m3 p
A65: {=ROW(Ventes!71:71)} -> 71 | B65: 45291 | D65: =Ventes!B$24 -> 0 | F65: =Ventes!A$24 -> Bois d'énergie, feuillus (bûches, incl. bois long) | G65: =Ventes!I24 -> 0 | H65: =Ventes!D$1 -> 1 | J65: =Ventes!I$2 -> 503 | K65: =Ventes!C$24 -> 207 | M65: 320 | N65: =Ventes!L24 -> 0 | O65: m3 p
A66: {=ROW(Ventes!72:72)} -> 72 | B66: 45291 | D66: =Ventes!B$25 -> 0 | F66: =Ventes!A$25 -> Bois d'énergie résineux, déchiquetage | G66: =Ventes!I25 -> 0 | H66: =Ventes!D$1 -> 1 | J66: =Ventes!I$2 -> 503 | K66: =Ventes!C$25 -> 203 | M66: 320 | N66: =Ventes!L25 -> 0 | O66: m3 p
A67: {=ROW(Ventes!73:73)} -> 73 | B67: 45291 | D67: =Ventes!B$26 -> 0 | F67: =Ventes!A$26 -> Bois d'énergie feuillu, déchiquetage | G67: =Ventes!I26 -> 0 | H67: =Ventes!D$1 -> 1 | J67: =Ventes!I$2 -> 503 | K67: =Ventes!C$26 -> 208 | M67: 320 | N67: =Ventes!L26 -> 0 | O67: m3 p
A68: {=ROW(Ventes!74:74)} -> 74 | B68: 45291 | D68: =Ventes!B$27 -> 0 | F68: =Ventes!A$27 -> Autres assortiments de bois résineux | G68: =Ventes!I27 -> 0 | H68: =Ventes!D$1 -> 1 | J68: =Ventes!I$2 -> 503 | K68: =Ventes!C$27 -> 204 | M68: 320 | N68: =Ventes!L27 -> 0 | O68: m3 p
A69: {=ROW(Ventes!75:75)} -> 75 | B69: 45291 | D69: =Ventes!B$28 -> 0 | F69: =Ventes!A$28 -> Autres assortiments de bois feuillus | G69: =Ventes!I28 -> 0 | H69: =Ventes!D$1 -> 1 | J69: =Ventes!I$2 -> 503 | K69: =Ventes!C$28 -> 209 | M69: 320 | N69: =Ventes!L28 -> 0 | O69: m3 p
A70: {=ROW(Ventes!80:80)} -> 80 | B70: 45291 | D70: =Ventes!B$33 -> 0 | F70: =Ventes!A$33 -> Grumes résineuses | G70: =Ventes!I33 -> 0 | H70: =Ventes!D$1 -> 1 | J70: =Ventes!I$2 -> 503 | K70: =Ventes!C$33 -> 200 | N70: =Ventes!L33 -> 0 | O70: m3 p
A71: {=ROW(Ventes!81:81)} -> 81 | B71: 45291 | D71: =Ventes!B$34 -> 0 | F71: =Ventes!A$34 -> Grumes feuillues | G71: =Ventes!I34 -> 0 | H71: =Ventes!D$1 -> 1 | J71: =Ventes!I$2 -> 503 | K71: =Ventes!C$34 -> 205 | N71: =Ventes!L34 -> 0 | O71: m3 p
A72: {=ROW(Ventes!82:82)} -> 82 | B72: 45291 | D72: =Ventes!B$35 -> 0 | F72: =Ventes!A$35 -> Bois d'industrie résineux | G72: =Ventes!I35 -> 0 | H72: =Ventes!D$1 -> 1 | J72: =Ventes!I$2 -> 503 | K72: =Ventes!C$35 -> 201 | N72: =Ventes!L35 -> 0 | O72: m3 p
A73: {=ROW(Ventes!83:83)} -> 83 | B73: 45291 | D73: =Ventes!B$36 -> 0 | F73: =Ventes!A$36 -> Bois d'industrie feuillus | G73: =Ventes!I36 -> 0 | H73: =Ventes!D$1 -> 1 | J73: =Ventes!I$2 -> 503 | K73: =Ventes!C$36 -> 206 | N73: =Ventes!L36 -> 0 | O73: m3 p
A74: {=ROW(Ventes!84:84)} -> 84 | B74: 45291 | D74: =Ventes!B$37 -> 0 | F74: =Ventes!A$37 -> Bois d'énergie, résineux (bûches, incl. bois long) | G74: =Ventes!I37 -> 0 | H74: =Ventes!D$1 -> 1 | J74: =Ventes!I$2 -> 503 | K74: =Ventes!C$37 -> 202 | N74: =Ventes!L37 -> 0 | O74: m3 p
A75: {=ROW(Ventes!85:85)} -> 85 | B75: 45291 | D75: =Ventes!B$38 -> 0 | F75: =Ventes!A$38 -> Bois d'énergie, feuillus (bûches, incl. bois long) | G75: =Ventes!I38 -> 0 | H75: =Ventes!D$1 -> 1 | J75: =Ventes!I$2 -> 503 | K75: =Ventes!C$38 -> 207 | N75: =Ventes!L38 -> 0 | O75: m3 p
A76: {=ROW(Ventes!86:86)} -> 86 | B76: 45291 | D76: =Ventes!B$39 -> 0 | F76: =Ventes!A$39 -> Bois d'énergie résineux, déchiquetage | G76: =Ventes!I39 -> 0 | H76: =Ventes!D$1 -> 1 | J76: =Ventes!I$2 -> 503 | K76: =Ventes!C$39 -> 203 | N76: =Ventes!L39 -> 0 | O76: m3 p
A77: {=ROW(Ventes!87:87)} -> 87 | B77: 45291 | D77: =Ventes!B$40 -> 0 | F77: =Ventes!A$40 -> Bois d'énergie feuillu, déchiquetage | G77: =Ventes!I40 -> 0 | H77: =Ventes!D$1 -> 1 | J77: =Ventes!I$2 -> 503 | K77: =Ventes!C$40 -> 208 | N77: =Ventes!L40 -> 0 | O77: m3 p
A78: {=ROW(Ventes!88:88)} -> 88 | B78: 45291 | D78: =Ventes!B$41 -> 0 | F78: =Ventes!A$41 -> Autres assortiments de bois résineux | G78: =Ventes!I41 -> 0 | H78: =Ventes!D$1 -> 1 | J78: =Ventes!I$2 -> 503 | K78: =Ventes!C$41 -> 204 | N78: =Ventes!L41 -> 0 | O78: m3 p
A79: {=ROW(Ventes!89:89)} -> 89 | B79: 45291 | D79: =Ventes!B$42 -> 0 | F79: =Ventes!A$42 -> Autres assortiments de bois feuillus | G79: =Ventes!I42 -> 0 | H79: =Ventes!D$1 -> 1 | J79: =Ventes!I$2 -> 503 | K79: =Ventes!C$42 -> 209 | N79: =Ventes!L42 -> 0 | O79: m3 p
A80: {=ROW(Ventes!94:94)} -> 94 | B80: 45291 | D80: =Ventes!B$47 -> 0 | F80: =Ventes!A$47 -> Grumes résineuses | G80: =Ventes!I47 -> 0 | H80: =Ventes!D$1 -> 1 | J80: =Ventes!I$2 -> 503 | K80: =Ventes!C$47 -> 200 | M80: 330 | N80: =Ventes!L47 -> 0 | O80: m3 p
A81: {=ROW(Ventes!95:95)} -> 95 | B81: 45291 | D81: =Ventes!B$48 -> 0 | F81: =Ventes!A$48 -> Grumes feuillues | G81: =Ventes!I48 -> 0 | H81: =Ventes!D$1 -> 1 | J81: =Ventes!I$2 -> 503 | K81: =Ventes!C$48 -> 205 | M81: 330 | N81: =Ventes!L48 -> 0 | O81: m3 p
A82: {=ROW(Ventes!96:96)} -> 96 | B82: 45291 | D82: =Ventes!B$49 -> 0 | F82: =Ventes!A$49 -> Bois d'industrie résineux | G82: =Ventes!I49 -> 0 | H82: =Ventes!D$1 -> 1 | J82: =Ventes!I$2 -> 503 | K82: =Ventes!C$49 -> 201 | M82: 330 | N82: =Ventes!L49 -> 0 | O82: m3 p
A83: {=ROW(Ventes!97:97)} -> 97 | B83: 45291 | D83: =Ventes!B$50 -> 0 | F83: =Ventes!A$50 -> Bois d'industrie feuillus | G83: =Ventes!I50 -> 0 | H83: =Ventes!D$1 -> 1 | J83: =Ventes!I$2 -> 503 | K83: =Ventes!C$50 -> 206 | M83: 330 | N83: =Ventes!L50 -> 0 | O83: m3 p
A84: {=ROW(Ventes!98:98)} -> 98 | B84: 45291 | D84: =Ventes!B$51 -> 0 | F84: =Ventes!A$51 -> Bois d'énergie, résineux (bûches, incl. bois long) | G84: =Ventes!I51 -> 0 | H84: =Ventes!D$1 -> 1 | J84: =Ventes!I$2 -> 503 | K84: =Ventes!C$51 -> 202 | M84: 330 | N84: =Ventes!L51 -> 0 | O84: m3 p
A85: {=ROW(Ventes!99:99)} -> 99 | B85: 45291 | D85: =Ventes!B$52 -> 0 | F85: =Ventes!A$52 -> Bois d'énergie, feuillus (bûches, incl. bois long) | G85: =Ventes!I52 -> 0 | H85: =Ventes!D$1 -> 1 | J85: =Ventes!I$2 -> 503 | K85: =Ventes!C$52 -> 207 | M85: 330 | N85: =Ventes!L52 -> 0 | O85: m3 p
A86: {=ROW(Ventes!100:100)} -> 100 | B86: 45291 | D86: =Ventes!B$53 -> 0 | F86: =Ventes!A$53 -> Bois d'énergie résineux, déchiquetage | G86: =Ventes!I53 -> 0 | H86: =Ventes!D$1 -> 1 | J86: =Ventes!I$2 -> 503 | K86: =Ventes!C$53 -> 203 | M86: 330 | N86: =Ventes!L53 -> 0 | O86: m3 p
A87: {=ROW(Ventes!101:101)} -> 101 | B87: 45291 | D87: =Ventes!B$54 -> 0 | F87: =Ventes!A$54 -> Bois d'énergie feuillu, déchiquetage | G87: =Ventes!I54 -> 0 | H87: =Ventes!D$1 -> 1 | J87: =Ventes!I$2 -> 503 | K87: =Ventes!C$54 -> 208 | M87: 330 | N87: =Ventes!L54 -> 0 | O87: m3 p
A88: {=ROW(Ventes!102:102)} -> 102 | B88: 45291 | D88: =Ventes!B$55 -> 0 | F88: =Ventes!A$55 -> Autres assortiments de bois résineux | G88: =Ventes!I55 -> 0 | H88: =Ventes!D$1 -> 1 | J88: =Ventes!I$2 -> 503 | K88: =Ventes!C$55 -> 204 | M88: 330 | N88: =Ventes!L55 -> 0 | O88: m3 p
A89: {=ROW(Ventes!103:103)} -> 103 | B89: 45291 | D89: =Ventes!B$56 -> 0 | F89: =Ventes!A$56 -> Autres assortiments de bois feuillus | G89: =Ventes!I56 -> 0 | H89: =Ventes!D$1 -> 1 | J89: =Ventes!I$2 -> 503 | K89: =Ventes!C$56 -> 209 | M89: 330 | N89: =Ventes!L56 -> 0 | O89: m3 p
A90: {=ROW(Ventes!104:104)} -> 104 | B90: 45291 | D90: =Ventes!B$57 -> 0 | F90: =Ventes!A$57 -> Bois d’énergie court résineux | G90: =Ventes!I57 -> 0 | H90: =Ventes!D$1 -> 1 | J90: =Ventes!I$2 -> 503 | K90: =Ventes!C$58 -> 210 | M90: 330 | N90: =Ventes!L57 -> 0.67 | O90: m3 p
A91: {=ROW(Ventes!105:105)} -> 105 | B91: 45291 | D91: =Ventes!B$58 -> 0 | F91: =Ventes!A$58 -> Bois d’énergie court feuillus | G91: =Ventes!I58 -> 0 | H91: =Ventes!D$1 -> 1 | J91: =Ventes!I$2 -> 503 | K91: =Ventes!C$58 -> 210 | M91: 330 | N91: =Ventes!L58 -> 0.67 | O91: m3 p
A92: {=ROW(Ventes!106:106)} -> 106 | B92: 45291 | D92: =Ventes!B59 -> 0 | F92: =Ventes!A$59 -> Bois d’énergie en copeaux résineux | G92: =Ventes!I59 -> 0 | H92: =Ventes!D$1 -> 1 | J92: =Ventes!I$2 -> 503 | K92: =Ventes!C$60 -> 211 | M92: 330 | N92: =Ventes!L59 -> 0.357 | O92: m3 p
A93: {=ROW(Ventes!107:107)} -> 107 | B93: 45291 | D93: =Ventes!B60 -> 0 | F93: =Ventes!A$60 -> Bois d’énergie en copeaux feuillus | G93: =Ventes!I60 -> 0 | H93: =Ventes!D$1 -> 1 | J93: =Ventes!I$2 -> 503 | K93: =Ventes!C$60 -> 211 | M93: 330 | N93: =Ventes!L60 -> 0.357 | O93: m3 p
A94: {=ROW(Ventes!108:108)} -> 108 | B94: 45291 | D94: =Ventes!B$61 -> 0 | F94: =Ventes!A$61 -> Bois scié et autres produits en bois | G94: =Ventes!I61 -> 0 | H94: =Ventes!D$1 -> 1 | J94: =Ventes!I$2 -> 503 | K94: =Ventes!C$61 -> 212 | M94: 330 | N94: =Ventes!L61 -> 0 | O94: m3 p
A95: {=ROW(Ventes!109:109)} -> 109 | B95: 45291 | D95: =Ventes!B$62 -> 0 | F95: =Ventes!A$62 -> Revente de produits du commerce | G95: =Ventes!I62 -> 0 | H95: =Ventes!D$1 -> 1 | J95: =Ventes!I$2 -> 503 | K95: =Ventes!C$62 -> 214 | M95: 330 | N95: =Ventes!L62 -> 0 | O95: m3 p
A96: {=ROW(Ventes!110:110)} -> 110 | B96: 45291 | D96: =Ventes!B$63 -> 0 | F96: =Ventes!A$63 -> Autres produits | G96: =Ventes!I63 -> 0 | H96: =Ventes!D$1 -> 1 | J96: =Ventes!I$2 -> 503 | K96: =Ventes!C$63 -> 219 | M96: 330 | N96: =Ventes!L63 -> 0 | O96: m3 p
A97: {=ROW(Ventes!111:111)} -> 111 | B97: 45291 | D97: =Ventes!B$5 -> 0 | F97: =Ventes!A$5 -> Grumes résineuses | G97: =Ventes!N5 -> 0 | H97: =Ventes!D$1 -> 1 | I97: - | J97: =Ventes!N$2 -> 502 | K97: =Ventes!C$5 -> 200 | M97: 300 | N97: =Ventes!Q5 -> 0 | O97: m3 p
A98: {=ROW(Ventes!112:112)} -> 112 | B98: 45291 | D98: =Ventes!B$6 -> 0 | F98: =Ventes!A$6 -> Grumes feuillues | G98: =Ventes!N6 -> 0 | H98: =Ventes!D$1 -> 1 | J98: =Ventes!N$2 -> 502 | K98: =Ventes!C$6 -> 205 | M98: 300 | N98: =Ventes!Q6 -> 0 | O98: m3 p
A99: {=ROW(Ventes!113:113)} -> 113 | B99: 45291 | D99: =Ventes!B$7 -> 0 | F99: =Ventes!A$7 -> Bois d'industrie résineux | G99: =Ventes!N7 -> 0 | H99: =Ventes!D$1 -> 1 | J99: =Ventes!N$2 -> 502 | K99: =Ventes!C$7 -> 201 | M99: 300 | N99: =Ventes!Q7 -> 0 | O99: m3 p
A100: {=ROW(Ventes!114:114)} -> 114 | B100: 45291 | D100: =Ventes!B$8 -> 0 | F100: =Ventes!A$8 -> Bois d'industrie feuillus | G100: =Ventes!N8 -> 0 | H100: =Ventes!D$1 -> 1 | J100: =Ventes!N$2 -> 502 | K100: =Ventes!C$8 -> 206 | M100: 300 | N100: =Ventes!Q8 -> 0 | O100: m3 p
...

Sheet kWh par m3v
A1: Exemples de conversion des prix de la chaleur en prix par m3 vrac de plaquettes départ forêt
A3: Valeurs de base
A4: Les calculs ci-après («Exemples») se basent sur les valeurs suivantes (paramètres):
A5: Chaque annonceur de prix peut remplacer ces valeurs par les siennes propres, à saisir dans les cellules affichées en vert.
B7: Facteur | C7: CHF | D7: % | E7: kWh pro m3 vrac
A8: 1 m3 plein = m3 vrac de plaquettes | B8: 2.8
A9: Prix de la chaleur par KWh | C9: 0.05
A10: Efficacité de la chaudière | D10: 85
A11: Valeur énergétique des feuillus | E11: 950
A12: Valeur énergétique des résineux | E12: 640
A13: Part des feuillus | D13: 70
A14: Part des résineux | D14: =100-D13 -> 30
A15: Valeur énergétique d’un assortiment mixte | E15: =E11*D13/100+E12*D14/100 -> 857
A16: Frais transport par m3 vrac (route forestière > destination) | C16: 6
A17: Frais de déchiquetage par m3 vrac | C17: 10
A18: Conversion des m3 pleins en tonnes lutro
A19: Pour épicéa/sapin (poids frais = 900 kg / m3 plein) | B19: 0.9
A20: Pour hêtre/chêne (poids frais = 1'100 kg / m3 plein) | B20: 1.1
A21: Assortiment mixte | B21: =B19*D14/100+B20*D13/100 -> 1.04
A23: Exemple 1
A24: ="Je vends mon bois sous forme longue au prix de la chaleur de "&C9&" / kWh." -> Je vends mon bois sous forme longue au prix de la chaleur de 0.05 / kWh.
A25: Quel prix cela représente-t-il par m3 de plaquettes en vrac départ forêt?
A27: Exemple de calcul pour un assortiment mixte | B27: CHF | C27: kWh | D27: % | E27: Calcul | F27: Prix/m3vrac
A28: Prix de la chaleur par kWh (sortie chaudière) | B28: =C9 -> 0.05
A29: Valeur énergétique par m3 vrac (feuillus) | C29: =E15 -> 857 | E29: ="("&B28&" x "&C29&")" -> (0.05 x 857) | F29: =ROUND(B28*C29,2) -> 42.85
A30: Efficacité chaudière (selon indications fabricant) | D30: =D10 -> 85 | E30: ="("&D30&"/100 x "&F29&")" -> (85/100 x 42.85) | F30: =ROUND(D30/100*F29,2) -> 36.42
A31: déduction des frais de transport, par m3 vrac | B31: =C16 -> 6 | E31: ="("&F30&" - "&B31&")" -> (36.42 - 6) | F31: =F30-B31 -> 30.42
A32: Prix par m3 vrac départ forêt, déchiqueté (= plaquettes) | F32: =F31 -> 30.42
A33: déduction des frais de déchiquetage par m3 vrac (prix non déchiqueté) | B33: =C17 -> 10 | E33: ="("&F32&" - "&B33&")" -> (30.42 - 10) | F33: =F31-B33 -> 20.42
A35: Prix par m3 plein départ forêt sous forme longue, non déchiqueté | E35: ="("&F33&" x "&B8&")" -> (20.42 x 2.8) | F35: =ROUND(F33*B8,2) -> 57.18 | G35: CHF/m3pl.
A36: Prix par tonne lutro (lufttrocken = séché à l’air), départ forêt | E36: ="("&F35&" / "&B21&")" -> (57.18 / 1.04) | F36: =ROUND(F35/B21,2) -> 54.98 | G36: CHF/t lutro
A38: Exemple 2
A39: Conversion inverse de l’exemple 1
A40: ="Je vends mon bois sous forme longue au prix départ forêt à CHF "&F35&" / Fm." -> Je vends mon bois sous forme longue au prix départ forêt à CHF 57.18 / Fm.
A41: Quel prix de la chaleur par kWh
A43: Exemple de calcul pour un assortiment mixte | B43: CHF | C43: kWh | D43: % | E43: Calcul | F43: Prix/m3vrac
A44: Prix du bois long départ forêt par m3 plein | B44: =F35 -> 57.18
A45: Prix du bois long départ forêt par m3 vrac | E45: ="("&B44&" / "&B8&")" -> (57.18 / 2.8) | F45: =ROUND(B44/B8,2) -> 20.42
A46: plus frais de déchiquetage par m3 vrac | B46: =C17 -> 10 | E46: ="("&F45&" + "&B46&")" -> (20.42 + 10) | F46: =F45+B46 -> 30.42
A47: plus frais de transport par m3 vrac (franco silo) | B47: =C16 -> 6 | E47: ="("&F46&" + "&B47&")" -> (30.42 + 6) | F47: =F46+B47 -> 36.42
A48: Efficacité de la chaudière | D48: =D10 -> 85 | E48: ="("&F47&" / "&D48&" x 100)" -> (36.42 / 85 x 100) | F48: =ROUND(F47/D48*100,2) -> 42.85
A50: Prix de la chaleur par kWh (sortie chaudière) | C50: =E15 -> 857 | E50: ="("&F48&" / "&C50&")" -> (42.85 / 857) | F50: =F48/C50 -> 0.05 | G50: CHF/kWh
A52: Exemple 3
A53: Je vends mon bois en m3 vrac de plaquettes départ dépôt (= franko Silo).
A54: Quel prix cela représente-t-il par m3 vrac de plaquettes départ forêt?
B56: CHF | C56: kWh | D56: % | E56: Calcul | F56: Prix/m3vrac
A57: Prix par m3 vrac départ dépôt | F57: =F47 -> 36.42
A58: déduction des frais de transport (forêt > dépôt), par m3 vrac | B58: =C16 -> 6 | E58: ="("&F57&" - "&B58&")" -> (36.42 - 6) | F58: =F57-B58 -> 30.42
A59: Prix par m3 vrac départ forêt, déchiqueté (plaquettes) | F59: =F58 -> 30.42
A61: 01.11.2017 / ForêtSuisse, agristat, Energie-bois Suisse
